BEGIN:VCALENDAR
VERSION:2.0
PRODID:-//MFC - ECPv6.15.13.1//NONSGML v1.0//EN
CALSCALE:GREGORIAN
METHOD:PUBLISH
X-WR-CALNAME:MFC
X-ORIGINAL-URL:https://midwestfamilyconnections.ca
X-WR-CALDESC:Events for MFC
REFRESH-INTERVAL;VALUE=DURATION:PT1H
X-Robots-Tag:noindex
X-PUBLISHED-TTL:PT1H
BEGIN:VTIMEZONE
TZID:America/Edmonton
BEGIN:DAYLIGHT
TZOFFSETFROM:-0700
TZOFFSETTO:-0600
TZNAME:MDT
DTSTART:20240310T090000
END:DAYLIGHT
BEGIN:STANDARD
TZOFFSETFROM:-0600
TZOFFSETTO:-0700
TZNAME:MST
DTSTART:20241103T080000
END:STANDARD
BEGIN:DAYLIGHT
TZOFFSETFROM:-0700
TZOFFSETTO:-0600
TZNAME:MDT
DTSTART:20250309T090000
END:DAYLIGHT
BEGIN:STANDARD
TZOFFSETFROM:-0600
TZOFFSETTO:-0700
TZNAME:MST
DTSTART:20251102T080000
END:STANDARD
BEGIN:DAYLIGHT
TZOFFSETFROM:-0700
TZOFFSETTO:-0600
TZNAME:MDT
DTSTART:20260308T090000
END:DAYLIGHT
BEGIN:STANDARD
TZOFFSETFROM:-0600
TZOFFSETTO:-0700
TZNAME:MST
DTSTART:20261101T080000
END:STANDARD
END:VTIMEZONE
BEGIN:VEVENT
DTSTART;TZID=America/Edmonton:20250924T100000
DTEND;TZID=America/Edmonton:20250924T113000
DTSTAMP:20260421T045625
CREATED:20250815T223015Z
LAST-MODIFIED:20250815T223015Z
UID:10004829-1758708000-1758713400@midwestfamilyconnections.ca
SUMMARY:Aurora Park Pop-In & Play
DESCRIPTION:You won’t want to miss this opportunity to connect with other families in your community and your kiddos! We bring along free play items\, bubbles\, infant toys\, parachute games\, sensory experiences and more.  \nPop in to check it out. Don’t be afraid to ask our staff any questions about the other services we offer for families! This program is for children 0-6 years old and their parents to attend together\, big siblings are welcome too! \nContact us if you require support with transportation at 306-825-5911!
URL:https://midwestfamilyconnections.ca/event/aurora-park-pop-in-play-3/2025-09-24/
LOCATION:Aurora Park\, 4114- 31 St\, Lloydminster\, Saskatchewan\, Canada
CATEGORIES:The First Five Years
ATTACH;FMTTYPE=image/png:https://midwestfamilyconnections.ca/wp-content/uploads/2025/08/Aurora-Park-September.png
END:VEVENT
BEGIN:VEVENT
DTSTART;TZID=America/Edmonton:20250911T100000
DTEND;TZID=America/Edmonton:20250911T113000
DTSTAMP:20260421T045625
CREATED:20250815T222525Z
LAST-MODIFIED:20250815T222525Z
UID:10004826-1757584800-1757590200@midwestfamilyconnections.ca
SUMMARY:Mothers First @ Aurora Park
DESCRIPTION:Join us for our weekly Mothers First group at Aurora Park this week! \nWe’ll be discussing wellness for moms and outdoor activities that you can enjoy with your infant! \nWe’ll have staff available to help engage your older children during the program too\, similar to Cuddle Crew.  \nPlease give us a call to register and let us know you’re coming along! 306-825-5911
URL:https://midwestfamilyconnections.ca/event/mothers-first-aurora-park/
LOCATION:Aurora Park\, 4114- 31 St\, Lloydminster\, Saskatchewan\, Canada
CATEGORIES:Infant (up to 12 months),Postnatal
ATTACH;FMTTYPE=image/png:https://midwestfamilyconnections.ca/wp-content/uploads/2025/08/Find-us-at-Aurora-Park-Sept-9-11.png
END:VEVENT
BEGIN:VEVENT
DTSTART;TZID=America/Edmonton:20250910T100000
DTEND;TZID=America/Edmonton:20250910T113000
DTSTAMP:20260421T045625
CREATED:20250815T223015Z
LAST-MODIFIED:20250815T223015Z
UID:10004828-1757498400-1757503800@midwestfamilyconnections.ca
SUMMARY:Aurora Park Pop-In & Play
DESCRIPTION:You won’t want to miss this opportunity to connect with other families in your community and your kiddos! We bring along free play items\, bubbles\, infant toys\, parachute games\, sensory experiences and more.  \nPop in to check it out. Don’t be afraid to ask our staff any questions about the other services we offer for families! This program is for children 0-6 years old and their parents to attend together\, big siblings are welcome too! \nContact us if you require support with transportation at 306-825-5911!
URL:https://midwestfamilyconnections.ca/event/aurora-park-pop-in-play-3/2025-09-10/
LOCATION:Aurora Park\, 4114- 31 St\, Lloydminster\, Saskatchewan\, Canada
CATEGORIES:The First Five Years
ATTACH;FMTTYPE=image/png:https://midwestfamilyconnections.ca/wp-content/uploads/2025/08/Aurora-Park-September.png
END:VEVENT
BEGIN:VEVENT
DTSTART;TZID=America/Edmonton:20250909T100000
DTEND;TZID=America/Edmonton:20250909T113000
DTSTAMP:20260421T045625
CREATED:20250815T223117Z
LAST-MODIFIED:20250815T223117Z
UID:10004830-1757412000-1757417400@midwestfamilyconnections.ca
SUMMARY:Aurora Park Pop-In & Play
DESCRIPTION:You won’t want to miss this opportunity to connect with other families in your community and your kiddos! We bring along free play items\, bubbles\, infant toys\, parachute games\, sensory experiences and more.  \nPop in to check it out. Don’t be afraid to ask our staff any questions about the other services we offer for families! This program is for children 0-6 years old and their parents to attend together\, big siblings are welcome too! \nContact us if you require support with transportation at 306-825-5911!
URL:https://midwestfamilyconnections.ca/event/aurora-park-pop-in-play-4/
LOCATION:Aurora Park\, 4114- 31 St\, Lloydminster\, Saskatchewan\, Canada
CATEGORIES:The First Five Years
ATTACH;FMTTYPE=image/png:https://midwestfamilyconnections.ca/wp-content/uploads/2025/08/Aurora-Park-September-1.png
END:VEVENT
BEGIN:VEVENT
DTSTART;TZID=America/Edmonton:20250903T100000
DTEND;TZID=America/Edmonton:20250903T113000
DTSTAMP:20260421T045625
CREATED:20250815T223015Z
LAST-MODIFIED:20250815T223015Z
UID:10004827-1756893600-1756899000@midwestfamilyconnections.ca
SUMMARY:Aurora Park Pop-In & Play
DESCRIPTION:You won’t want to miss this opportunity to connect with other families in your community and your kiddos! We bring along free play items\, bubbles\, infant toys\, parachute games\, sensory experiences and more.  \nPop in to check it out. Don’t be afraid to ask our staff any questions about the other services we offer for families! This program is for children 0-6 years old and their parents to attend together\, big siblings are welcome too! \nContact us if you require support with transportation at 306-825-5911!
URL:https://midwestfamilyconnections.ca/event/aurora-park-pop-in-play-3/2025-09-03/
LOCATION:Aurora Park\, 4114- 31 St\, Lloydminster\, Saskatchewan\, Canada
CATEGORIES:The First Five Years
ATTACH;FMTTYPE=image/png:https://midwestfamilyconnections.ca/wp-content/uploads/2025/08/Aurora-Park-September.png
END:VEVENT
BEGIN:VEVENT
DTSTART;TZID=America/Edmonton:20250828T100000
DTEND;TZID=America/Edmonton:20250828T113000
DTSTAMP:20260421T045625
CREATED:20250723T215840Z
LAST-MODIFIED:20250723T215840Z
UID:10004733-1756375200-1756380600@midwestfamilyconnections.ca
SUMMARY:Aurora Park Pop-In & Play
DESCRIPTION:You won’t want to miss this opportunity to connect with other families in your community and your kiddos! We bring along free play items\, bubbles\, infant toys\, parachute games\, sensory experiences and more.  \nPop in to check it out. Don’t be afraid to ask our staff any questions about the other services we offer for families! This program is for children 0-6 years old and their parents to attend together\, big siblings are welcome too! \nTransportation available for our Park Programs too! Call 306-825-5911 to arrange!
URL:https://midwestfamilyconnections.ca/event/aurora-park-pop-in-play-2/2025-08-28/
LOCATION:Aurora Park\, 4114- 31 St\, Lloydminster\, Saskatchewan\, Canada
CATEGORIES:The First Five Years
ATTACH;FMTTYPE=image/png:https://midwestfamilyconnections.ca/wp-content/uploads/2025/07/Aurora-Park-August-25.png
END:VEVENT
BEGIN:VEVENT
DTSTART;TZID=America/Edmonton:20250826T103000
DTEND;TZID=America/Edmonton:20250826T120000
DTSTAMP:20260421T045625
CREATED:20250723T221335Z
LAST-MODIFIED:20250723T221335Z
UID:10004738-1756204200-1756209600@midwestfamilyconnections.ca
SUMMARY:In the Wild @ Aurora Park
DESCRIPTION:We are partnering with the Lloydminster Library to bring you “In the Wild”\, where we will explore a different Lloydminster park on Tuesday mornings! Rain out location will be the Midwest Family Connections Indoor Playground. Free play items\, crafts\, infant toys\, outdoor activities and more to explore. \nPop in to check it out. Don’t be afraid to ask our staff any questions about the other services we offer for families!
URL:https://midwestfamilyconnections.ca/event/in-the-wild-aurora-park/
LOCATION:Aurora Park\, 4114- 31 St\, Lloydminster\, Saskatchewan\, Canada
CATEGORIES:The First Five Years
ATTACH;FMTTYPE=image/png:https://midwestfamilyconnections.ca/wp-content/uploads/2025/07/Aurora-Park-August-25-1.png
END:VEVENT
BEGIN:VEVENT
DTSTART;TZID=America/Edmonton:20250821T100000
DTEND;TZID=America/Edmonton:20250821T113000
DTSTAMP:20260421T045625
CREATED:20250723T215840Z
LAST-MODIFIED:20250723T215840Z
UID:10004732-1755770400-1755775800@midwestfamilyconnections.ca
SUMMARY:Aurora Park Pop-In & Play
DESCRIPTION:You won’t want to miss this opportunity to connect with other families in your community and your kiddos! We bring along free play items\, bubbles\, infant toys\, parachute games\, sensory experiences and more.  \nPop in to check it out. Don’t be afraid to ask our staff any questions about the other services we offer for families! This program is for children 0-6 years old and their parents to attend together\, big siblings are welcome too! \nTransportation available for our Park Programs too! Call 306-825-5911 to arrange!
URL:https://midwestfamilyconnections.ca/event/aurora-park-pop-in-play-2/2025-08-21/
LOCATION:Aurora Park\, 4114- 31 St\, Lloydminster\, Saskatchewan\, Canada
CATEGORIES:The First Five Years
ATTACH;FMTTYPE=image/png:https://midwestfamilyconnections.ca/wp-content/uploads/2025/07/Aurora-Park-August-25.png
END:VEVENT
BEGIN:VEVENT
DTSTART;TZID=America/Edmonton:20250814T100000
DTEND;TZID=America/Edmonton:20250814T113000
DTSTAMP:20260421T045625
CREATED:20250723T215840Z
LAST-MODIFIED:20250723T215840Z
UID:10004731-1755165600-1755171000@midwestfamilyconnections.ca
SUMMARY:Aurora Park Pop-In & Play
DESCRIPTION:You won’t want to miss this opportunity to connect with other families in your community and your kiddos! We bring along free play items\, bubbles\, infant toys\, parachute games\, sensory experiences and more.  \nPop in to check it out. Don’t be afraid to ask our staff any questions about the other services we offer for families! This program is for children 0-6 years old and their parents to attend together\, big siblings are welcome too! \nTransportation available for our Park Programs too! Call 306-825-5911 to arrange!
URL:https://midwestfamilyconnections.ca/event/aurora-park-pop-in-play-2/2025-08-14/
LOCATION:Aurora Park\, 4114- 31 St\, Lloydminster\, Saskatchewan\, Canada
CATEGORIES:The First Five Years
ATTACH;FMTTYPE=image/png:https://midwestfamilyconnections.ca/wp-content/uploads/2025/07/Aurora-Park-August-25.png
END:VEVENT
BEGIN:VEVENT
DTSTART;TZID=America/Edmonton:20250730T100000
DTEND;TZID=America/Edmonton:20250730T113000
DTSTAMP:20260421T045625
CREATED:20250624T222341Z
LAST-MODIFIED:20250624T222341Z
UID:10004659-1753869600-1753875000@midwestfamilyconnections.ca
SUMMARY:Aurora Park Pop-In & Play
DESCRIPTION:You won’t want to miss this opportunity to connect with other families in your community and your kiddos!\nPop in to check it out. Don’t be afraid to ask our staff any questions about the other services we offer for families! This program is for children 0-6 years old and their parents to attend together\, big siblings are welcome too!
URL:https://midwestfamilyconnections.ca/event/aurora-park-pop-in-play/2025-07-30/
LOCATION:Aurora Park\, 4114- 31 St\, Lloydminster\, Saskatchewan\, Canada
CATEGORIES:The First Five Years
ATTACH;FMTTYPE=image/png:https://midwestfamilyconnections.ca/wp-content/uploads/2025/06/Aurora-Park-Programs-July-2025.png
END:VEVENT
BEGIN:VEVENT
DTSTART;TZID=America/Edmonton:20250723T100000
DTEND;TZID=America/Edmonton:20250723T113000
DTSTAMP:20260421T045625
CREATED:20250624T222341Z
LAST-MODIFIED:20250624T222341Z
UID:10004658-1753264800-1753270200@midwestfamilyconnections.ca
SUMMARY:Aurora Park Pop-In & Play
DESCRIPTION:You won’t want to miss this opportunity to connect with other families in your community and your kiddos!\nPop in to check it out. Don’t be afraid to ask our staff any questions about the other services we offer for families! This program is for children 0-6 years old and their parents to attend together\, big siblings are welcome too!
URL:https://midwestfamilyconnections.ca/event/aurora-park-pop-in-play/2025-07-23/
LOCATION:Aurora Park\, 4114- 31 St\, Lloydminster\, Saskatchewan\, Canada
CATEGORIES:The First Five Years
ATTACH;FMTTYPE=image/png:https://midwestfamilyconnections.ca/wp-content/uploads/2025/06/Aurora-Park-Programs-July-2025.png
END:VEVENT
BEGIN:VEVENT
DTSTART;TZID=America/Edmonton:20250702T100000
DTEND;TZID=America/Edmonton:20250702T113000
DTSTAMP:20260421T045625
CREATED:20250624T222341Z
LAST-MODIFIED:20250624T222341Z
UID:10004657-1751450400-1751455800@midwestfamilyconnections.ca
SUMMARY:Aurora Park Pop-In & Play
DESCRIPTION:You won’t want to miss this opportunity to connect with other families in your community and your kiddos!\nPop in to check it out. Don’t be afraid to ask our staff any questions about the other services we offer for families! This program is for children 0-6 years old and their parents to attend together\, big siblings are welcome too!
URL:https://midwestfamilyconnections.ca/event/aurora-park-pop-in-play/2025-07-02/
LOCATION:Aurora Park\, 4114- 31 St\, Lloydminster\, Saskatchewan\, Canada
CATEGORIES:The First Five Years
ATTACH;FMTTYPE=image/png:https://midwestfamilyconnections.ca/wp-content/uploads/2025/06/Aurora-Park-Programs-July-2025.png
END:VEVENT
END:VCALENDAR