BEGIN:VCALENDAR
VERSION:2.0
PRODID:-//MFC - ECPv6.15.13.1//NONSGML v1.0//EN
CALSCALE:GREGORIAN
METHOD:PUBLISH
X-ORIGINAL-URL:https://midwestfamilyconnections.ca
X-WR-CALDESC:Events for MFC
REFRESH-INTERVAL;VALUE=DURATION:PT1H
X-Robots-Tag:noindex
X-PUBLISHED-TTL:PT1H
BEGIN:VTIMEZONE
TZID:America/Edmonton
BEGIN:DAYLIGHT
TZOFFSETFROM:-0700
TZOFFSETTO:-0600
TZNAME:MDT
DTSTART:20230312T090000
END:DAYLIGHT
BEGIN:STANDARD
TZOFFSETFROM:-0600
TZOFFSETTO:-0700
TZNAME:MST
DTSTART:20231105T080000
END:STANDARD
BEGIN:DAYLIGHT
TZOFFSETFROM:-0700
TZOFFSETTO:-0600
TZNAME:MDT
DTSTART:20240310T090000
END:DAYLIGHT
BEGIN:STANDARD
TZOFFSETFROM:-0600
TZOFFSETTO:-0700
TZNAME:MST
DTSTART:20241103T080000
END:STANDARD
BEGIN:DAYLIGHT
TZOFFSETFROM:-0700
TZOFFSETTO:-0600
TZNAME:MDT
DTSTART:20250309T090000
END:DAYLIGHT
BEGIN:STANDARD
TZOFFSETFROM:-0600
TZOFFSETTO:-0700
TZNAME:MST
DTSTART:20251102T080000
END:STANDARD
BEGIN:DAYLIGHT
TZOFFSETFROM:-0700
TZOFFSETTO:-0600
TZNAME:MDT
DTSTART:20260308T090000
END:DAYLIGHT
BEGIN:STANDARD
TZOFFSETFROM:-0600
TZOFFSETTO:-0700
TZNAME:MST
DTSTART:20261101T080000
END:STANDARD
END:VTIMEZONE
BEGIN:VEVENT
DTSTART;TZID=America/Edmonton:20251218T100000
DTEND;TZID=America/Edmonton:20251218T113000
DTSTAMP:20260420T185913
CREATED:20250815T222110Z
LAST-MODIFIED:20251007T213659Z
UID:10004780-1766052000-1766057400@midwestfamilyconnections.ca
SUMMARY:Mothers First
DESCRIPTION:A weekly group for mothers of infants to connect with one another while learning about & practicing self-care.\nTransportation and limited childcare provided\, so contact MFC for information or to register. \nWe rotate through 8 different topics each week\, varying from self care\, to physical & mental health or community connections.
URL:https://midwestfamilyconnections.ca/event/mothers-first-16/2025-12-18/
LOCATION:Midwest Family Connections\, Suite 103 4910-50 Street\, Lloydminster\, Saskatchewan\, S9V 0Y5\, Canada
CATEGORIES:Infant (up to 12 months)
ATTACH;FMTTYPE=image/jpeg:https://midwestfamilyconnections.ca/wp-content/uploads/2025/08/mothers-first.jpg
END:VEVENT
BEGIN:VEVENT
DTSTART;TZID=America/Edmonton:20251211T100000
DTEND;TZID=America/Edmonton:20251211T113000
DTSTAMP:20260420T185913
CREATED:20250815T222110Z
LAST-MODIFIED:20251007T213659Z
UID:10004779-1765447200-1765452600@midwestfamilyconnections.ca
SUMMARY:Mothers First
DESCRIPTION:A weekly group for mothers of infants to connect with one another while learning about & practicing self-care.\nTransportation and limited childcare provided\, so contact MFC for information or to register. \nWe rotate through 8 different topics each week\, varying from self care\, to physical & mental health or community connections.
URL:https://midwestfamilyconnections.ca/event/mothers-first-16/2025-12-11/
LOCATION:Midwest Family Connections\, Suite 103 4910-50 Street\, Lloydminster\, Saskatchewan\, S9V 0Y5\, Canada
CATEGORIES:Infant (up to 12 months)
ATTACH;FMTTYPE=image/jpeg:https://midwestfamilyconnections.ca/wp-content/uploads/2025/08/mothers-first.jpg
END:VEVENT
BEGIN:VEVENT
DTSTART;TZID=America/Edmonton:20251204T100000
DTEND;TZID=America/Edmonton:20251204T113000
DTSTAMP:20260420T185913
CREATED:20250815T222110Z
LAST-MODIFIED:20251007T213659Z
UID:10004778-1764842400-1764847800@midwestfamilyconnections.ca
SUMMARY:Mothers First
DESCRIPTION:A weekly group for mothers of infants to connect with one another while learning about & practicing self-care.\nTransportation and limited childcare provided\, so contact MFC for information or to register. \nWe rotate through 8 different topics each week\, varying from self care\, to physical & mental health or community connections.
URL:https://midwestfamilyconnections.ca/event/mothers-first-16/2025-12-04/
LOCATION:Midwest Family Connections\, Suite 103 4910-50 Street\, Lloydminster\, Saskatchewan\, S9V 0Y5\, Canada
CATEGORIES:Infant (up to 12 months)
ATTACH;FMTTYPE=image/jpeg:https://midwestfamilyconnections.ca/wp-content/uploads/2025/08/mothers-first.jpg
END:VEVENT
BEGIN:VEVENT
DTSTART;TZID=America/Edmonton:20251127T100000
DTEND;TZID=America/Edmonton:20251127T113000
DTSTAMP:20260420T185913
CREATED:20250815T222110Z
LAST-MODIFIED:20251007T213659Z
UID:10004777-1764237600-1764243000@midwestfamilyconnections.ca
SUMMARY:Mothers First
DESCRIPTION:A weekly group for mothers of infants to connect with one another while learning about & practicing self-care.\nTransportation and limited childcare provided\, so contact MFC for information or to register. \nWe rotate through 8 different topics each week\, varying from self care\, to physical & mental health or community connections.
URL:https://midwestfamilyconnections.ca/event/mothers-first-16/2025-11-27/
LOCATION:Midwest Family Connections\, Suite 103 4910-50 Street\, Lloydminster\, Saskatchewan\, S9V 0Y5\, Canada
CATEGORIES:Infant (up to 12 months)
ATTACH;FMTTYPE=image/jpeg:https://midwestfamilyconnections.ca/wp-content/uploads/2025/08/mothers-first.jpg
END:VEVENT
BEGIN:VEVENT
DTSTART;TZID=America/Edmonton:20251120T100000
DTEND;TZID=America/Edmonton:20251120T113000
DTSTAMP:20260420T185913
CREATED:20250815T222110Z
LAST-MODIFIED:20251007T213659Z
UID:10004776-1763632800-1763638200@midwestfamilyconnections.ca
SUMMARY:Mothers First
DESCRIPTION:A weekly group for mothers of infants to connect with one another while learning about & practicing self-care.\nTransportation and limited childcare provided\, so contact MFC for information or to register. \nWe rotate through 8 different topics each week\, varying from self care\, to physical & mental health or community connections.
URL:https://midwestfamilyconnections.ca/event/mothers-first-16/2025-11-20/
LOCATION:Midwest Family Connections\, Suite 103 4910-50 Street\, Lloydminster\, Saskatchewan\, S9V 0Y5\, Canada
CATEGORIES:Infant (up to 12 months)
ATTACH;FMTTYPE=image/jpeg:https://midwestfamilyconnections.ca/wp-content/uploads/2025/08/mothers-first.jpg
END:VEVENT
BEGIN:VEVENT
DTSTART;TZID=America/Edmonton:20251113T100000
DTEND;TZID=America/Edmonton:20251113T113000
DTSTAMP:20260420T185913
CREATED:20250815T222110Z
LAST-MODIFIED:20251007T213659Z
UID:10004775-1763028000-1763033400@midwestfamilyconnections.ca
SUMMARY:Mothers First
DESCRIPTION:A weekly group for mothers of infants to connect with one another while learning about & practicing self-care.\nTransportation and limited childcare provided\, so contact MFC for information or to register. \nWe rotate through 8 different topics each week\, varying from self care\, to physical & mental health or community connections.
URL:https://midwestfamilyconnections.ca/event/mothers-first-16/2025-11-13/
LOCATION:Midwest Family Connections\, Suite 103 4910-50 Street\, Lloydminster\, Saskatchewan\, S9V 0Y5\, Canada
CATEGORIES:Infant (up to 12 months)
ATTACH;FMTTYPE=image/jpeg:https://midwestfamilyconnections.ca/wp-content/uploads/2025/08/mothers-first.jpg
END:VEVENT
BEGIN:VEVENT
DTSTART;TZID=America/Edmonton:20251106T100000
DTEND;TZID=America/Edmonton:20251106T113000
DTSTAMP:20260420T185913
CREATED:20250815T222110Z
LAST-MODIFIED:20251007T213659Z
UID:10004774-1762423200-1762428600@midwestfamilyconnections.ca
SUMMARY:Mothers First
DESCRIPTION:A weekly group for mothers of infants to connect with one another while learning about & practicing self-care.\nTransportation and limited childcare provided\, so contact MFC for information or to register. \nWe rotate through 8 different topics each week\, varying from self care\, to physical & mental health or community connections.
URL:https://midwestfamilyconnections.ca/event/mothers-first-16/2025-11-06/
LOCATION:Midwest Family Connections\, Suite 103 4910-50 Street\, Lloydminster\, Saskatchewan\, S9V 0Y5\, Canada
CATEGORIES:Infant (up to 12 months)
ATTACH;FMTTYPE=image/jpeg:https://midwestfamilyconnections.ca/wp-content/uploads/2025/08/mothers-first.jpg
END:VEVENT
BEGIN:VEVENT
DTSTART;TZID=America/Edmonton:20251030T100000
DTEND;TZID=America/Edmonton:20251030T113000
DTSTAMP:20260420T185913
CREATED:20250815T222110Z
LAST-MODIFIED:20251007T213659Z
UID:10004773-1761818400-1761823800@midwestfamilyconnections.ca
SUMMARY:Mothers First
DESCRIPTION:A weekly group for mothers of infants to connect with one another while learning about & practicing self-care.\nTransportation and limited childcare provided\, so contact MFC for information or to register. \nWe rotate through 8 different topics each week\, varying from self care\, to physical & mental health or community connections.
URL:https://midwestfamilyconnections.ca/event/mothers-first-16/2025-10-30/
LOCATION:Midwest Family Connections\, Suite 103 4910-50 Street\, Lloydminster\, Saskatchewan\, S9V 0Y5\, Canada
CATEGORIES:Infant (up to 12 months)
ATTACH;FMTTYPE=image/jpeg:https://midwestfamilyconnections.ca/wp-content/uploads/2025/08/mothers-first.jpg
END:VEVENT
BEGIN:VEVENT
DTSTART;TZID=America/Edmonton:20251023T100000
DTEND;TZID=America/Edmonton:20251023T113000
DTSTAMP:20260420T185913
CREATED:20250815T222110Z
LAST-MODIFIED:20251007T213659Z
UID:10004772-1761213600-1761219000@midwestfamilyconnections.ca
SUMMARY:Mothers First
DESCRIPTION:A weekly group for mothers of infants to connect with one another while learning about & practicing self-care.\nTransportation and limited childcare provided\, so contact MFC for information or to register. \nWe rotate through 8 different topics each week\, varying from self care\, to physical & mental health or community connections.
URL:https://midwestfamilyconnections.ca/event/mothers-first-16/2025-10-23/
LOCATION:Midwest Family Connections\, Suite 103 4910-50 Street\, Lloydminster\, Saskatchewan\, S9V 0Y5\, Canada
CATEGORIES:Infant (up to 12 months)
ATTACH;FMTTYPE=image/jpeg:https://midwestfamilyconnections.ca/wp-content/uploads/2025/08/mothers-first.jpg
END:VEVENT
BEGIN:VEVENT
DTSTART;TZID=America/Edmonton:20251016T100000
DTEND;TZID=America/Edmonton:20251016T113000
DTSTAMP:20260420T185913
CREATED:20250815T222110Z
LAST-MODIFIED:20251007T213659Z
UID:10004771-1760608800-1760614200@midwestfamilyconnections.ca
SUMMARY:Mothers First
DESCRIPTION:A weekly group for mothers of infants to connect with one another while learning about & practicing self-care.\nTransportation and limited childcare provided\, so contact MFC for information or to register. \nWe rotate through 8 different topics each week\, varying from self care\, to physical & mental health or community connections.
URL:https://midwestfamilyconnections.ca/event/mothers-first-16/2025-10-16/
LOCATION:Midwest Family Connections\, Suite 103 4910-50 Street\, Lloydminster\, Saskatchewan\, S9V 0Y5\, Canada
CATEGORIES:Infant (up to 12 months)
ATTACH;FMTTYPE=image/jpeg:https://midwestfamilyconnections.ca/wp-content/uploads/2025/08/mothers-first.jpg
END:VEVENT
BEGIN:VEVENT
DTSTART;TZID=America/Edmonton:20251009T100000
DTEND;TZID=America/Edmonton:20251009T113000
DTSTAMP:20260420T185913
CREATED:20250815T222110Z
LAST-MODIFIED:20251007T213659Z
UID:10004770-1760004000-1760009400@midwestfamilyconnections.ca
SUMMARY:Mothers First
DESCRIPTION:A weekly group for mothers of infants to connect with one another while learning about & practicing self-care.\nTransportation and limited childcare provided\, so contact MFC for information or to register. \nWe rotate through 8 different topics each week\, varying from self care\, to physical & mental health or community connections.
URL:https://midwestfamilyconnections.ca/event/mothers-first-16/2025-10-09/
LOCATION:Midwest Family Connections\, Suite 103 4910-50 Street\, Lloydminster\, Saskatchewan\, S9V 0Y5\, Canada
CATEGORIES:Infant (up to 12 months)
ATTACH;FMTTYPE=image/jpeg:https://midwestfamilyconnections.ca/wp-content/uploads/2025/08/mothers-first.jpg
END:VEVENT
BEGIN:VEVENT
DTSTART;TZID=America/Edmonton:20251002T100000
DTEND;TZID=America/Edmonton:20251002T113000
DTSTAMP:20260420T185913
CREATED:20250815T222110Z
LAST-MODIFIED:20251007T213659Z
UID:10004769-1759399200-1759404600@midwestfamilyconnections.ca
SUMMARY:Mothers First
DESCRIPTION:A weekly group for mothers of infants to connect with one another while learning about & practicing self-care.\nTransportation and limited childcare provided\, so contact MFC for information or to register. \nWe rotate through 8 different topics each week\, varying from self care\, to physical & mental health or community connections.
URL:https://midwestfamilyconnections.ca/event/mothers-first-16/2025-10-02/
LOCATION:Midwest Family Connections\, Suite 103 4910-50 Street\, Lloydminster\, Saskatchewan\, S9V 0Y5\, Canada
CATEGORIES:Infant (up to 12 months)
ATTACH;FMTTYPE=image/jpeg:https://midwestfamilyconnections.ca/wp-content/uploads/2025/08/mothers-first.jpg
END:VEVENT
BEGIN:VEVENT
DTSTART;TZID=America/Edmonton:20250925T100000
DTEND;TZID=America/Edmonton:20250925T113000
DTSTAMP:20260420T185913
CREATED:20250815T222110Z
LAST-MODIFIED:20251007T213659Z
UID:10004768-1758794400-1758799800@midwestfamilyconnections.ca
SUMMARY:Mothers First
DESCRIPTION:A weekly group for mothers of infants to connect with one another while learning about & practicing self-care.\nTransportation and limited childcare provided\, so contact MFC for information or to register. \nWe rotate through 8 different topics each week\, varying from self care\, to physical & mental health or community connections.
URL:https://midwestfamilyconnections.ca/event/mothers-first-16/2025-09-25/
LOCATION:Midwest Family Connections\, Suite 103 4910-50 Street\, Lloydminster\, Saskatchewan\, S9V 0Y5\, Canada
CATEGORIES:Infant (up to 12 months)
ATTACH;FMTTYPE=image/jpeg:https://midwestfamilyconnections.ca/wp-content/uploads/2025/08/mothers-first.jpg
END:VEVENT
BEGIN:VEVENT
DTSTART;TZID=America/Edmonton:20250918T100000
DTEND;TZID=America/Edmonton:20250918T113000
DTSTAMP:20260420T185913
CREATED:20250815T222110Z
LAST-MODIFIED:20251007T213659Z
UID:10004767-1758189600-1758195000@midwestfamilyconnections.ca
SUMMARY:Mothers First
DESCRIPTION:A weekly group for mothers of infants to connect with one another while learning about & practicing self-care.\nTransportation and limited childcare provided\, so contact MFC for information or to register. \nWe rotate through 8 different topics each week\, varying from self care\, to physical & mental health or community connections.
URL:https://midwestfamilyconnections.ca/event/mothers-first-16/2025-09-18/
LOCATION:Midwest Family Connections\, Suite 103 4910-50 Street\, Lloydminster\, Saskatchewan\, S9V 0Y5\, Canada
CATEGORIES:Infant (up to 12 months)
ATTACH;FMTTYPE=image/jpeg:https://midwestfamilyconnections.ca/wp-content/uploads/2025/08/mothers-first.jpg
END:VEVENT
BEGIN:VEVENT
DTSTART;TZID=America/Edmonton:20250911T100000
DTEND;TZID=America/Edmonton:20250911T113000
DTSTAMP:20260420T185913
CREATED:20250815T222525Z
LAST-MODIFIED:20250815T222525Z
UID:10004826-1757584800-1757590200@midwestfamilyconnections.ca
SUMMARY:Mothers First @ Aurora Park
DESCRIPTION:Join us for our weekly Mothers First group at Aurora Park this week! \nWe’ll be discussing wellness for moms and outdoor activities that you can enjoy with your infant! \nWe’ll have staff available to help engage your older children during the program too\, similar to Cuddle Crew.  \nPlease give us a call to register and let us know you’re coming along! 306-825-5911
URL:https://midwestfamilyconnections.ca/event/mothers-first-aurora-park/
LOCATION:Aurora Park\, 4114- 31 St\, Lloydminster\, Saskatchewan\, Canada
CATEGORIES:Infant (up to 12 months),Postnatal
ATTACH;FMTTYPE=image/png:https://midwestfamilyconnections.ca/wp-content/uploads/2025/08/Find-us-at-Aurora-Park-Sept-9-11.png
END:VEVENT
BEGIN:VEVENT
DTSTART;TZID=America/Edmonton:20250904T100000
DTEND;TZID=America/Edmonton:20250904T113000
DTSTAMP:20260420T185913
CREATED:20250815T222110Z
LAST-MODIFIED:20251007T213659Z
UID:10004766-1756980000-1756985400@midwestfamilyconnections.ca
SUMMARY:Mothers First
DESCRIPTION:A weekly group for mothers of infants to connect with one another while learning about & practicing self-care.\nTransportation and limited childcare provided\, so contact MFC for information or to register. \nWe rotate through 8 different topics each week\, varying from self care\, to physical & mental health or community connections.
URL:https://midwestfamilyconnections.ca/event/mothers-first-16/2025-09-04/
LOCATION:Midwest Family Connections\, Suite 103 4910-50 Street\, Lloydminster\, Saskatchewan\, S9V 0Y5\, Canada
CATEGORIES:Infant (up to 12 months)
ATTACH;FMTTYPE=image/jpeg:https://midwestfamilyconnections.ca/wp-content/uploads/2025/08/mothers-first.jpg
END:VEVENT
BEGIN:VEVENT
DTSTART;TZID=America/Edmonton:20250509T100000
DTEND;TZID=America/Edmonton:20250509T130000
DTSTAMP:20260420T185913
CREATED:20250416T002211Z
LAST-MODIFIED:20250416T002211Z
UID:10004553-1746784800-1746795600@midwestfamilyconnections.ca
SUMMARY:Flora's Walk
DESCRIPTION:Meet the Lloydminster Maternal Mental health Initiative Committee for a mini session of Move Your Mood & then for Flora’s Walk! \nJoin in on the opportunity for awareness\, connection\, exercise and giveaways! \nFree lunch available as well. All welcome.
URL:https://midwestfamilyconnections.ca/event/floras-walk-2/
LOCATION:Bud Miller Park\, Lloydminster
CATEGORIES:Infant (up to 12 months)
ATTACH;FMTTYPE=image/png:https://midwestfamilyconnections.ca/wp-content/uploads/2025/04/Floras-Walk-Invite-2025.png
END:VEVENT
BEGIN:VEVENT
DTSTART;TZID=America/Edmonton:20250508T183000
DTEND;TZID=America/Edmonton:20250508T193000
DTSTAMP:20260420T185913
CREATED:20250416T001956Z
LAST-MODIFIED:20250416T001956Z
UID:10004552-1746729000-1746732600@midwestfamilyconnections.ca
SUMMARY:Chalk the Walk
DESCRIPTION:Join us to draw and decorate the path in Bud Miller All Seasons Park! This is in preparation for Flora’s Walk which will be happening on May 9th! \nJoin us at the Picnic Shelter at Bud Miller All Seasons Park! \nChalk provided! Open to all families!
URL:https://midwestfamilyconnections.ca/event/chalk-the-walk-2/
LOCATION:Bud Miller Park\, Lloydminster
ATTACH;FMTTYPE=image/png:https://midwestfamilyconnections.ca/wp-content/uploads/2025/04/Chalk-the-Walk-2025_Page_3.png
END:VEVENT
BEGIN:VEVENT
DTSTART;TZID=America/Edmonton:20250508T090000
DTEND;TZID=America/Edmonton:20250508T120000
DTSTAMP:20260420T185913
CREATED:20250416T000131Z
LAST-MODIFIED:20250416T000131Z
UID:10004550-1746694800-1746705600@midwestfamilyconnections.ca
SUMMARY:Maternal Mental Health Day
DESCRIPTION:Join us to connect with community organizations\, mindfulness activities\, infant massage\, speakers\, a sharing circle and more! \nThis is a come and go event OR stay for the whole morning! \nChildminding is available!
URL:https://midwestfamilyconnections.ca/event/maternal-mental-health-day-2/
LOCATION:Midwest Family Connections\, Suite 103 4910-50 Street\, Lloydminster\, Saskatchewan\, S9V 0Y5\, Canada
CATEGORIES:Infant (up to 12 months)
END:VEVENT
BEGIN:VEVENT
DTSTART;TZID=America/Edmonton:20240502T130000
DTEND;TZID=America/Edmonton:20240502T143000
DTSTAMP:20260420T185913
CREATED:20240425T210053Z
LAST-MODIFIED:20240425T210053Z
UID:10003459-1714654800-1714660200@midwestfamilyconnections.ca
SUMMARY:Flora's Walk
DESCRIPTION:Join the Maternal Mental Health Initiative Committee for a mini session of Move Your Mood and Flora’s Walk.
URL:https://midwestfamilyconnections.ca/event/floras-walk/
LOCATION:Bud Miller Park\, Lloydminster
CATEGORIES:Postnatal
ATTACH;FMTTYPE=image/png:https://midwestfamilyconnections.ca/wp-content/uploads/2024/04/FW.png
END:VEVENT
BEGIN:VEVENT
DTSTART;TZID=America/Edmonton:20240501T183000
DTEND;TZID=America/Edmonton:20240501T183000
DTSTAMP:20260420T185913
CREATED:20240425T205831Z
LAST-MODIFIED:20240425T205831Z
UID:10003458-1714588200-1714588200@midwestfamilyconnections.ca
SUMMARY:Chalk the Walk
DESCRIPTION:Join the Maternal Mental Health Committee in spreading inspiration & encouragement through words & chalk drawings at Bud Miller Park.
URL:https://midwestfamilyconnections.ca/event/chalk-the-walk/
LOCATION:Bud Miller Park\, Lloydminster
CATEGORIES:Postnatal
ATTACH;FMTTYPE=image/png:https://midwestfamilyconnections.ca/wp-content/uploads/2024/04/CTW.png
END:VEVENT
BEGIN:VEVENT
DTSTART;TZID=America/Edmonton:20240501T090000
DTEND;TZID=America/Edmonton:20240501T120000
DTSTAMP:20260420T185913
CREATED:20240425T173339Z
LAST-MODIFIED:20240425T173339Z
UID:10003397-1714554000-1714564800@midwestfamilyconnections.ca
SUMMARY:Maternal Mental Health Day
DESCRIPTION:Join the Maternal Mental Health Initiative Committee for information and activities to support the mental health & wellness of moms! \nEvent includes:\n9:00-12:00 – Free play in the Indoor Playground\n9:00-12:00 – Infant Massage & relaxation room\nA variety of activities throughout the morning\nInformation booths from local supports
URL:https://midwestfamilyconnections.ca/event/maternal-mental-health-day/
LOCATION:Midwest Family Connections\, Suite 103 4910-50 Street\, Lloydminster\, Saskatchewan\, S9V 0Y5\, Canada
CATEGORIES:The First Five Years
ATTACH;FMTTYPE=image/png:https://midwestfamilyconnections.ca/wp-content/uploads/2024/04/MMHD.png
END:VEVENT
END:VCALENDAR