BEGIN:VCALENDAR
VERSION:2.0
PRODID:-//MFC - ECPv6.15.13.1//NONSGML v1.0//EN
CALSCALE:GREGORIAN
METHOD:PUBLISH
X-WR-CALNAME:MFC
X-ORIGINAL-URL:https://midwestfamilyconnections.ca
X-WR-CALDESC:Events for MFC
REFRESH-INTERVAL;VALUE=DURATION:PT1H
X-Robots-Tag:noindex
X-PUBLISHED-TTL:PT1H
BEGIN:VTIMEZONE
TZID:America/Edmonton
BEGIN:DAYLIGHT
TZOFFSETFROM:-0700
TZOFFSETTO:-0600
TZNAME:MDT
DTSTART:20230312T090000
END:DAYLIGHT
BEGIN:STANDARD
TZOFFSETFROM:-0600
TZOFFSETTO:-0700
TZNAME:MST
DTSTART:20231105T080000
END:STANDARD
BEGIN:DAYLIGHT
TZOFFSETFROM:-0700
TZOFFSETTO:-0600
TZNAME:MDT
DTSTART:20240310T090000
END:DAYLIGHT
BEGIN:STANDARD
TZOFFSETFROM:-0600
TZOFFSETTO:-0700
TZNAME:MST
DTSTART:20241103T080000
END:STANDARD
BEGIN:DAYLIGHT
TZOFFSETFROM:-0700
TZOFFSETTO:-0600
TZNAME:MDT
DTSTART:20250309T090000
END:DAYLIGHT
BEGIN:STANDARD
TZOFFSETFROM:-0600
TZOFFSETTO:-0700
TZNAME:MST
DTSTART:20251102T080000
END:STANDARD
END:VTIMEZONE
BEGIN:VEVENT
DTSTART;TZID=America/Edmonton:20240228T093000
DTEND;TZID=America/Edmonton:20240228T100000
DTSTAMP:20260422T030546
CREATED:20240129T213553Z
LAST-MODIFIED:20240129T213553Z
UID:10003234-1709112600-1709114400@midwestfamilyconnections.ca
SUMMARY:Tiny Tikes - Learning League!! Virtual program
DESCRIPTION:Stay warm & cozy while connecting on-line for family playdates! Call or email to register and get the Zoom link to join. This program is open to all families and their babies\, toddlers & preschoolers. \nPlease note the times of these morning sessions – 9:30 MST\, 10:30 CST
URL:https://midwestfamilyconnections.ca/event/tiny-tikes-learning-league-virtual-program-2/2024-02-28/
CATEGORIES:The First Five Years
ATTACH;FMTTYPE=image/png:https://midwestfamilyconnections.ca/wp-content/uploads/2024/01/SK-Reg.-KF-Virtual-Feb-2024-1.png
END:VEVENT
BEGIN:VEVENT
DTSTART;TZID=America/Edmonton:20240227T173000
DTEND;TZID=America/Edmonton:20240227T180000
DTSTAMP:20260422T030546
CREATED:20240129T213412Z
LAST-MODIFIED:20240129T213412Z
UID:10003230-1709055000-1709056800@midwestfamilyconnections.ca
SUMMARY:Tiny Tikes - Learning League!! Virtual program
DESCRIPTION:Stay warm & cozy while connecting on-line for family playdates! Call or email to register and get the Zoom link to join. This program is open to all families and their babies\, toddlers & preschoolers. \nPlease note the times of these late afternoon sessions – 5:30 MST\, 6:30 CST
URL:https://midwestfamilyconnections.ca/event/tiny-tikes-learning-league-virtual-program/2024-02-27/
CATEGORIES:The First Five Years
ATTACH;FMTTYPE=image/png:https://midwestfamilyconnections.ca/wp-content/uploads/2024/01/SK-Reg.-KF-Virtual-Feb-2024.png
END:VEVENT
BEGIN:VEVENT
DTSTART;TZID=America/Edmonton:20240227T130000
DTEND;TZID=America/Edmonton:20240227T150000
DTSTAMP:20260422T030546
CREATED:20240213T153400Z
LAST-MODIFIED:20240213T153400Z
UID:10003243-1709038800-1709046000@midwestfamilyconnections.ca
SUMMARY:Indigenous Literacy & Parenting Skills
DESCRIPTION:Join us to connect with Indigenous culture\, ways to support children’s literacy and parenting strategies. Contact MFC to register.
URL:https://midwestfamilyconnections.ca/event/indigenous-literacy-parenting-skills-2/2024-02-27/
LOCATION:Midwest Family Connections\, Suite 103 4910-50 Street\, Lloydminster\, Saskatchewan\, S9V 0Y5\, Canada
CATEGORIES:The First Five Years
ATTACH;FMTTYPE=image/jpeg:https://midwestfamilyconnections.ca/wp-content/uploads/2024/02/Indigenous-Literacy-Parenting-Program_Page_1.jpg
END:VEVENT
BEGIN:VEVENT
DTSTART;TZID=America/Edmonton:20240227T093000
DTEND;TZID=America/Edmonton:20240227T113000
DTSTAMP:20260422T030546
CREATED:20240129T202315Z
LAST-MODIFIED:20240129T202315Z
UID:10003191-1709026200-1709033400@midwestfamilyconnections.ca
SUMMARY:FREE Indoor Playground Drop-in play!
DESCRIPTION:The Indoor Playground is FREE and open to all families and their babies\, toddlers & preschoolers.
URL:https://midwestfamilyconnections.ca/event/free-indoor-playground-drop-in-play/2024-02-27/
LOCATION:Midwest Family Connections\, Suite 103 4910-50 Street\, Lloydminster\, Saskatchewan\, S9V 0Y5\, Canada
CATEGORIES:The First Five Years
ATTACH;FMTTYPE=image/jpeg:https://midwestfamilyconnections.ca/wp-content/uploads/2024/01/Stuffies-on-slide-scaled.jpg
END:VEVENT
BEGIN:VEVENT
DTSTART;TZID=America/Edmonton:20240224T093000
DTEND;TZID=America/Edmonton:20240224T133000
DTSTAMP:20260422T030546
CREATED:20240213T155113Z
LAST-MODIFIED:20240213T155113Z
UID:10003271-1708767000-1708781400@midwestfamilyconnections.ca
SUMMARY:FREE Indoor Playground Drop-in play!
DESCRIPTION:The Indoor Playground is open to all families and their babies\, toddlers & preschoolers.
URL:https://midwestfamilyconnections.ca/event/free-indoor-playground-drop-in-play-4/
LOCATION:Midwest Family Connections\, Suite 103 4910-50 Street\, Lloydminster\, Saskatchewan\, S9V 0Y5\, Canada
CATEGORIES:The First Five Years
ATTACH;FMTTYPE=image/jpeg:https://midwestfamilyconnections.ca/wp-content/uploads/2024/02/Feb-2024-IP-Hours-2.jpg
END:VEVENT
BEGIN:VEVENT
DTSTART;TZID=America/Edmonton:20240223T130000
DTEND;TZID=America/Edmonton:20240223T150000
DTSTAMP:20260422T030546
CREATED:20240129T204427Z
LAST-MODIFIED:20240129T204427Z
UID:10003216-1708693200-1708700400@midwestfamilyconnections.ca
SUMMARY:Crafternoon
DESCRIPTION:Explore additional craft materials in the Indoor Playground to help get those imaginations running! Drop-in free play also runs at this time. This program is FREE and open to all families and their babies\, toddlers & preschoolers.
URL:https://midwestfamilyconnections.ca/event/crafternoon-2/2024-02-23/
LOCATION:Midwest Family Connections\, Suite 103 4910-50 Street\, Lloydminster\, Saskatchewan\, S9V 0Y5\, Canada
CATEGORIES:The First Five Years
ATTACH;FMTTYPE=image/jpeg:https://midwestfamilyconnections.ca/wp-content/uploads/2024/01/Crafternoon-Feb-2024.jpg
END:VEVENT
BEGIN:VEVENT
DTSTART;TZID=America/Edmonton:20240223T103000
DTEND;TZID=America/Edmonton:20240223T113000
DTSTAMP:20260422T030546
CREATED:20240206T223416Z
LAST-MODIFIED:20240206T223416Z
UID:10003237-1708684200-1708687800@midwestfamilyconnections.ca
SUMMARY:Baby Bunch
DESCRIPTION:This program is open to all moms\, dads and caregivers of baby’s under 1 year of age. Meet other parents\, share ideas\, explore self-care & ways to nurture baby’s development.
URL:https://midwestfamilyconnections.ca/event/baby-bunch/2024-02-23/
LOCATION:Midwest Family Connections\, Suite 103 4910-50 Street\, Lloydminster\, Saskatchewan\, S9V 0Y5\, Canada
CATEGORIES:Infant (up to 12 months)
ATTACH;FMTTYPE=image/jpeg:https://midwestfamilyconnections.ca/wp-content/uploads/2024/02/Lloydminster-Baby-Bunch.jpg
END:VEVENT
BEGIN:VEVENT
DTSTART;TZID=America/Edmonton:20240223T093000
DTEND;TZID=America/Edmonton:20240223T113000
DTSTAMP:20260422T030546
CREATED:20240216T200842Z
LAST-MODIFIED:20240216T200842Z
UID:10003300-1708680600-1708687800@midwestfamilyconnections.ca
SUMMARY:FREE Indoor Playground Drop-in play!
DESCRIPTION:The Indoor Playground is open to all families and their babies\, toddlers & preschoolers!
URL:https://midwestfamilyconnections.ca/event/free-indoor-playground-drop-in-play-8/2024-02-23/
LOCATION:Midwest Family Connections\, Suite 103 4910-50 Street\, Lloydminster\, Saskatchewan\, S9V 0Y5\, Canada
CATEGORIES:The First Five Years
ATTACH;FMTTYPE=image/jpeg:https://midwestfamilyconnections.ca/wp-content/uploads/2024/02/pig-on-airplane-scaled.jpg
END:VEVENT
BEGIN:VEVENT
DTSTART;TZID=America/Edmonton:20240223T093000
DTEND;TZID=America/Edmonton:20240223T113000
DTSTAMP:20260422T030546
CREATED:20240129T203723Z
LAST-MODIFIED:20240129T203723Z
UID:10003212-1708680600-1708687800@midwestfamilyconnections.ca
SUMMARY:FREE Indoor Playground Drop-in play!
DESCRIPTION:The Indoor Playground is FREE and open to all families and their babies\, toddlers & preschoolers.
URL:https://midwestfamilyconnections.ca/event/free-indoor-playground-drop-in-play-9/2024-02-23/
LOCATION:Midwest Family Connections\, Suite 103 4910-50 Street\, Lloydminster\, Saskatchewan\, S9V 0Y5\, Canada
CATEGORIES:The First Five Years
ATTACH;FMTTYPE=image/jpeg:https://midwestfamilyconnections.ca/wp-content/uploads/2024/01/IMG_1410-scaled.jpg
END:VEVENT
BEGIN:VEVENT
DTSTART;TZID=America/Edmonton:20240222T173000
DTEND;TZID=America/Edmonton:20240222T193000
DTSTAMP:20260422T030546
CREATED:20240213T155825Z
LAST-MODIFIED:20240213T155825Z
UID:10003273-1708623000-1708630200@midwestfamilyconnections.ca
SUMMARY:Family Game Night
DESCRIPTION:Free and open to all families and their preschoolers & school aged children!
URL:https://midwestfamilyconnections.ca/event/family-game-night-2/2024-02-22/
LOCATION:Midwest Family Connections\, Suite 103 4910-50 Street\, Lloydminster\, Saskatchewan\, S9V 0Y5\, Canada
CATEGORIES:The School Years
ATTACH;FMTTYPE=image/jpeg:https://midwestfamilyconnections.ca/wp-content/uploads/2024/02/Family-Game-Nights-1-scaled.jpg
END:VEVENT
BEGIN:VEVENT
DTSTART;TZID=America/Edmonton:20240222T173000
DTEND;TZID=America/Edmonton:20240222T193000
DTSTAMP:20260422T030546
CREATED:20240129T204909Z
LAST-MODIFIED:20240129T204909Z
UID:10003220-1708623000-1708630200@midwestfamilyconnections.ca
SUMMARY:Paws\, Claws & Hooves and FREE Indoor Playground play
DESCRIPTION:FREE play in the Indoor Playground\, along with “Paws\, Claws & Hooves”\, where staff will have additional animal themed interactive activities! These activities are open to all families and their babies\, toddlers & preschoolers.
URL:https://midwestfamilyconnections.ca/event/paws-claws-hooves-and-free-indoor-playground-play/2024-02-22/
LOCATION:Midwest Family Connections\, Suite 103 4910-50 Street\, Lloydminster\, Saskatchewan\, S9V 0Y5\, Canada
CATEGORIES:The First Five Years
ATTACH;FMTTYPE=image/jpeg:https://midwestfamilyconnections.ca/wp-content/uploads/2024/01/Paws-Claws-Hooves-scaled.jpg
END:VEVENT
BEGIN:VEVENT
DTSTART;TZID=America/Edmonton:20240222T130000
DTEND;TZID=America/Edmonton:20240222T150000
DTSTAMP:20260422T030546
CREATED:20240213T154847Z
LAST-MODIFIED:20240213T154847Z
UID:10003265-1708606800-1708614000@midwestfamilyconnections.ca
SUMMARY:FREE Indoor Playground Drop-in play!
DESCRIPTION:The Indoor Playground is open to all families and their babies\, toddlers and preschoolers.
URL:https://midwestfamilyconnections.ca/event/free-indoor-playground-drop-in-play-3/2024-02-22/
LOCATION:Midwest Family Connections\, Suite 103 4910-50 Street\, Lloydminster\, Saskatchewan\, S9V 0Y5\, Canada
CATEGORIES:The First Five Years
ATTACH;FMTTYPE=image/jpeg:https://midwestfamilyconnections.ca/wp-content/uploads/2024/02/IMG_1321-scaled.jpg
END:VEVENT
BEGIN:VEVENT
DTSTART;TZID=America/Edmonton:20240222T121500
DTEND;TZID=America/Edmonton:20240222T124500
DTSTAMP:20260422T030546
CREATED:20240213T160618Z
LAST-MODIFIED:20240213T160618Z
UID:10003275-1708604100-1708605900@midwestfamilyconnections.ca
SUMMARY:Virtual Lunch & Learn - Kids Have Stress Too
DESCRIPTION:Parents/caregivers – join us for 4 short sessions to review strategies to help children learn to manage stress. These sessions will be held virtually through ZOOM\, so contact MFC to register!
URL:https://midwestfamilyconnections.ca/event/virtual-lunch-learn-kids-have-stress-too/2024-02-22/
ATTACH;FMTTYPE=image/jpeg:https://midwestfamilyconnections.ca/wp-content/uploads/2024/02/KHST-Lunch-Learn-Feb-2024-scaled.jpg
END:VEVENT
BEGIN:VEVENT
DTSTART;TZID=America/Edmonton:20240222T100000
DTEND;TZID=America/Edmonton:20240222T113000
DTSTAMP:20260422T030546
CREATED:20240213T161821Z
LAST-MODIFIED:20240213T161821Z
UID:10003280-1708596000-1708601400@midwestfamilyconnections.ca
SUMMARY:Mothers First
DESCRIPTION:A weekly group for mothers of infants to connect with one another while learning about and practicing self-care.\nTransportation and limited childcare provided.\nPlease contact MFC to register.
URL:https://midwestfamilyconnections.ca/event/mothers-first/2024-02-22/
LOCATION:Midwest Family Connections\, Suite 103 4910-50 Street\, Lloydminster\, Saskatchewan\, S9V 0Y5\, Canada
CATEGORIES:Postnatal
ATTACH;FMTTYPE=image/png:https://midwestfamilyconnections.ca/wp-content/uploads/2024/02/MF-image.png
END:VEVENT
BEGIN:VEVENT
DTSTART;TZID=America/Edmonton:20240221T130000
DTEND;TZID=America/Edmonton:20240221T150000
DTSTAMP:20260422T030546
CREATED:20240213T154510Z
LAST-MODIFIED:20240213T154510Z
UID:10003258-1708520400-1708527600@midwestfamilyconnections.ca
SUMMARY:FREE Indoor Playground Drop-in play!
DESCRIPTION:The Indoor Playground is open to all families and their babies\, toddlers & preschoolers.
URL:https://midwestfamilyconnections.ca/event/free-indoor-playground-drop-in-play-2/2024-02-21/
LOCATION:Midwest Family Connections\, Suite 103 4910-50 Street\, Lloydminster\, Saskatchewan\, S9V 0Y5\, Canada
CATEGORIES:The First Five Years
ATTACH;FMTTYPE=image/jpeg:https://midwestfamilyconnections.ca/wp-content/uploads/2024/02/IMG_1314-scaled.jpg
END:VEVENT
BEGIN:VEVENT
DTSTART;TZID=America/Edmonton:20240221T093000
DTEND;TZID=America/Edmonton:20240221T113000
DTSTAMP:20260422T030546
CREATED:20240213T154149Z
LAST-MODIFIED:20240213T154149Z
UID:10003251-1708507800-1708515000@midwestfamilyconnections.ca
SUMMARY:FREE Indoor Playground Drop-In
DESCRIPTION:The Indoor Playground is open to all families and their babies\, toddlers & preschoolers!
URL:https://midwestfamilyconnections.ca/event/free-indoor-playground-drop-in/2024-02-21/
LOCATION:Midwest Family Connections\, Suite 103 4910-50 Street\, Lloydminster\, Saskatchewan\, S9V 0Y5\, Canada
CATEGORIES:The First Five Years
ATTACH;FMTTYPE=image/jpeg:https://midwestfamilyconnections.ca/wp-content/uploads/2024/02/IMG_1316-scaled.jpg
END:VEVENT
BEGIN:VEVENT
DTSTART;TZID=America/Edmonton:20240221T093000
DTEND;TZID=America/Edmonton:20240221T100000
DTSTAMP:20260422T030546
CREATED:20240129T213553Z
LAST-MODIFIED:20240129T213553Z
UID:10003233-1708507800-1708509600@midwestfamilyconnections.ca
SUMMARY:Tiny Tikes - Learning League!! Virtual program
DESCRIPTION:Stay warm & cozy while connecting on-line for family playdates! Call or email to register and get the Zoom link to join. This program is open to all families and their babies\, toddlers & preschoolers. \nPlease note the times of these morning sessions – 9:30 MST\, 10:30 CST
URL:https://midwestfamilyconnections.ca/event/tiny-tikes-learning-league-virtual-program-2/2024-02-21/
CATEGORIES:The First Five Years
ATTACH;FMTTYPE=image/png:https://midwestfamilyconnections.ca/wp-content/uploads/2024/01/SK-Reg.-KF-Virtual-Feb-2024-1.png
END:VEVENT
BEGIN:VEVENT
DTSTART;TZID=America/Edmonton:20240220T180000
DTEND;TZID=America/Edmonton:20240220T200000
DTSTAMP:20260422T030546
CREATED:20240206T224109Z
LAST-MODIFIED:20240206T224109Z
UID:10003239-1708452000-1708459200@midwestfamilyconnections.ca
SUMMARY:Triple P Fear-Less Parenting Group
DESCRIPTION:This 6 session Fear-Less Group supports parents & caregivers with information and positive parenting strategies around anxiety. Information focuses on children & youth ages 6-14. \nContact MFC to register by calling 306-825-5911 or by email at info@midwestfamilyconnections.ca
URL:https://midwestfamilyconnections.ca/event/triple-p-fear-less-parenting-group/
LOCATION:Midwest Family Connections\, Suite 103 4910-50 Street\, Lloydminster\, Saskatchewan\, S9V 0Y5\, Canada
CATEGORIES:The School Years
ATTACH;FMTTYPE=image/jpeg:https://midwestfamilyconnections.ca/wp-content/uploads/2024/02/Fear-Less-Triple-P.jpg
END:VEVENT
BEGIN:VEVENT
DTSTART;TZID=America/Edmonton:20240220T173000
DTEND;TZID=America/Edmonton:20240220T180000
DTSTAMP:20260422T030546
CREATED:20240129T213412Z
LAST-MODIFIED:20240129T213412Z
UID:10003229-1708450200-1708452000@midwestfamilyconnections.ca
SUMMARY:Tiny Tikes - Learning League!! Virtual program
DESCRIPTION:Stay warm & cozy while connecting on-line for family playdates! Call or email to register and get the Zoom link to join. This program is open to all families and their babies\, toddlers & preschoolers. \nPlease note the times of these late afternoon sessions – 5:30 MST\, 6:30 CST
URL:https://midwestfamilyconnections.ca/event/tiny-tikes-learning-league-virtual-program/2024-02-20/
CATEGORIES:The First Five Years
ATTACH;FMTTYPE=image/png:https://midwestfamilyconnections.ca/wp-content/uploads/2024/01/SK-Reg.-KF-Virtual-Feb-2024.png
END:VEVENT
BEGIN:VEVENT
DTSTART;TZID=America/Edmonton:20240220T100000
DTEND;TZID=America/Edmonton:20240220T113000
DTSTAMP:20260422T030546
CREATED:20240105T190513Z
LAST-MODIFIED:20240105T190513Z
UID:10003167-1708423200-1708428600@midwestfamilyconnections.ca
SUMMARY:Marsden - Family Play & Learn
DESCRIPTION:Free-play\, literacy activities\, parenting information & more!
URL:https://midwestfamilyconnections.ca/event/marsden-family-play-learn-2/
LOCATION:Marsden Library\, 104 Centre Street\, Marsden\, SK
ATTACH;FMTTYPE=image/jpeg:https://midwestfamilyconnections.ca/wp-content/uploads/2024/01/Marsden-Jan-Feb-2024-1.jpg
END:VEVENT
BEGIN:VEVENT
DTSTART;TZID=America/Edmonton:20240220T093000
DTEND;TZID=America/Edmonton:20240220T113000
DTSTAMP:20260422T030546
CREATED:20240129T202315Z
LAST-MODIFIED:20240129T202315Z
UID:10003190-1708421400-1708428600@midwestfamilyconnections.ca
SUMMARY:FREE Indoor Playground Drop-in play!
DESCRIPTION:The Indoor Playground is FREE and open to all families and their babies\, toddlers & preschoolers.
URL:https://midwestfamilyconnections.ca/event/free-indoor-playground-drop-in-play/2024-02-20/
LOCATION:Midwest Family Connections\, Suite 103 4910-50 Street\, Lloydminster\, Saskatchewan\, S9V 0Y5\, Canada
CATEGORIES:The First Five Years
ATTACH;FMTTYPE=image/jpeg:https://midwestfamilyconnections.ca/wp-content/uploads/2024/01/Stuffies-on-slide-scaled.jpg
END:VEVENT
BEGIN:VEVENT
DTSTART;VALUE=DATE:20240217
DTEND;VALUE=DATE:20240218
DTSTAMP:20260422T030546
CREATED:20240213T151216Z
LAST-MODIFIED:20240213T151216Z
UID:10003240-1708128000-1708214399@midwestfamilyconnections.ca
SUMMARY:CLOSED
DESCRIPTION:The Indoor Playground will be closed today. Please see our schedule for upcoming weekend sessions.
URL:https://midwestfamilyconnections.ca/event/closed/
ATTACH;FMTTYPE=image/jpeg:https://midwestfamilyconnections.ca/wp-content/uploads/2024/02/Feb-2024-IP-Hours.jpg
END:VEVENT
BEGIN:VEVENT
DTSTART;TZID=America/Edmonton:20240216T130000
DTEND;TZID=America/Edmonton:20240216T150000
DTSTAMP:20260422T030546
CREATED:20240129T204427Z
LAST-MODIFIED:20240129T204427Z
UID:10003215-1708088400-1708095600@midwestfamilyconnections.ca
SUMMARY:Crafternoon
DESCRIPTION:Explore additional craft materials in the Indoor Playground to help get those imaginations running! Drop-in free play also runs at this time. This program is FREE and open to all families and their babies\, toddlers & preschoolers.
URL:https://midwestfamilyconnections.ca/event/crafternoon-2/2024-02-16/
LOCATION:Midwest Family Connections\, Suite 103 4910-50 Street\, Lloydminster\, Saskatchewan\, S9V 0Y5\, Canada
CATEGORIES:The First Five Years
ATTACH;FMTTYPE=image/jpeg:https://midwestfamilyconnections.ca/wp-content/uploads/2024/01/Crafternoon-Feb-2024.jpg
END:VEVENT
BEGIN:VEVENT
DTSTART;TZID=America/Edmonton:20240216T103000
DTEND;TZID=America/Edmonton:20240216T113000
DTSTAMP:20260422T030546
CREATED:20240206T223416Z
LAST-MODIFIED:20240206T223416Z
UID:10003236-1708079400-1708083000@midwestfamilyconnections.ca
SUMMARY:Baby Bunch
DESCRIPTION:This program is open to all moms\, dads and caregivers of baby’s under 1 year of age. Meet other parents\, share ideas\, explore self-care & ways to nurture baby’s development.
URL:https://midwestfamilyconnections.ca/event/baby-bunch/2024-02-16/
LOCATION:Midwest Family Connections\, Suite 103 4910-50 Street\, Lloydminster\, Saskatchewan\, S9V 0Y5\, Canada
CATEGORIES:Infant (up to 12 months)
ATTACH;FMTTYPE=image/jpeg:https://midwestfamilyconnections.ca/wp-content/uploads/2024/02/Lloydminster-Baby-Bunch.jpg
END:VEVENT
BEGIN:VEVENT
DTSTART;TZID=America/Edmonton:20240216T093000
DTEND;TZID=America/Edmonton:20240216T113000
DTSTAMP:20260422T030546
CREATED:20240216T200842Z
LAST-MODIFIED:20240216T200842Z
UID:10003299-1708075800-1708083000@midwestfamilyconnections.ca
SUMMARY:FREE Indoor Playground Drop-in play!
DESCRIPTION:The Indoor Playground is open to all families and their babies\, toddlers & preschoolers!
URL:https://midwestfamilyconnections.ca/event/free-indoor-playground-drop-in-play-8/2024-02-16/
LOCATION:Midwest Family Connections\, Suite 103 4910-50 Street\, Lloydminster\, Saskatchewan\, S9V 0Y5\, Canada
CATEGORIES:The First Five Years
ATTACH;FMTTYPE=image/jpeg:https://midwestfamilyconnections.ca/wp-content/uploads/2024/02/pig-on-airplane-scaled.jpg
END:VEVENT
BEGIN:VEVENT
DTSTART;TZID=America/Edmonton:20240216T093000
DTEND;TZID=America/Edmonton:20240216T113000
DTSTAMP:20260422T030546
CREATED:20240129T203723Z
LAST-MODIFIED:20240129T203723Z
UID:10003211-1708075800-1708083000@midwestfamilyconnections.ca
SUMMARY:FREE Indoor Playground Drop-in play!
DESCRIPTION:The Indoor Playground is FREE and open to all families and their babies\, toddlers & preschoolers.
URL:https://midwestfamilyconnections.ca/event/free-indoor-playground-drop-in-play-9/2024-02-16/
LOCATION:Midwest Family Connections\, Suite 103 4910-50 Street\, Lloydminster\, Saskatchewan\, S9V 0Y5\, Canada
CATEGORIES:The First Five Years
ATTACH;FMTTYPE=image/jpeg:https://midwestfamilyconnections.ca/wp-content/uploads/2024/01/IMG_1410-scaled.jpg
END:VEVENT
BEGIN:VEVENT
DTSTART;TZID=America/Edmonton:20240216T093000
DTEND;TZID=America/Edmonton:20240216T110000
DTSTAMP:20260422T030546
CREATED:20240129T212757Z
LAST-MODIFIED:20240129T212757Z
UID:10003226-1708075800-1708081200@midwestfamilyconnections.ca
SUMMARY:Lashburn Family Play & Learn
DESCRIPTION:Family Play & Learn is FREE and open to all families and their babies\, toddlers & preschoolers. Join us for stories\, crafts\, games and activities! Developmental questionnaires\, parenting information and community resources also available!
URL:https://midwestfamilyconnections.ca/event/lashburn-family-play-learn/
LOCATION:J.H. Moore Elementary School\, 215 3 Street East\, Lashburn\, Saskatchewan\, S0M 1H0\, Canada
CATEGORIES:The First Five Years
ATTACH;FMTTYPE=image/png:https://midwestfamilyconnections.ca/wp-content/uploads/2024/01/Lashburn-Feb-2024.png
END:VEVENT
BEGIN:VEVENT
DTSTART;TZID=America/Edmonton:20240215T173000
DTEND;TZID=America/Edmonton:20240215T193000
DTSTAMP:20260422T030546
CREATED:20240213T155825Z
LAST-MODIFIED:20240213T155825Z
UID:10003272-1708018200-1708025400@midwestfamilyconnections.ca
SUMMARY:Family Game Night
DESCRIPTION:Free and open to all families and their preschoolers & school aged children!
URL:https://midwestfamilyconnections.ca/event/family-game-night-2/2024-02-15/
LOCATION:Midwest Family Connections\, Suite 103 4910-50 Street\, Lloydminster\, Saskatchewan\, S9V 0Y5\, Canada
CATEGORIES:The School Years
ATTACH;FMTTYPE=image/jpeg:https://midwestfamilyconnections.ca/wp-content/uploads/2024/02/Family-Game-Nights-1-scaled.jpg
END:VEVENT
BEGIN:VEVENT
DTSTART;TZID=America/Edmonton:20240215T173000
DTEND;TZID=America/Edmonton:20240215T193000
DTSTAMP:20260422T030546
CREATED:20240129T204909Z
LAST-MODIFIED:20240129T204909Z
UID:10003219-1708018200-1708025400@midwestfamilyconnections.ca
SUMMARY:Paws\, Claws & Hooves and FREE Indoor Playground play
DESCRIPTION:FREE play in the Indoor Playground\, along with “Paws\, Claws & Hooves”\, where staff will have additional animal themed interactive activities! These activities are open to all families and their babies\, toddlers & preschoolers.
URL:https://midwestfamilyconnections.ca/event/paws-claws-hooves-and-free-indoor-playground-play/2024-02-15/
LOCATION:Midwest Family Connections\, Suite 103 4910-50 Street\, Lloydminster\, Saskatchewan\, S9V 0Y5\, Canada
CATEGORIES:The First Five Years
ATTACH;FMTTYPE=image/jpeg:https://midwestfamilyconnections.ca/wp-content/uploads/2024/01/Paws-Claws-Hooves-scaled.jpg
END:VEVENT
BEGIN:VEVENT
DTSTART;TZID=America/Edmonton:20240215T130000
DTEND;TZID=America/Edmonton:20240215T150000
DTSTAMP:20260422T030546
CREATED:20240213T154847Z
LAST-MODIFIED:20240213T154847Z
UID:10003264-1708002000-1708009200@midwestfamilyconnections.ca
SUMMARY:FREE Indoor Playground Drop-in play!
DESCRIPTION:The Indoor Playground is open to all families and their babies\, toddlers and preschoolers.
URL:https://midwestfamilyconnections.ca/event/free-indoor-playground-drop-in-play-3/2024-02-15/
LOCATION:Midwest Family Connections\, Suite 103 4910-50 Street\, Lloydminster\, Saskatchewan\, S9V 0Y5\, Canada
CATEGORIES:The First Five Years
ATTACH;FMTTYPE=image/jpeg:https://midwestfamilyconnections.ca/wp-content/uploads/2024/02/IMG_1321-scaled.jpg
END:VEVENT
END:VCALENDAR