BEGIN:VCALENDAR
VERSION:2.0
PRODID:-//MFC - ECPv6.15.13.1//NONSGML v1.0//EN
CALSCALE:GREGORIAN
METHOD:PUBLISH
X-WR-CALNAME:MFC
X-ORIGINAL-URL:https://midwestfamilyconnections.ca
X-WR-CALDESC:Events for MFC
REFRESH-INTERVAL;VALUE=DURATION:PT1H
X-Robots-Tag:noindex
X-PUBLISHED-TTL:PT1H
BEGIN:VTIMEZONE
TZID:America/Edmonton
BEGIN:DAYLIGHT
TZOFFSETFROM:-0700
TZOFFSETTO:-0600
TZNAME:MDT
DTSTART:20240310T090000
END:DAYLIGHT
BEGIN:STANDARD
TZOFFSETFROM:-0600
TZOFFSETTO:-0700
TZNAME:MST
DTSTART:20241103T080000
END:STANDARD
BEGIN:DAYLIGHT
TZOFFSETFROM:-0700
TZOFFSETTO:-0600
TZNAME:MDT
DTSTART:20250309T090000
END:DAYLIGHT
BEGIN:STANDARD
TZOFFSETFROM:-0600
TZOFFSETTO:-0700
TZNAME:MST
DTSTART:20251102T080000
END:STANDARD
BEGIN:DAYLIGHT
TZOFFSETFROM:-0700
TZOFFSETTO:-0600
TZNAME:MDT
DTSTART:20260308T090000
END:DAYLIGHT
BEGIN:STANDARD
TZOFFSETFROM:-0600
TZOFFSETTO:-0700
TZNAME:MST
DTSTART:20261101T080000
END:STANDARD
END:VTIMEZONE
BEGIN:VEVENT
DTSTART;TZID=America/Edmonton:20250501T103000
DTEND;TZID=America/Edmonton:20250501T120000
DTSTAMP:20260421T101429
CREATED:20250328T204012Z
LAST-MODIFIED:20250523T184327Z
UID:10003995-1746095400-1746100800@midwestfamilyconnections.ca
SUMMARY:Happy Hearts & Kind Minds Paradise Valley
DESCRIPTION:Happy Hearts & kind Minds includes social-emotional play for families & children up to 6 years of age.\nFun activities to help children express feelings & practise social skills. Requires parent/caregiver & child interaction. \nJoin us at the Three Cities Municipal Library in Paradise Valley!
URL:https://midwestfamilyconnections.ca/event/happy-hearts-kind-minds-paradise-valley/2025-05-01/
LOCATION:Three Cities Municipal Library\, 310 Park Avenue\, Paradise Valley\, Alberta\, Canada
CATEGORIES:Outreach Programs
ATTACH;FMTTYPE=image/png:https://midwestfamilyconnections.ca/wp-content/uploads/2025/03/Paradise-Valley-HHKM-May-2025.png
END:VEVENT
BEGIN:VEVENT
DTSTART;TZID=America/Edmonton:20250506T100000
DTEND;TZID=America/Edmonton:20250506T113000
DTSTAMP:20260421T101429
CREATED:20250429T203824Z
LAST-MODIFIED:20250429T203824Z
UID:10004590-1746525600-1746531000@midwestfamilyconnections.ca
SUMMARY:SK Rural Outreach- Mobile Early Learning in Maidstone
DESCRIPTION:Freeplay & literacy activities\, crafts\, an opportunity to connect\, parenting information & more! Open to families and their babies\, toddlers & preschoolers. \nDrop in and check it out!
URL:https://midwestfamilyconnections.ca/event/sk-rural-outreach-mobile-early-learning-in-maidstone-4/
LOCATION:Ratushniak Elementary School\, 220- 3 Street East\, Maidstone\, SK
CATEGORIES:Outreach Programs,The First Five Years
ATTACH;FMTTYPE=image/png:https://midwestfamilyconnections.ca/wp-content/uploads/2025/04/SK-Outreach-May.png
END:VEVENT
BEGIN:VEVENT
DTSTART;TZID=America/Edmonton:20250508T103000
DTEND;TZID=America/Edmonton:20250508T120000
DTSTAMP:20260421T101429
CREATED:20250328T204012Z
LAST-MODIFIED:20250523T184327Z
UID:10003996-1746700200-1746705600@midwestfamilyconnections.ca
SUMMARY:Happy Hearts & Kind Minds Paradise Valley
DESCRIPTION:Happy Hearts & kind Minds includes social-emotional play for families & children up to 6 years of age.\nFun activities to help children express feelings & practise social skills. Requires parent/caregiver & child interaction. \nJoin us at the Three Cities Municipal Library in Paradise Valley!
URL:https://midwestfamilyconnections.ca/event/happy-hearts-kind-minds-paradise-valley/2025-05-08/
LOCATION:Three Cities Municipal Library\, 310 Park Avenue\, Paradise Valley\, Alberta\, Canada
CATEGORIES:Outreach Programs
ATTACH;FMTTYPE=image/png:https://midwestfamilyconnections.ca/wp-content/uploads/2025/03/Paradise-Valley-HHKM-May-2025.png
END:VEVENT
BEGIN:VEVENT
DTSTART;TZID=America/Edmonton:20250509T130000
DTEND;TZID=America/Edmonton:20250509T143000
DTSTAMP:20260421T101429
CREATED:20250429T204021Z
LAST-MODIFIED:20250429T204021Z
UID:10004591-1746795600-1746801000@midwestfamilyconnections.ca
SUMMARY:SK Rural Outreach- Mobile Early Learning in Neilburg
DESCRIPTION:Freeplay & literacy activities\, crafts\, an opportunity to connect\, parenting information & more! Open to families and their babies\, toddlers & preschoolers. \nDrop in and check it out!
URL:https://midwestfamilyconnections.ca/event/sk-rural-outreach-mobile-early-learning-in-neilburg-5/
LOCATION:Neilburg Library\, 108 Centre Street\, Neilburg\, Saskatchewan\, Canada
CATEGORIES:Outreach Programs,The First Five Years
ATTACH;FMTTYPE=image/png:https://midwestfamilyconnections.ca/wp-content/uploads/2025/04/SK-Outreach-May-1.png
END:VEVENT
BEGIN:VEVENT
DTSTART;TZID=America/Edmonton:20250510T100000
DTEND;TZID=America/Edmonton:20250510T150000
DTSTAMP:20260421T101429
CREATED:20250429T204339Z
LAST-MODIFIED:20250429T204339Z
UID:10004593-1746871200-1746889200@midwestfamilyconnections.ca
SUMMARY:Hillmond Emergency Preparedness Day
DESCRIPTION:Join us at the Hillmond Emergency Preparedness Day where our staff will be available for car seat checks and to share more information about our programs & services! \nConnecting Play activities will be available for families to enjoy together as well.
URL:https://midwestfamilyconnections.ca/event/hillmond-emergency-preparedness-day/
LOCATION:Hillmond Memorial Hall\, Hillmond\, Saskatchewan\, Canada
CATEGORIES:Outreach Programs
END:VEVENT
BEGIN:VEVENT
DTSTART;TZID=America/Edmonton:20250522T103000
DTEND;TZID=America/Edmonton:20250522T120000
DTSTAMP:20260421T101429
CREATED:20250328T204012Z
LAST-MODIFIED:20250523T184327Z
UID:10003997-1747909800-1747915200@midwestfamilyconnections.ca
SUMMARY:Happy Hearts & Kind Minds Paradise Valley
DESCRIPTION:Happy Hearts & kind Minds includes social-emotional play for families & children up to 6 years of age.\nFun activities to help children express feelings & practise social skills. Requires parent/caregiver & child interaction. \nJoin us at the Three Cities Municipal Library in Paradise Valley!
URL:https://midwestfamilyconnections.ca/event/happy-hearts-kind-minds-paradise-valley/2025-05-22/
LOCATION:Three Cities Municipal Library\, 310 Park Avenue\, Paradise Valley\, Alberta\, Canada
CATEGORIES:Outreach Programs
ATTACH;FMTTYPE=image/png:https://midwestfamilyconnections.ca/wp-content/uploads/2025/03/Paradise-Valley-HHKM-May-2025.png
END:VEVENT
BEGIN:VEVENT
DTSTART;TZID=America/Edmonton:20250530T093000
DTEND;TZID=America/Edmonton:20250530T110000
DTSTAMP:20260421T101429
CREATED:20250429T204139Z
LAST-MODIFIED:20250429T204139Z
UID:10004592-1748597400-1748602800@midwestfamilyconnections.ca
SUMMARY:SK Rural Outreach- Mobile Early Learning in Lashburn
DESCRIPTION:Freeplay & literacy activities\, crafts\, an opportunity to connect\, parenting information & more! Open to families and their babies\, toddlers & preschoolers. \nDrop in and check it out!
URL:https://midwestfamilyconnections.ca/event/sk-rural-outreach-mobile-early-learning-in-lashburn-3/
LOCATION:J.H. Moore Elementary School\, 215 3 Street East\, Lashburn\, Saskatchewan\, S0M 1H0\, Canada
CATEGORIES:Outreach Programs,The First Five Years
ATTACH;FMTTYPE=image/png:https://midwestfamilyconnections.ca/wp-content/uploads/2025/04/SK-Outreach-May-2.png
END:VEVENT
END:VCALENDAR