BEGIN:VCALENDAR
VERSION:2.0
PRODID:-//MFC - ECPv6.15.13.1//NONSGML v1.0//EN
CALSCALE:GREGORIAN
METHOD:PUBLISH
X-WR-CALNAME:MFC
X-ORIGINAL-URL:https://midwestfamilyconnections.ca
X-WR-CALDESC:Events for MFC
REFRESH-INTERVAL;VALUE=DURATION:PT1H
X-Robots-Tag:noindex
X-PUBLISHED-TTL:PT1H
BEGIN:VTIMEZONE
TZID:America/Edmonton
BEGIN:DAYLIGHT
TZOFFSETFROM:-0700
TZOFFSETTO:-0600
TZNAME:MDT
DTSTART:20250309T090000
END:DAYLIGHT
BEGIN:STANDARD
TZOFFSETFROM:-0600
TZOFFSETTO:-0700
TZNAME:MST
DTSTART:20251102T080000
END:STANDARD
BEGIN:DAYLIGHT
TZOFFSETFROM:-0700
TZOFFSETTO:-0600
TZNAME:MDT
DTSTART:20260308T090000
END:DAYLIGHT
BEGIN:STANDARD
TZOFFSETFROM:-0600
TZOFFSETTO:-0700
TZNAME:MST
DTSTART:20261101T080000
END:STANDARD
BEGIN:DAYLIGHT
TZOFFSETFROM:-0700
TZOFFSETTO:-0600
TZNAME:MDT
DTSTART:20270314T090000
END:DAYLIGHT
BEGIN:STANDARD
TZOFFSETFROM:-0600
TZOFFSETTO:-0700
TZNAME:MST
DTSTART:20271107T080000
END:STANDARD
END:VTIMEZONE
BEGIN:VEVENT
DTSTART;TZID=America/Edmonton:20260310T100000
DTEND;TZID=America/Edmonton:20260310T113000
DTSTAMP:20260421T000444
CREATED:20260302T234317Z
LAST-MODIFIED:20260302T234318Z
UID:10005179-1773136800-1773142200@midwestfamilyconnections.ca
SUMMARY:Baby Bunch
DESCRIPTION:Join in on the fun Tuesday mornings at our Baby Bunch sessions! \nThis program is for parents & caregivers to attend together with their infants. It’s a great space to connect with other parents with new little ones as well! \nParticipants can expect information to support your child’s development\, lots of hands on activities for you and your little one to create & explore\, an introduction to Infant Massage\, time for Q & A and an opportunity to connect and visit with others! \nRegistration preferred. Reach out today to save a spot. While you’re registering let us know if you require support with transportation! 306-825-5911 or info@midwestfamilyconnections.ca
URL:https://midwestfamilyconnections.ca/event/baby-bunch-3/2026-03-10/
LOCATION:Midwest Family Connections\, Suite 103 4910-50 Street\, Lloydminster\, Saskatchewan\, S9V 0Y5\, Canada
CATEGORIES:Infant (up to 12 months)
END:VEVENT
BEGIN:VEVENT
DTSTART;TZID=America/Edmonton:20260312T100000
DTEND;TZID=America/Edmonton:20260312T113000
DTSTAMP:20260421T000444
CREATED:20260127T232659Z
LAST-MODIFIED:20260127T232659Z
UID:10005141-1773309600-1773315000@midwestfamilyconnections.ca
SUMMARY:Mothers First
DESCRIPTION:A weekly group for mothers of infants to connect with one another while learning about & practicing self-care. We rotate through 8 topics each week ranging from physical health to community supports! \nTransportation and limited childcare provided for FREE\, so contact MFC for information or to register at 306-825-5911. \nWe welcome a variety of guests for example a Public Health Nurse or Pelvic Health Specialist to share information about topics relevant to new moms!  \nAll of these professionals are excited to answer your questions!
URL:https://midwestfamilyconnections.ca/event/mothers-first-18/2026-03-12/
LOCATION:Midwest Family Connections\, Suite 103 4910-50 Street\, Lloydminster\, Saskatchewan\, S9V 0Y5\, Canada
CATEGORIES:Infant (up to 12 months),Newborn,Postnatal
END:VEVENT
BEGIN:VEVENT
DTSTART;TZID=America/Edmonton:20260317T100000
DTEND;TZID=America/Edmonton:20260317T113000
DTSTAMP:20260421T000444
CREATED:20260302T234317Z
LAST-MODIFIED:20260302T234318Z
UID:10005180-1773741600-1773747000@midwestfamilyconnections.ca
SUMMARY:Baby Bunch
DESCRIPTION:Join in on the fun Tuesday mornings at our Baby Bunch sessions! \nThis program is for parents & caregivers to attend together with their infants. It’s a great space to connect with other parents with new little ones as well! \nParticipants can expect information to support your child’s development\, lots of hands on activities for you and your little one to create & explore\, an introduction to Infant Massage\, time for Q & A and an opportunity to connect and visit with others! \nRegistration preferred. Reach out today to save a spot. While you’re registering let us know if you require support with transportation! 306-825-5911 or info@midwestfamilyconnections.ca
URL:https://midwestfamilyconnections.ca/event/baby-bunch-3/2026-03-17/
LOCATION:Midwest Family Connections\, Suite 103 4910-50 Street\, Lloydminster\, Saskatchewan\, S9V 0Y5\, Canada
CATEGORIES:Infant (up to 12 months)
END:VEVENT
BEGIN:VEVENT
DTSTART;TZID=America/Edmonton:20260319T100000
DTEND;TZID=America/Edmonton:20260319T113000
DTSTAMP:20260421T000444
CREATED:20260127T232659Z
LAST-MODIFIED:20260127T232659Z
UID:10005142-1773914400-1773919800@midwestfamilyconnections.ca
SUMMARY:Mothers First
DESCRIPTION:A weekly group for mothers of infants to connect with one another while learning about & practicing self-care. We rotate through 8 topics each week ranging from physical health to community supports! \nTransportation and limited childcare provided for FREE\, so contact MFC for information or to register at 306-825-5911. \nWe welcome a variety of guests for example a Public Health Nurse or Pelvic Health Specialist to share information about topics relevant to new moms!  \nAll of these professionals are excited to answer your questions!
URL:https://midwestfamilyconnections.ca/event/mothers-first-18/2026-03-19/
LOCATION:Midwest Family Connections\, Suite 103 4910-50 Street\, Lloydminster\, Saskatchewan\, S9V 0Y5\, Canada
CATEGORIES:Infant (up to 12 months),Newborn,Postnatal
END:VEVENT
BEGIN:VEVENT
DTSTART;TZID=America/Edmonton:20260324T100000
DTEND;TZID=America/Edmonton:20260324T113000
DTSTAMP:20260421T000444
CREATED:20260302T234317Z
LAST-MODIFIED:20260302T234318Z
UID:10005181-1774346400-1774351800@midwestfamilyconnections.ca
SUMMARY:Baby Bunch
DESCRIPTION:Join in on the fun Tuesday mornings at our Baby Bunch sessions! \nThis program is for parents & caregivers to attend together with their infants. It’s a great space to connect with other parents with new little ones as well! \nParticipants can expect information to support your child’s development\, lots of hands on activities for you and your little one to create & explore\, an introduction to Infant Massage\, time for Q & A and an opportunity to connect and visit with others! \nRegistration preferred. Reach out today to save a spot. While you’re registering let us know if you require support with transportation! 306-825-5911 or info@midwestfamilyconnections.ca
URL:https://midwestfamilyconnections.ca/event/baby-bunch-3/2026-03-24/
LOCATION:Midwest Family Connections\, Suite 103 4910-50 Street\, Lloydminster\, Saskatchewan\, S9V 0Y5\, Canada
CATEGORIES:Infant (up to 12 months)
END:VEVENT
BEGIN:VEVENT
DTSTART;TZID=America/Edmonton:20260326T100000
DTEND;TZID=America/Edmonton:20260326T113000
DTSTAMP:20260421T000444
CREATED:20260127T232659Z
LAST-MODIFIED:20260127T232659Z
UID:10005143-1774519200-1774524600@midwestfamilyconnections.ca
SUMMARY:Mothers First
DESCRIPTION:A weekly group for mothers of infants to connect with one another while learning about & practicing self-care. We rotate through 8 topics each week ranging from physical health to community supports! \nTransportation and limited childcare provided for FREE\, so contact MFC for information or to register at 306-825-5911. \nWe welcome a variety of guests for example a Public Health Nurse or Pelvic Health Specialist to share information about topics relevant to new moms!  \nAll of these professionals are excited to answer your questions!
URL:https://midwestfamilyconnections.ca/event/mothers-first-18/2026-03-26/
LOCATION:Midwest Family Connections\, Suite 103 4910-50 Street\, Lloydminster\, Saskatchewan\, S9V 0Y5\, Canada
CATEGORIES:Infant (up to 12 months),Newborn,Postnatal
END:VEVENT
BEGIN:VEVENT
DTSTART;TZID=America/Edmonton:20260331T100000
DTEND;TZID=America/Edmonton:20260331T113000
DTSTAMP:20260421T000444
CREATED:20260302T234317Z
LAST-MODIFIED:20260302T234318Z
UID:10005182-1774951200-1774956600@midwestfamilyconnections.ca
SUMMARY:Baby Bunch
DESCRIPTION:Join in on the fun Tuesday mornings at our Baby Bunch sessions! \nThis program is for parents & caregivers to attend together with their infants. It’s a great space to connect with other parents with new little ones as well! \nParticipants can expect information to support your child’s development\, lots of hands on activities for you and your little one to create & explore\, an introduction to Infant Massage\, time for Q & A and an opportunity to connect and visit with others! \nRegistration preferred. Reach out today to save a spot. While you’re registering let us know if you require support with transportation! 306-825-5911 or info@midwestfamilyconnections.ca
URL:https://midwestfamilyconnections.ca/event/baby-bunch-3/2026-03-31/
LOCATION:Midwest Family Connections\, Suite 103 4910-50 Street\, Lloydminster\, Saskatchewan\, S9V 0Y5\, Canada
CATEGORIES:Infant (up to 12 months)
END:VEVENT
BEGIN:VEVENT
DTSTART;TZID=America/Edmonton:20260402T100000
DTEND;TZID=America/Edmonton:20260402T113000
DTSTAMP:20260421T000444
CREATED:20260320T212736Z
LAST-MODIFIED:20260320T212737Z
UID:10005231-1775124000-1775129400@midwestfamilyconnections.ca
SUMMARY:Mothers First
DESCRIPTION:A weekly group for mothers of infants to connect with one another while learning about & practicing self-care. We rotate through 8 topics each week ranging from physical health to community supports! \nTransportation and limited childcare provided for FREE\, so contact MFC for information or to register at 306-825-5911. \nWe welcome a variety of guests for example a Public Health Nurse or Pelvic Health Specialist to share information about topics relevant to new moms! \nAll of these professionals are excited to answer your questions!
URL:https://midwestfamilyconnections.ca/event/mothers-first-20/2026-04-02/
LOCATION:Midwest Family Connections\, Suite 103 4910-50 Street\, Lloydminster\, Saskatchewan\, S9V 0Y5\, Canada
CATEGORIES:Infant (up to 12 months)
END:VEVENT
BEGIN:VEVENT
DTSTART;TZID=America/Edmonton:20260409T100000
DTEND;TZID=America/Edmonton:20260409T113000
DTSTAMP:20260421T000444
CREATED:20260320T212736Z
LAST-MODIFIED:20260320T212737Z
UID:10005232-1775728800-1775734200@midwestfamilyconnections.ca
SUMMARY:Mothers First
DESCRIPTION:A weekly group for mothers of infants to connect with one another while learning about & practicing self-care. We rotate through 8 topics each week ranging from physical health to community supports! \nTransportation and limited childcare provided for FREE\, so contact MFC for information or to register at 306-825-5911. \nWe welcome a variety of guests for example a Public Health Nurse or Pelvic Health Specialist to share information about topics relevant to new moms! \nAll of these professionals are excited to answer your questions!
URL:https://midwestfamilyconnections.ca/event/mothers-first-20/2026-04-09/
LOCATION:Midwest Family Connections\, Suite 103 4910-50 Street\, Lloydminster\, Saskatchewan\, S9V 0Y5\, Canada
CATEGORIES:Infant (up to 12 months)
END:VEVENT
BEGIN:VEVENT
DTSTART;TZID=America/Edmonton:20260416T100000
DTEND;TZID=America/Edmonton:20260416T113000
DTSTAMP:20260421T000444
CREATED:20260320T212736Z
LAST-MODIFIED:20260320T212737Z
UID:10005233-1776333600-1776339000@midwestfamilyconnections.ca
SUMMARY:Mothers First
DESCRIPTION:A weekly group for mothers of infants to connect with one another while learning about & practicing self-care. We rotate through 8 topics each week ranging from physical health to community supports! \nTransportation and limited childcare provided for FREE\, so contact MFC for information or to register at 306-825-5911. \nWe welcome a variety of guests for example a Public Health Nurse or Pelvic Health Specialist to share information about topics relevant to new moms! \nAll of these professionals are excited to answer your questions!
URL:https://midwestfamilyconnections.ca/event/mothers-first-20/2026-04-16/
LOCATION:Midwest Family Connections\, Suite 103 4910-50 Street\, Lloydminster\, Saskatchewan\, S9V 0Y5\, Canada
CATEGORIES:Infant (up to 12 months)
END:VEVENT
BEGIN:VEVENT
DTSTART;TZID=America/Edmonton:20260423T100000
DTEND;TZID=America/Edmonton:20260423T113000
DTSTAMP:20260421T000444
CREATED:20260320T212736Z
LAST-MODIFIED:20260320T212737Z
UID:10005234-1776938400-1776943800@midwestfamilyconnections.ca
SUMMARY:Mothers First
DESCRIPTION:A weekly group for mothers of infants to connect with one another while learning about & practicing self-care. We rotate through 8 topics each week ranging from physical health to community supports! \nTransportation and limited childcare provided for FREE\, so contact MFC for information or to register at 306-825-5911. \nWe welcome a variety of guests for example a Public Health Nurse or Pelvic Health Specialist to share information about topics relevant to new moms! \nAll of these professionals are excited to answer your questions!
URL:https://midwestfamilyconnections.ca/event/mothers-first-20/2026-04-23/
LOCATION:Midwest Family Connections\, Suite 103 4910-50 Street\, Lloydminster\, Saskatchewan\, S9V 0Y5\, Canada
CATEGORIES:Infant (up to 12 months)
END:VEVENT
BEGIN:VEVENT
DTSTART;TZID=America/Edmonton:20260430T100000
DTEND;TZID=America/Edmonton:20260430T113000
DTSTAMP:20260421T000444
CREATED:20260320T212736Z
LAST-MODIFIED:20260320T212737Z
UID:10005235-1777543200-1777548600@midwestfamilyconnections.ca
SUMMARY:Mothers First
DESCRIPTION:A weekly group for mothers of infants to connect with one another while learning about & practicing self-care. We rotate through 8 topics each week ranging from physical health to community supports! \nTransportation and limited childcare provided for FREE\, so contact MFC for information or to register at 306-825-5911. \nWe welcome a variety of guests for example a Public Health Nurse or Pelvic Health Specialist to share information about topics relevant to new moms! \nAll of these professionals are excited to answer your questions!
URL:https://midwestfamilyconnections.ca/event/mothers-first-20/2026-04-30/
LOCATION:Midwest Family Connections\, Suite 103 4910-50 Street\, Lloydminster\, Saskatchewan\, S9V 0Y5\, Canada
CATEGORIES:Infant (up to 12 months)
END:VEVENT
END:VCALENDAR