BEGIN:VCALENDAR
VERSION:2.0
PRODID:-//MFC - ECPv6.15.13.1//NONSGML v1.0//EN
CALSCALE:GREGORIAN
METHOD:PUBLISH
X-WR-CALNAME:MFC
X-ORIGINAL-URL:https://midwestfamilyconnections.ca
X-WR-CALDESC:Events for MFC
REFRESH-INTERVAL;VALUE=DURATION:PT1H
X-Robots-Tag:noindex
X-PUBLISHED-TTL:PT1H
BEGIN:VTIMEZONE
TZID:America/Edmonton
BEGIN:DAYLIGHT
TZOFFSETFROM:-0700
TZOFFSETTO:-0600
TZNAME:MDT
DTSTART:20250309T090000
END:DAYLIGHT
BEGIN:STANDARD
TZOFFSETFROM:-0600
TZOFFSETTO:-0700
TZNAME:MST
DTSTART:20251102T080000
END:STANDARD
BEGIN:DAYLIGHT
TZOFFSETFROM:-0700
TZOFFSETTO:-0600
TZNAME:MDT
DTSTART:20260308T090000
END:DAYLIGHT
BEGIN:STANDARD
TZOFFSETFROM:-0600
TZOFFSETTO:-0700
TZNAME:MST
DTSTART:20261101T080000
END:STANDARD
BEGIN:DAYLIGHT
TZOFFSETFROM:-0700
TZOFFSETTO:-0600
TZNAME:MDT
DTSTART:20270314T090000
END:DAYLIGHT
BEGIN:STANDARD
TZOFFSETFROM:-0600
TZOFFSETTO:-0700
TZNAME:MST
DTSTART:20271107T080000
END:STANDARD
END:VTIMEZONE
BEGIN:VEVENT
DTSTART;TZID=America/Edmonton:20260129T100000
DTEND;TZID=America/Edmonton:20260129T113000
DTSTAMP:20260420T220345
CREATED:20260106T182456Z
LAST-MODIFIED:20260106T182457Z
UID:10005065-1769680800-1769686200@midwestfamilyconnections.ca
SUMMARY:Mothers First
DESCRIPTION:A weekly group for mothers of infants to connect with one another while learning about & practicing self-care. We rotate through 8 topics each week ranging from physical health to community supports!\nTransportation and limited childcare provided for FREE\, so contact MFC for information or to register at 306-825-5911. \nWe welcome a variety of guests to share information about topics relevant to new moms! \nOn January 8th we’ll have Donna\, a Pelvic Floor Specialist\, on January 15th we’ll have Public Health joining us and on January 22nd we’ll have Jessica from SHA Mental Health! \nAll of these professionals are excited to answer your questions!
URL:https://midwestfamilyconnections.ca/event/mothers-first-17/2026-01-29/
LOCATION:Midwest Family Connections\, Suite 103 4910-50 Street\, Lloydminster\, Saskatchewan\, S9V 0Y5\, Canada
CATEGORIES:Infant (up to 12 months)
ATTACH;FMTTYPE=image/png:https://midwestfamilyconnections.ca/wp-content/uploads/2026/01/full-mothers-first.png
END:VEVENT
END:VCALENDAR