BEGIN:VCALENDAR
VERSION:2.0
PRODID:-//MFC - ECPv6.15.13.1//NONSGML v1.0//EN
CALSCALE:GREGORIAN
METHOD:PUBLISH
X-WR-CALNAME:MFC
X-ORIGINAL-URL:https://midwestfamilyconnections.ca
X-WR-CALDESC:Events for MFC
REFRESH-INTERVAL;VALUE=DURATION:PT1H
X-Robots-Tag:noindex
X-PUBLISHED-TTL:PT1H
BEGIN:VTIMEZONE
TZID:America/Edmonton
BEGIN:DAYLIGHT
TZOFFSETFROM:-0700
TZOFFSETTO:-0600
TZNAME:MDT
DTSTART:20230312T090000
END:DAYLIGHT
BEGIN:STANDARD
TZOFFSETFROM:-0600
TZOFFSETTO:-0700
TZNAME:MST
DTSTART:20231105T080000
END:STANDARD
BEGIN:DAYLIGHT
TZOFFSETFROM:-0700
TZOFFSETTO:-0600
TZNAME:MDT
DTSTART:20240310T090000
END:DAYLIGHT
BEGIN:STANDARD
TZOFFSETFROM:-0600
TZOFFSETTO:-0700
TZNAME:MST
DTSTART:20241103T080000
END:STANDARD
BEGIN:DAYLIGHT
TZOFFSETFROM:-0700
TZOFFSETTO:-0600
TZNAME:MDT
DTSTART:20250309T090000
END:DAYLIGHT
BEGIN:STANDARD
TZOFFSETFROM:-0600
TZOFFSETTO:-0700
TZNAME:MST
DTSTART:20251102T080000
END:STANDARD
END:VTIMEZONE
BEGIN:VEVENT
DTSTART;TZID=America/Edmonton:20240713T093000
DTEND;TZID=America/Edmonton:20240713T133000
DTSTAMP:20260423T143259
CREATED:20240625T184457Z
LAST-MODIFIED:20240625T184457Z
UID:10003512-1720863000-1720877400@midwestfamilyconnections.ca
SUMMARY:FREE Indoor Playground Drop-in play!
DESCRIPTION:Open to all families and their babies\, toddlers & preschoolers!  \nStaff are on site to answer any questions you may have about development\, parenting and community resources. \nCheck out our Program Guide for July programs & Indoor Playground times.
URL:https://midwestfamilyconnections.ca/event/free-indoor-playground-drop-in-play-30/2024-07-13/
LOCATION:Midwest Family Connections\, Suite 103 4910-50 Street\, Lloydminster\, Saskatchewan\, S9V 0Y5\, Canada
CATEGORIES:The First Five Years
ATTACH;FMTTYPE=image/jpeg:https://midwestfamilyconnections.ca/wp-content/uploads/2024/06/IMG_1419-scaled.jpg
END:VEVENT
BEGIN:VEVENT
DTSTART;TZID=America/Edmonton:20240716T093000
DTEND;TZID=America/Edmonton:20240716T113000
DTSTAMP:20260423T143259
CREATED:20240625T185412Z
LAST-MODIFIED:20240625T190541Z
UID:10003517-1721122200-1721129400@midwestfamilyconnections.ca
SUMMARY:FREE Indoor Playground Drop-in play!
DESCRIPTION:Open to all families and their babies\, toddlers & preschoolers!  \nStaff are on site to answer any questions you may have about development\, parenting and community resources.
URL:https://midwestfamilyconnections.ca/event/free-indoor-playground-drop-in-play-31/2024-07-16/
LOCATION:Midwest Family Connections\, Suite 103 4910-50 Street\, Lloydminster\, Saskatchewan\, S9V 0Y5\, Canada
CATEGORIES:The First Five Years
ATTACH;FMTTYPE=image/jpeg:https://midwestfamilyconnections.ca/wp-content/uploads/2024/06/IMG_1323-scaled.jpg
END:VEVENT
BEGIN:VEVENT
DTSTART;TZID=America/Edmonton:20240716T103000
DTEND;TZID=America/Edmonton:20240716T120000
DTSTAMP:20260423T143259
CREATED:20240626T210755Z
LAST-MODIFIED:20240626T210755Z
UID:10003554-1721125800-1721131200@midwestfamilyconnections.ca
SUMMARY:Kitscoty Playtime!
DESCRIPTION:We are joining VIBE programming in Kitscoty down by the Village Office!  Follow VIBE on Facebook for more details about their summer programs. \nOpen to all families and their babies\, toddlers\, preschoolers & school-aged children!\nStaff are on site to answer any questions you may have about development\, parenting and community resources.
URL:https://midwestfamilyconnections.ca/event/kitscoty-playtime/
LOCATION:Kitscoty\, 5015-50 Street\, Kitscoty\, Alberta
CATEGORIES:The First Five Years
ATTACH;FMTTYPE=image/png:https://midwestfamilyconnections.ca/wp-content/uploads/2024/06/AB-Rural-Outreach-July-2024-3.png
END:VEVENT
BEGIN:VEVENT
DTSTART;TZID=America/Edmonton:20240716T130000
DTEND;TZID=America/Edmonton:20240716T190000
DTSTAMP:20260423T143259
CREATED:20240625T185709Z
LAST-MODIFIED:20240625T185709Z
UID:10003522-1721134800-1721156400@midwestfamilyconnections.ca
SUMMARY:FREE Indoor Playground Drop-in play!
DESCRIPTION:Yep…those times are right! The Indoor Playground will be open Tuesday afternoons throughout the summer from 1:00 pm-7:00 pm. \nThe Indoor Playground is open to all families and their babies\, toddlers & preschoolers!\nStaff are on site to answer any questions you may have about development\, parenting and community resources.
URL:https://midwestfamilyconnections.ca/event/free-indoor-playground-drop-in-play-32/2024-07-16/
LOCATION:Midwest Family Connections\, Suite 103 4910-50 Street\, Lloydminster\, Saskatchewan\, S9V 0Y5\, Canada
CATEGORIES:The First Five Years
ATTACH;FMTTYPE=image/png:https://midwestfamilyconnections.ca/wp-content/uploads/2024/06/July-2024-IP-Hours.png
END:VEVENT
BEGIN:VEVENT
DTSTART;TZID=America/Edmonton:20240716T133000
DTEND;TZID=America/Edmonton:20240716T143000
DTSTAMP:20260423T143259
CREATED:20240626T211021Z
LAST-MODIFIED:20240626T211021Z
UID:10003555-1721136600-1721140200@midwestfamilyconnections.ca
SUMMARY:Marwayne Playtime!
DESCRIPTION:We are joining VIBE programming in Marwayne down on Main Street! Follow VIBE on Facebook for more details about their summer programs. \nOpen to all families and their babies\, toddlers\, preschoolers & school-aged children!\nStaff are on site to answer any questions you may have about development\, parenting and community resources.
URL:https://midwestfamilyconnections.ca/event/marwayne-playtime/
LOCATION:Marwayne\, Main Street\, Marwayne\, Alberta
CATEGORIES:The First Five Years
ATTACH;FMTTYPE=image/png:https://midwestfamilyconnections.ca/wp-content/uploads/2024/06/AB-Rural-Outreach-July-2024-4.png
END:VEVENT
BEGIN:VEVENT
DTSTART;TZID=America/Edmonton:20240717T130000
DTEND;TZID=America/Edmonton:20240717T150000
DTSTAMP:20260423T143259
CREATED:20240625T190033Z
LAST-MODIFIED:20240625T190033Z
UID:10003527-1721221200-1721228400@midwestfamilyconnections.ca
SUMMARY:FREE Indoor Playground Drop-in play!
DESCRIPTION:Open to all families and their babies\, toddlers & preschoolers!  \nStaff are on site to answer any questions you may have about development\, parenting and community resources.
URL:https://midwestfamilyconnections.ca/event/free-indoor-playground-drop-in-play-33/2024-07-17/
LOCATION:Midwest Family Connections\, Suite 103 4910-50 Street\, Lloydminster\, Saskatchewan\, S9V 0Y5\, Canada
CATEGORIES:The First Five Years
ATTACH;FMTTYPE=image/png:https://midwestfamilyconnections.ca/wp-content/uploads/2024/06/July-2024-IP-Hours-1.png
END:VEVENT
BEGIN:VEVENT
DTSTART;TZID=America/Edmonton:20240718T100000
DTEND;TZID=America/Edmonton:20240718T113000
DTSTAMP:20260423T143259
CREATED:20240626T211623Z
LAST-MODIFIED:20240626T211623Z
UID:10003556-1721296800-1721302200@midwestfamilyconnections.ca
SUMMARY:Lashburn Park Program!
DESCRIPTION:You can find us this Thursday morning at Heritage Park for games & activities!  \nOpen to all families and their babies\, toddlers & preschoolers!  \nStaff are on site to answer any questions you may have about development\, parenting and community resources.
URL:https://midwestfamilyconnections.ca/event/lashburn-park-program/
LOCATION:Lashburn\, Heritage Park\, Lashburn\, Saskatchewan
CATEGORIES:The First Five Years
ATTACH;FMTTYPE=image/png:https://midwestfamilyconnections.ca/wp-content/uploads/2024/06/SK-MEL-summer-2024.png
END:VEVENT
BEGIN:VEVENT
DTSTART;TZID=America/Edmonton:20240718T130000
DTEND;TZID=America/Edmonton:20240718T150000
DTSTAMP:20260423T143259
CREATED:20240626T194204Z
LAST-MODIFIED:20240626T194204Z
UID:10003532-1721307600-1721314800@midwestfamilyconnections.ca
SUMMARY:FREE Indoor Playground Drop-in play!
DESCRIPTION:Open to all families and their babies\, toddlers & preschoolers!  \nStaff are on site to answer any questions you may have about development\, parenting and community resources.
URL:https://midwestfamilyconnections.ca/event/free-indoor-playground-drop-in-play-34/2024-07-18/
LOCATION:Midwest Family Connections\, Suite 103 4910-50 Street\, Lloydminster\, Saskatchewan\, S9V 0Y5\, Canada
CATEGORIES:The First Five Years
ATTACH;FMTTYPE=image/jpeg:https://midwestfamilyconnections.ca/wp-content/uploads/2024/06/IMG_1381-scaled.jpg
END:VEVENT
BEGIN:VEVENT
DTSTART;TZID=America/Edmonton:20240720T093000
DTEND;TZID=America/Edmonton:20240720T133000
DTSTAMP:20260423T143259
CREATED:20240625T184457Z
LAST-MODIFIED:20240625T184457Z
UID:10003513-1721467800-1721482200@midwestfamilyconnections.ca
SUMMARY:FREE Indoor Playground Drop-in play!
DESCRIPTION:Open to all families and their babies\, toddlers & preschoolers!  \nStaff are on site to answer any questions you may have about development\, parenting and community resources. \nCheck out our Program Guide for July programs & Indoor Playground times.
URL:https://midwestfamilyconnections.ca/event/free-indoor-playground-drop-in-play-30/2024-07-20/
LOCATION:Midwest Family Connections\, Suite 103 4910-50 Street\, Lloydminster\, Saskatchewan\, S9V 0Y5\, Canada
CATEGORIES:The First Five Years
ATTACH;FMTTYPE=image/jpeg:https://midwestfamilyconnections.ca/wp-content/uploads/2024/06/IMG_1419-scaled.jpg
END:VEVENT
BEGIN:VEVENT
DTSTART;TZID=America/Edmonton:20240723T093000
DTEND;TZID=America/Edmonton:20240723T113000
DTSTAMP:20260423T143259
CREATED:20240625T185412Z
LAST-MODIFIED:20240625T190541Z
UID:10003518-1721727000-1721734200@midwestfamilyconnections.ca
SUMMARY:FREE Indoor Playground Drop-in play!
DESCRIPTION:Open to all families and their babies\, toddlers & preschoolers!  \nStaff are on site to answer any questions you may have about development\, parenting and community resources.
URL:https://midwestfamilyconnections.ca/event/free-indoor-playground-drop-in-play-31/2024-07-23/
LOCATION:Midwest Family Connections\, Suite 103 4910-50 Street\, Lloydminster\, Saskatchewan\, S9V 0Y5\, Canada
CATEGORIES:The First Five Years
ATTACH;FMTTYPE=image/jpeg:https://midwestfamilyconnections.ca/wp-content/uploads/2024/06/IMG_1323-scaled.jpg
END:VEVENT
BEGIN:VEVENT
DTSTART;TZID=America/Edmonton:20240723T130000
DTEND;TZID=America/Edmonton:20240723T190000
DTSTAMP:20260423T143259
CREATED:20240625T185709Z
LAST-MODIFIED:20240625T185709Z
UID:10003523-1721739600-1721761200@midwestfamilyconnections.ca
SUMMARY:FREE Indoor Playground Drop-in play!
DESCRIPTION:Yep…those times are right! The Indoor Playground will be open Tuesday afternoons throughout the summer from 1:00 pm-7:00 pm. \nThe Indoor Playground is open to all families and their babies\, toddlers & preschoolers!\nStaff are on site to answer any questions you may have about development\, parenting and community resources.
URL:https://midwestfamilyconnections.ca/event/free-indoor-playground-drop-in-play-32/2024-07-23/
LOCATION:Midwest Family Connections\, Suite 103 4910-50 Street\, Lloydminster\, Saskatchewan\, S9V 0Y5\, Canada
CATEGORIES:The First Five Years
ATTACH;FMTTYPE=image/png:https://midwestfamilyconnections.ca/wp-content/uploads/2024/06/July-2024-IP-Hours.png
END:VEVENT
BEGIN:VEVENT
DTSTART;TZID=America/Edmonton:20240724T100000
DTEND;TZID=America/Edmonton:20240724T113000
DTSTAMP:20260423T143259
CREATED:20240626T212247Z
LAST-MODIFIED:20240626T212247Z
UID:10003557-1721815200-1721820600@midwestfamilyconnections.ca
SUMMARY:Neilburg Park Program!
DESCRIPTION:You can find us this Wednesday morning at Village Green Park for games & activities!  \nOpen to all families and their babies\, toddlers & preschoolers!  \nStaff are on site to answer any questions you may have about development\, parenting and community resources.
URL:https://midwestfamilyconnections.ca/event/neilburg-park-program/
LOCATION:Neilburg\, Village Green Park\, Neilburg\, Saskatchewan
CATEGORIES:The First Five Years
ATTACH;FMTTYPE=image/png:https://midwestfamilyconnections.ca/wp-content/uploads/2024/06/SK-MEL-summer-2024-1.png
END:VEVENT
BEGIN:VEVENT
DTSTART;TZID=America/Edmonton:20240724T130000
DTEND;TZID=America/Edmonton:20240724T150000
DTSTAMP:20260423T143259
CREATED:20240625T190033Z
LAST-MODIFIED:20240625T190033Z
UID:10003528-1721826000-1721833200@midwestfamilyconnections.ca
SUMMARY:FREE Indoor Playground Drop-in play!
DESCRIPTION:Open to all families and their babies\, toddlers & preschoolers!  \nStaff are on site to answer any questions you may have about development\, parenting and community resources.
URL:https://midwestfamilyconnections.ca/event/free-indoor-playground-drop-in-play-33/2024-07-24/
LOCATION:Midwest Family Connections\, Suite 103 4910-50 Street\, Lloydminster\, Saskatchewan\, S9V 0Y5\, Canada
CATEGORIES:The First Five Years
ATTACH;FMTTYPE=image/png:https://midwestfamilyconnections.ca/wp-content/uploads/2024/06/July-2024-IP-Hours-1.png
END:VEVENT
BEGIN:VEVENT
DTSTART;TZID=America/Edmonton:20240725T130000
DTEND;TZID=America/Edmonton:20240725T150000
DTSTAMP:20260423T143259
CREATED:20240626T194204Z
LAST-MODIFIED:20240626T194204Z
UID:10003533-1721912400-1721919600@midwestfamilyconnections.ca
SUMMARY:FREE Indoor Playground Drop-in play!
DESCRIPTION:Open to all families and their babies\, toddlers & preschoolers!  \nStaff are on site to answer any questions you may have about development\, parenting and community resources.
URL:https://midwestfamilyconnections.ca/event/free-indoor-playground-drop-in-play-34/2024-07-25/
LOCATION:Midwest Family Connections\, Suite 103 4910-50 Street\, Lloydminster\, Saskatchewan\, S9V 0Y5\, Canada
CATEGORIES:The First Five Years
ATTACH;FMTTYPE=image/jpeg:https://midwestfamilyconnections.ca/wp-content/uploads/2024/06/IMG_1381-scaled.jpg
END:VEVENT
BEGIN:VEVENT
DTSTART;TZID=America/Edmonton:20240727T093000
DTEND;TZID=America/Edmonton:20240727T133000
DTSTAMP:20260423T143259
CREATED:20240625T184457Z
LAST-MODIFIED:20240625T184457Z
UID:10003514-1722072600-1722087000@midwestfamilyconnections.ca
SUMMARY:FREE Indoor Playground Drop-in play!
DESCRIPTION:Open to all families and their babies\, toddlers & preschoolers!  \nStaff are on site to answer any questions you may have about development\, parenting and community resources. \nCheck out our Program Guide for July programs & Indoor Playground times.
URL:https://midwestfamilyconnections.ca/event/free-indoor-playground-drop-in-play-30/2024-07-27/
LOCATION:Midwest Family Connections\, Suite 103 4910-50 Street\, Lloydminster\, Saskatchewan\, S9V 0Y5\, Canada
CATEGORIES:The First Five Years
ATTACH;FMTTYPE=image/jpeg:https://midwestfamilyconnections.ca/wp-content/uploads/2024/06/IMG_1419-scaled.jpg
END:VEVENT
BEGIN:VEVENT
DTSTART;TZID=America/Edmonton:20240730T093000
DTEND;TZID=America/Edmonton:20240730T113000
DTSTAMP:20260423T143259
CREATED:20240625T185412Z
LAST-MODIFIED:20240625T190541Z
UID:10003519-1722331800-1722339000@midwestfamilyconnections.ca
SUMMARY:FREE Indoor Playground Drop-in play!
DESCRIPTION:Open to all families and their babies\, toddlers & preschoolers!  \nStaff are on site to answer any questions you may have about development\, parenting and community resources.
URL:https://midwestfamilyconnections.ca/event/free-indoor-playground-drop-in-play-31/2024-07-30/
LOCATION:Midwest Family Connections\, Suite 103 4910-50 Street\, Lloydminster\, Saskatchewan\, S9V 0Y5\, Canada
CATEGORIES:The First Five Years
ATTACH;FMTTYPE=image/jpeg:https://midwestfamilyconnections.ca/wp-content/uploads/2024/06/IMG_1323-scaled.jpg
END:VEVENT
BEGIN:VEVENT
DTSTART;TZID=America/Edmonton:20240730T100000
DTEND;TZID=America/Edmonton:20240730T113000
DTSTAMP:20260423T143259
CREATED:20240626T212523Z
LAST-MODIFIED:20240626T212523Z
UID:10003558-1722333600-1722339000@midwestfamilyconnections.ca
SUMMARY:Maidstone Park Program!
DESCRIPTION:You can find us this Tuesday morning at Delfrari Splash Park for games & activities!  \nOpen to all families and their babies\, toddlers & preschoolers!  \nStaff are on site to answer any questions you may have about development\, parenting and community resources.
URL:https://midwestfamilyconnections.ca/event/maidstone-park-program/
LOCATION:Maidstone\, Delfrari Splash Park\, Maidstone\, Saskatchewan
CATEGORIES:The First Five Years
ATTACH;FMTTYPE=image/png:https://midwestfamilyconnections.ca/wp-content/uploads/2024/06/SK-MEL-summer-2024-2.png
END:VEVENT
BEGIN:VEVENT
DTSTART;TZID=America/Edmonton:20240730T130000
DTEND;TZID=America/Edmonton:20240730T190000
DTSTAMP:20260423T143259
CREATED:20240625T185709Z
LAST-MODIFIED:20240625T185709Z
UID:10003524-1722344400-1722366000@midwestfamilyconnections.ca
SUMMARY:FREE Indoor Playground Drop-in play!
DESCRIPTION:Yep…those times are right! The Indoor Playground will be open Tuesday afternoons throughout the summer from 1:00 pm-7:00 pm. \nThe Indoor Playground is open to all families and their babies\, toddlers & preschoolers!\nStaff are on site to answer any questions you may have about development\, parenting and community resources.
URL:https://midwestfamilyconnections.ca/event/free-indoor-playground-drop-in-play-32/2024-07-30/
LOCATION:Midwest Family Connections\, Suite 103 4910-50 Street\, Lloydminster\, Saskatchewan\, S9V 0Y5\, Canada
CATEGORIES:The First Five Years
ATTACH;FMTTYPE=image/png:https://midwestfamilyconnections.ca/wp-content/uploads/2024/06/July-2024-IP-Hours.png
END:VEVENT
BEGIN:VEVENT
DTSTART;TZID=America/Edmonton:20240731T130000
DTEND;TZID=America/Edmonton:20240731T150000
DTSTAMP:20260423T143259
CREATED:20240625T190033Z
LAST-MODIFIED:20240625T190033Z
UID:10003529-1722430800-1722438000@midwestfamilyconnections.ca
SUMMARY:FREE Indoor Playground Drop-in play!
DESCRIPTION:Open to all families and their babies\, toddlers & preschoolers!  \nStaff are on site to answer any questions you may have about development\, parenting and community resources.
URL:https://midwestfamilyconnections.ca/event/free-indoor-playground-drop-in-play-33/2024-07-31/
LOCATION:Midwest Family Connections\, Suite 103 4910-50 Street\, Lloydminster\, Saskatchewan\, S9V 0Y5\, Canada
CATEGORIES:The First Five Years
ATTACH;FMTTYPE=image/png:https://midwestfamilyconnections.ca/wp-content/uploads/2024/06/July-2024-IP-Hours-1.png
END:VEVENT
BEGIN:VEVENT
DTSTART;TZID=America/Edmonton:20240801T130000
DTEND;TZID=America/Edmonton:20240801T150000
DTSTAMP:20260423T143259
CREATED:20240730T195651Z
LAST-MODIFIED:20240730T195651Z
UID:10003575-1722517200-1722524400@midwestfamilyconnections.ca
SUMMARY:FREE Indoor Playground Drop-in play!
DESCRIPTION:Open to all families and their babies\, toddlers & preschoolers!\nStaff are on site to answer any questions you may have about development\, parenting and community resources.
URL:https://midwestfamilyconnections.ca/event/free-indoor-playground-drop-in-play-37/2024-08-01/
LOCATION:Midwest Family Connections\, Suite 103 4910-50 Street\, Lloydminster\, Saskatchewan\, S9V 0Y5\, Canada
CATEGORIES:The First Five Years
ATTACH;FMTTYPE=image/jpeg:https://midwestfamilyconnections.ca/wp-content/uploads/2024/07/blocks-2-scaled.jpg
END:VEVENT
BEGIN:VEVENT
DTSTART;TZID=America/Edmonton:20240802T093000
DTEND;TZID=America/Edmonton:20240802T113000
DTSTAMP:20260423T143259
CREATED:20240730T200711Z
LAST-MODIFIED:20240730T200711Z
UID:10003587-1722591000-1722598200@midwestfamilyconnections.ca
SUMMARY:SPF3- Summer Playtime: Family Friends & Fun & Drop-in Play
DESCRIPTION:Families can explore a different theme each week with interactive play and craft opportunities! \nDrop-in Free Play runs during this time as well.
URL:https://midwestfamilyconnections.ca/event/spf3-summer-playtime-family-friends-fun-drop-in-play-2/2024-08-02/
LOCATION:Midwest Family Connections\, Suite 103 4910-50 Street\, Lloydminster\, Saskatchewan\, S9V 0Y5\, Canada
CATEGORIES:The First Five Years
ATTACH;FMTTYPE=image/png:https://midwestfamilyconnections.ca/wp-content/uploads/2024/07/SPF3-August-2024-1.png
END:VEVENT
BEGIN:VEVENT
DTSTART;TZID=America/Edmonton:20240806T093000
DTEND;TZID=America/Edmonton:20240806T113000
DTSTAMP:20260423T143259
CREATED:20240730T194531Z
LAST-MODIFIED:20240730T195421Z
UID:10003563-1722936600-1722943800@midwestfamilyconnections.ca
SUMMARY:FREE Indoor Playground Drop-in play!
DESCRIPTION:Open to all families and their babies\, toddlers & preschoolers!\nStaff are on site to answer any questions you may have about development\, parenting and community resources.
URL:https://midwestfamilyconnections.ca/event/free-indoor-playground-drop-in-play-35/2024-08-06/
LOCATION:Midwest Family Connections\, Suite 103 4910-50 Street\, Lloydminster\, Saskatchewan\, S9V 0Y5\, Canada
CATEGORIES:The First Five Years
ATTACH;FMTTYPE=image/png:https://midwestfamilyconnections.ca/wp-content/uploads/2024/07/Facebook-IP-cropped-picture.png
END:VEVENT
BEGIN:VEVENT
DTSTART;TZID=America/Edmonton:20240806T130000
DTEND;TZID=America/Edmonton:20240806T190000
DTSTAMP:20260423T143259
CREATED:20240730T200036Z
LAST-MODIFIED:20240730T200036Z
UID:10003580-1722949200-1722970800@midwestfamilyconnections.ca
SUMMARY:FREE Indoor Playground Drop-in play!
DESCRIPTION:Open to all families and their babies\, toddlers & preschoolers!\nStaff are on site to answer any questions you may have about development\, parenting and community resources.
URL:https://midwestfamilyconnections.ca/event/free-indoor-playground-drop-in-play-38/2024-08-06/
LOCATION:Midwest Family Connections\, Suite 103 4910-50 Street\, Lloydminster\, Saskatchewan\, S9V 0Y5\, Canada
CATEGORIES:The First Five Years
ATTACH;FMTTYPE=image/jpeg:https://midwestfamilyconnections.ca/wp-content/uploads/2024/07/IMG_1307-scaled.jpg
END:VEVENT
BEGIN:VEVENT
DTSTART;TZID=America/Edmonton:20240807T103000
DTEND;TZID=America/Edmonton:20240807T120000
DTSTAMP:20260423T143259
CREATED:20240730T202712Z
LAST-MODIFIED:20240730T202712Z
UID:10003598-1723026600-1723032000@midwestfamilyconnections.ca
SUMMARY:In the Wild
DESCRIPTION:We are partnering with the Lloydminster Library to bring you “In the Wild”\, where we will explore a different Lloydminster park on Wednesdays mornings! \nPlease see the poster for locations each week.
URL:https://midwestfamilyconnections.ca/event/in-the-wild-2/2024-08-07/
CATEGORIES:The First Five Years
ATTACH;FMTTYPE=image/png:https://midwestfamilyconnections.ca/wp-content/uploads/2024/07/In-the-Wild-July-2024.png
END:VEVENT
BEGIN:VEVENT
DTSTART;TZID=America/Edmonton:20240807T130000
DTEND;TZID=America/Edmonton:20240807T150000
DTSTAMP:20260423T143259
CREATED:20240730T194915Z
LAST-MODIFIED:20240730T195045Z
UID:10003571-1723035600-1723042800@midwestfamilyconnections.ca
SUMMARY:FREE Indoor Playground Drop-in play!
DESCRIPTION:Open to all families and their babies\, toddlers & preschoolers!\nStaff are on site to answer any questions you may have about development\, parenting and community resources.
URL:https://midwestfamilyconnections.ca/event/free-indoor-playground-drop-in-play-36/2024-08-07/
LOCATION:Midwest Family Connections\, Suite 103 4910-50 Street\, Lloydminster\, Saskatchewan\, S9V 0Y5\, Canada
CATEGORIES:The First Five Years
ATTACH;FMTTYPE=image/jpeg:https://midwestfamilyconnections.ca/wp-content/uploads/2024/07/pig-on-airplane-scaled.jpg
END:VEVENT
BEGIN:VEVENT
DTSTART;TZID=America/Edmonton:20240808T103000
DTEND;TZID=America/Edmonton:20240808T113000
DTSTAMP:20260423T143259
CREATED:20240730T203701Z
LAST-MODIFIED:20240730T203701Z
UID:10003602-1723113000-1723116600@midwestfamilyconnections.ca
SUMMARY:Vermilion - VIBE's Little Spot Program
DESCRIPTION:We are joining VIBE in Vermilion at their Little Spot program to share information about MFC programs & services along with development & parenting information. \n** Please note – VIBE’s programs run longer that the time MFC is there\, so follow VIBE on Facebook for more details about their Little Spot and other summer programs : https://www.facebook.com/search/top?q=vibe%20(vermilion%20is%20being%20empowered
URL:https://midwestfamilyconnections.ca/event/vermilion-vibes-little-spot-program/
LOCATION:Vermilion Public Library\, 5001-49 Avenue\, Vermilion\, Alberta\, Canada
CATEGORIES:The First Five Years
ATTACH;FMTTYPE=image/png:https://midwestfamilyconnections.ca/wp-content/uploads/2024/07/AB-Rural-Outreach-Summer-2024.png
END:VEVENT
BEGIN:VEVENT
DTSTART;TZID=America/Edmonton:20240808T130000
DTEND;TZID=America/Edmonton:20240808T150000
DTSTAMP:20260423T143259
CREATED:20240730T195651Z
LAST-MODIFIED:20240730T195651Z
UID:10003576-1723122000-1723129200@midwestfamilyconnections.ca
SUMMARY:FREE Indoor Playground Drop-in play!
DESCRIPTION:Open to all families and their babies\, toddlers & preschoolers!\nStaff are on site to answer any questions you may have about development\, parenting and community resources.
URL:https://midwestfamilyconnections.ca/event/free-indoor-playground-drop-in-play-37/2024-08-08/
LOCATION:Midwest Family Connections\, Suite 103 4910-50 Street\, Lloydminster\, Saskatchewan\, S9V 0Y5\, Canada
CATEGORIES:The First Five Years
ATTACH;FMTTYPE=image/jpeg:https://midwestfamilyconnections.ca/wp-content/uploads/2024/07/blocks-2-scaled.jpg
END:VEVENT
BEGIN:VEVENT
DTSTART;TZID=America/Edmonton:20240809T093000
DTEND;TZID=America/Edmonton:20240809T113000
DTSTAMP:20260423T143259
CREATED:20240730T200711Z
LAST-MODIFIED:20240730T200711Z
UID:10003588-1723195800-1723203000@midwestfamilyconnections.ca
SUMMARY:SPF3- Summer Playtime: Family Friends & Fun & Drop-in Play
DESCRIPTION:Families can explore a different theme each week with interactive play and craft opportunities! \nDrop-in Free Play runs during this time as well.
URL:https://midwestfamilyconnections.ca/event/spf3-summer-playtime-family-friends-fun-drop-in-play-2/2024-08-09/
LOCATION:Midwest Family Connections\, Suite 103 4910-50 Street\, Lloydminster\, Saskatchewan\, S9V 0Y5\, Canada
CATEGORIES:The First Five Years
ATTACH;FMTTYPE=image/png:https://midwestfamilyconnections.ca/wp-content/uploads/2024/07/SPF3-August-2024-1.png
END:VEVENT
BEGIN:VEVENT
DTSTART;TZID=America/Edmonton:20240810T093000
DTEND;TZID=America/Edmonton:20240810T133000
DTSTAMP:20260423T143259
CREATED:20240730T200217Z
LAST-MODIFIED:20240730T200217Z
UID:10003584-1723282200-1723296600@midwestfamilyconnections.ca
SUMMARY:FREE Indoor Playground Drop-in play!
DESCRIPTION:Open to all families and their babies\, toddlers & preschoolers!\nStaff are on site to answer any questions you may have about development\, parenting and community resources.
URL:https://midwestfamilyconnections.ca/event/free-indoor-playground-drop-in-play-39/2024-08-10/
LOCATION:Midwest Family Connections\, Suite 103 4910-50 Street\, Lloydminster\, Saskatchewan\, S9V 0Y5\, Canada
CATEGORIES:The First Five Years
ATTACH;FMTTYPE=image/png:https://midwestfamilyconnections.ca/wp-content/uploads/2024/07/August-2024-IP-Hours-7.png
END:VEVENT
BEGIN:VEVENT
DTSTART;TZID=America/Edmonton:20240813T093000
DTEND;TZID=America/Edmonton:20240813T113000
DTSTAMP:20260423T143259
CREATED:20240730T194531Z
LAST-MODIFIED:20240730T195421Z
UID:10003564-1723541400-1723548600@midwestfamilyconnections.ca
SUMMARY:FREE Indoor Playground Drop-in play!
DESCRIPTION:Open to all families and their babies\, toddlers & preschoolers!\nStaff are on site to answer any questions you may have about development\, parenting and community resources.
URL:https://midwestfamilyconnections.ca/event/free-indoor-playground-drop-in-play-35/2024-08-13/
LOCATION:Midwest Family Connections\, Suite 103 4910-50 Street\, Lloydminster\, Saskatchewan\, S9V 0Y5\, Canada
CATEGORIES:The First Five Years
ATTACH;FMTTYPE=image/png:https://midwestfamilyconnections.ca/wp-content/uploads/2024/07/Facebook-IP-cropped-picture.png
END:VEVENT
END:VCALENDAR