BEGIN:VCALENDAR
VERSION:2.0
PRODID:-//MFC - ECPv6.15.13.1//NONSGML v1.0//EN
CALSCALE:GREGORIAN
METHOD:PUBLISH
X-WR-CALNAME:MFC
X-ORIGINAL-URL:https://midwestfamilyconnections.ca
X-WR-CALDESC:Events for MFC
REFRESH-INTERVAL;VALUE=DURATION:PT1H
X-Robots-Tag:noindex
X-PUBLISHED-TTL:PT1H
BEGIN:VTIMEZONE
TZID:America/Edmonton
BEGIN:DAYLIGHT
TZOFFSETFROM:-0700
TZOFFSETTO:-0600
TZNAME:MDT
DTSTART:20230312T090000
END:DAYLIGHT
BEGIN:STANDARD
TZOFFSETFROM:-0600
TZOFFSETTO:-0700
TZNAME:MST
DTSTART:20231105T080000
END:STANDARD
BEGIN:DAYLIGHT
TZOFFSETFROM:-0700
TZOFFSETTO:-0600
TZNAME:MDT
DTSTART:20240310T090000
END:DAYLIGHT
BEGIN:STANDARD
TZOFFSETFROM:-0600
TZOFFSETTO:-0700
TZNAME:MST
DTSTART:20241103T080000
END:STANDARD
BEGIN:DAYLIGHT
TZOFFSETFROM:-0700
TZOFFSETTO:-0600
TZNAME:MDT
DTSTART:20250309T090000
END:DAYLIGHT
BEGIN:STANDARD
TZOFFSETFROM:-0600
TZOFFSETTO:-0700
TZNAME:MST
DTSTART:20251102T080000
END:STANDARD
END:VTIMEZONE
BEGIN:VEVENT
DTSTART;TZID=America/Edmonton:20240524T093000
DTEND;TZID=America/Edmonton:20240524T113000
DTSTAMP:20260423T172735
CREATED:20240425T174252Z
LAST-MODIFIED:20240425T174252Z
UID:10003420-1716543000-1716550200@midwestfamilyconnections.ca
SUMMARY:FREE Indoor Playground Drop-in play!
DESCRIPTION:Open to all families and their babies\, toddlers & preschoolers!
URL:https://midwestfamilyconnections.ca/event/free-indoor-playground-drop-in-play-21/2024-05-24/
LOCATION:Midwest Family Connections\, Suite 103 4910-50 Street\, Lloydminster\, Saskatchewan\, S9V 0Y5\, Canada
CATEGORIES:The First Five Years
ATTACH;FMTTYPE=image/jpeg:https://midwestfamilyconnections.ca/wp-content/uploads/2024/04/IMG_1435-scaled.jpg
END:VEVENT
BEGIN:VEVENT
DTSTART;TZID=America/Edmonton:20240524T130000
DTEND;TZID=America/Edmonton:20240524T150000
DTSTAMP:20260423T172735
CREATED:20240425T174829Z
LAST-MODIFIED:20240425T174829Z
UID:10003425-1716555600-1716562800@midwestfamilyconnections.ca
SUMMARY:Crafternoon & FREE Indoor Playground Drop-in play!
DESCRIPTION:Open to all families and their babies\, toddlers & preschoolers!
URL:https://midwestfamilyconnections.ca/event/crafternoon-free-indoor-playground-drop-in-play-2/2024-05-24/
LOCATION:Midwest Family Connections\, Suite 103 4910-50 Street\, Lloydminster\, Saskatchewan\, S9V 0Y5\, Canada
CATEGORIES:The First Five Years
ATTACH;FMTTYPE=image/png:https://midwestfamilyconnections.ca/wp-content/uploads/2024/04/Crafternoon-May-2024.png
END:VEVENT
BEGIN:VEVENT
DTSTART;TZID=America/Edmonton:20240525T093000
DTEND;TZID=America/Edmonton:20240525T133000
DTSTAMP:20260423T172735
CREATED:20240425T175123Z
LAST-MODIFIED:20240425T175123Z
UID:10003428-1716629400-1716643800@midwestfamilyconnections.ca
SUMMARY:FREE Indoor Playground Drop-in play!
DESCRIPTION:Open to all families and their babies\, toddlers & preschoolers!
URL:https://midwestfamilyconnections.ca/event/free-indoor-playground-drop-in-play-23/
LOCATION:Midwest Family Connections\, Suite 103 4910-50 Street\, Lloydminster\, Saskatchewan\, S9V 0Y5\, Canada
CATEGORIES:The First Five Years
ATTACH;FMTTYPE=image/png:https://midwestfamilyconnections.ca/wp-content/uploads/2024/04/May-2024-IP-hours-1.png
END:VEVENT
BEGIN:VEVENT
DTSTART;TZID=America/Edmonton:20240528T093000
DTEND;TZID=America/Edmonton:20240528T113000
DTSTAMP:20260423T172735
CREATED:20240425T172517Z
LAST-MODIFIED:20240425T172517Z
UID:10003396-1716888600-1716895800@midwestfamilyconnections.ca
SUMMARY:FREE Indoor Playground Drop-in play!
DESCRIPTION:The Indoor Playground is open to all families and their babies\, toddlers & preschoolers!
URL:https://midwestfamilyconnections.ca/event/free-indoor-playground-drop-in-play-17/2024-05-28/
LOCATION:Midwest Family Connections\, Suite 103 4910-50 Street\, Lloydminster\, Saskatchewan\, S9V 0Y5\, Canada
CATEGORIES:The First Five Years
ATTACH;FMTTYPE=image/png:https://midwestfamilyconnections.ca/wp-content/uploads/2024/04/April-2024-IP-Hours-2.png
END:VEVENT
BEGIN:VEVENT
DTSTART;TZID=America/Edmonton:20240528T100000
DTEND;TZID=America/Edmonton:20240528T133000
DTSTAMP:20260423T172735
CREATED:20240425T191244Z
LAST-MODIFIED:20240425T191244Z
UID:10003456-1716890400-1716903000@midwestfamilyconnections.ca
SUMMARY:Dewberry Happy Hearts & Kind Minds
DESCRIPTION:Social Emotional Play for families & children up to 6 years of age!
URL:https://midwestfamilyconnections.ca/event/dewberry-happy-hearts-kind-minds/2024-05-28/
LOCATION:Dewberry School\, 75 First Avenue\, Dewberry\, Alberta
CATEGORIES:The First Five Years
ATTACH;FMTTYPE=image/png:https://midwestfamilyconnections.ca/wp-content/uploads/2024/04/AB-Outreach-May-2024.png
END:VEVENT
BEGIN:VEVENT
DTSTART;TZID=America/Edmonton:20240528T130000
DTEND;TZID=America/Edmonton:20240528T150000
DTSTAMP:20260423T172735
CREATED:20240425T190318Z
LAST-MODIFIED:20240425T190318Z
UID:10003443-1716901200-1716908400@midwestfamilyconnections.ca
SUMMARY:Nobody's Perfect
DESCRIPTION:During these six sessions\, parents have the opportunity to talk about real life parenting experiences\, problem solve with a trained facilitator & discover ways of positive parenting. \nInformation focuses on children birth to 5 years of age. \nContact MFC to register.
URL:https://midwestfamilyconnections.ca/event/nobodys-perfect/2024-05-28/
LOCATION:Midwest Family Connections\, Suite 103 4910-50 Street\, Lloydminster\, Saskatchewan\, S9V 0Y5\, Canada
CATEGORIES:The First Five Years
ATTACH;FMTTYPE=image/png:https://midwestfamilyconnections.ca/wp-content/uploads/2024/04/Nobodys-Perfect-Spring-2024.png
END:VEVENT
BEGIN:VEVENT
DTSTART;TZID=America/Edmonton:20240529T093000
DTEND;TZID=America/Edmonton:20240529T113000
DTSTAMP:20260423T172735
CREATED:20240425T173558Z
LAST-MODIFIED:20240425T173558Z
UID:10003401-1716975000-1716982200@midwestfamilyconnections.ca
SUMMARY:FREE Indoor Playground Drop-in play!
DESCRIPTION:Open to all families and their babies\, toddlers & preschoolers!
URL:https://midwestfamilyconnections.ca/event/free-indoor-playground-drop-in-play-18/2024-05-29/
LOCATION:Midwest Family Connections\, Suite 103 4910-50 Street\, Lloydminster\, Saskatchewan\, S9V 0Y5\, Canada
CATEGORIES:The First Five Years
ATTACH;FMTTYPE=image/jpeg:https://midwestfamilyconnections.ca/wp-content/uploads/2024/04/IMG_1317-scaled.jpg
END:VEVENT
BEGIN:VEVENT
DTSTART;TZID=America/Edmonton:20240529T130000
DTEND;TZID=America/Edmonton:20240529T150000
DTSTAMP:20260423T172735
CREATED:20240425T173731Z
LAST-MODIFIED:20240425T173731Z
UID:10003406-1716987600-1716994800@midwestfamilyconnections.ca
SUMMARY:FREE Indoor Playground Drop-in play!
DESCRIPTION:Open to all families and their babies\, toddlers & preschoolers!
URL:https://midwestfamilyconnections.ca/event/free-indoor-playground-drop-in-play-19/2024-05-29/
LOCATION:Midwest Family Connections\, Suite 103 4910-50 Street\, Lloydminster\, Saskatchewan\, S9V 0Y5\, Canada
CATEGORIES:The First Five Years
ATTACH;FMTTYPE=image/jpeg:https://midwestfamilyconnections.ca/wp-content/uploads/2024/04/IMG_1389-scaled.jpg
END:VEVENT
BEGIN:VEVENT
DTSTART;TZID=America/Edmonton:20240530T130000
DTEND;TZID=America/Edmonton:20240530T150000
DTSTAMP:20260423T172735
CREATED:20240425T173927Z
LAST-MODIFIED:20240425T173927Z
UID:10003411-1717074000-1717081200@midwestfamilyconnections.ca
SUMMARY:FREE Indoor Playground Drop-in play!
DESCRIPTION:Open to all families and their babies\, toddlers & preschoolers!
URL:https://midwestfamilyconnections.ca/event/free-indoor-playground-drop-in-play-20/2024-05-30/
LOCATION:Midwest Family Connections\, Suite 103 4910-50 Street\, Lloydminster\, Saskatchewan\, S9V 0Y5\, Canada
CATEGORIES:The First Five Years
ATTACH;FMTTYPE=image/jpeg:https://midwestfamilyconnections.ca/wp-content/uploads/2024/04/IMG_1323-scaled.jpg
END:VEVENT
BEGIN:VEVENT
DTSTART;TZID=America/Edmonton:20240530T173000
DTEND;TZID=America/Edmonton:20240530T193000
DTSTAMP:20260423T172735
CREATED:20240425T174119Z
LAST-MODIFIED:20240425T174119Z
UID:10003416-1717090200-1717097400@midwestfamilyconnections.ca
SUMMARY:Messy Madness & FREE Indoor Playground Drop-in play!
DESCRIPTION:Open to all families and their babies\, toddlers & preschoolers!
URL:https://midwestfamilyconnections.ca/event/messy-madness-free-indoor-playground-drop-in-play/2024-05-30/
LOCATION:Midwest Family Connections\, Suite 103 4910-50 Street\, Lloydminster\, Saskatchewan\, S9V 0Y5\, Canada
CATEGORIES:The First Five Years
ATTACH;FMTTYPE=image/png:https://midwestfamilyconnections.ca/wp-content/uploads/2024/04/Messy-Madness-May-2024.png
END:VEVENT
BEGIN:VEVENT
DTSTART;TZID=America/Edmonton:20240531T093000
DTEND;TZID=America/Edmonton:20240531T113000
DTSTAMP:20260423T172735
CREATED:20240425T174252Z
LAST-MODIFIED:20240425T174252Z
UID:10003421-1717147800-1717155000@midwestfamilyconnections.ca
SUMMARY:FREE Indoor Playground Drop-in play!
DESCRIPTION:Open to all families and their babies\, toddlers & preschoolers!
URL:https://midwestfamilyconnections.ca/event/free-indoor-playground-drop-in-play-21/2024-05-31/
LOCATION:Midwest Family Connections\, Suite 103 4910-50 Street\, Lloydminster\, Saskatchewan\, S9V 0Y5\, Canada
CATEGORIES:The First Five Years
ATTACH;FMTTYPE=image/jpeg:https://midwestfamilyconnections.ca/wp-content/uploads/2024/04/IMG_1435-scaled.jpg
END:VEVENT
BEGIN:VEVENT
DTSTART;TZID=America/Edmonton:20240531T130000
DTEND;TZID=America/Edmonton:20240531T150000
DTSTAMP:20260423T172735
CREATED:20240425T174829Z
LAST-MODIFIED:20240425T174829Z
UID:10003426-1717160400-1717167600@midwestfamilyconnections.ca
SUMMARY:Crafternoon & FREE Indoor Playground Drop-in play!
DESCRIPTION:Open to all families and their babies\, toddlers & preschoolers!
URL:https://midwestfamilyconnections.ca/event/crafternoon-free-indoor-playground-drop-in-play-2/2024-05-31/
LOCATION:Midwest Family Connections\, Suite 103 4910-50 Street\, Lloydminster\, Saskatchewan\, S9V 0Y5\, Canada
CATEGORIES:The First Five Years
ATTACH;FMTTYPE=image/png:https://midwestfamilyconnections.ca/wp-content/uploads/2024/04/Crafternoon-May-2024.png
END:VEVENT
BEGIN:VEVENT
DTSTART;TZID=America/Edmonton:20240601T093000
DTEND;TZID=America/Edmonton:20240601T133000
DTSTAMP:20260423T172735
CREATED:20240527T222813Z
LAST-MODIFIED:20240531T154743Z
UID:10003470-1717234200-1717248600@midwestfamilyconnections.ca
SUMMARY:FREE Indoor Playground Drop-in play!
DESCRIPTION:Open to all families and their babies\, toddlers & preschoolers!
URL:https://midwestfamilyconnections.ca/event/free-indoor-playground-drop-in-play-24/2024-06-01/
LOCATION:Midwest Family Connections\, Suite 103 4910-50 Street\, Lloydminster\, Saskatchewan\, S9V 0Y5\, Canada
CATEGORIES:The First Five Years
ATTACH;FMTTYPE=image/png:https://midwestfamilyconnections.ca/wp-content/uploads/2024/05/June-2024-IP-Hours-5-002.png
END:VEVENT
BEGIN:VEVENT
DTSTART;TZID=America/Edmonton:20240604T093000
DTEND;TZID=America/Edmonton:20240604T113000
DTSTAMP:20260423T172735
CREATED:20240531T151921Z
LAST-MODIFIED:20240531T151921Z
UID:10003475-1717493400-1717500600@midwestfamilyconnections.ca
SUMMARY:FREE Indoor Playground Drop-in play!
DESCRIPTION:Open to all families and their babies\, toddlers & preschoolers!\nStaff are on site to answer any questions you may have about development\, parenting and community resources.
URL:https://midwestfamilyconnections.ca/event/free-indoor-playground-drop-in-play-25/2024-06-04/
LOCATION:Midwest Family Connections\, Suite 103 4910-50 Street\, Lloydminster\, Saskatchewan\, S9V 0Y5\, Canada
CATEGORIES:The First Five Years
ATTACH;FMTTYPE=image/jpeg:https://midwestfamilyconnections.ca/wp-content/uploads/2024/05/IMG_1430-scaled.jpg
END:VEVENT
BEGIN:VEVENT
DTSTART;TZID=America/Edmonton:20240604T100000
DTEND;TZID=America/Edmonton:20240604T133000
DTSTAMP:20260423T172735
CREATED:20240425T191244Z
LAST-MODIFIED:20240425T191244Z
UID:10003457-1717495200-1717507800@midwestfamilyconnections.ca
SUMMARY:Dewberry Happy Hearts & Kind Minds
DESCRIPTION:Social Emotional Play for families & children up to 6 years of age!
URL:https://midwestfamilyconnections.ca/event/dewberry-happy-hearts-kind-minds/2024-06-04/
LOCATION:Dewberry School\, 75 First Avenue\, Dewberry\, Alberta
CATEGORIES:The First Five Years
ATTACH;FMTTYPE=image/png:https://midwestfamilyconnections.ca/wp-content/uploads/2024/04/AB-Outreach-May-2024.png
END:VEVENT
BEGIN:VEVENT
DTSTART;TZID=America/Edmonton:20240604T130000
DTEND;TZID=America/Edmonton:20240604T150000
DTSTAMP:20260423T172735
CREATED:20240425T190318Z
LAST-MODIFIED:20240425T190318Z
UID:10003444-1717506000-1717513200@midwestfamilyconnections.ca
SUMMARY:Nobody's Perfect
DESCRIPTION:During these six sessions\, parents have the opportunity to talk about real life parenting experiences\, problem solve with a trained facilitator & discover ways of positive parenting. \nInformation focuses on children birth to 5 years of age. \nContact MFC to register.
URL:https://midwestfamilyconnections.ca/event/nobodys-perfect/2024-06-04/
LOCATION:Midwest Family Connections\, Suite 103 4910-50 Street\, Lloydminster\, Saskatchewan\, S9V 0Y5\, Canada
CATEGORIES:The First Five Years
ATTACH;FMTTYPE=image/png:https://midwestfamilyconnections.ca/wp-content/uploads/2024/04/Nobodys-Perfect-Spring-2024.png
END:VEVENT
BEGIN:VEVENT
DTSTART;TZID=America/Edmonton:20240605T090000
DTEND;TZID=America/Edmonton:20240605T113000
DTSTAMP:20260423T172735
CREATED:20240531T152119Z
LAST-MODIFIED:20240531T152119Z
UID:10003479-1717578000-1717587000@midwestfamilyconnections.ca
SUMMARY:FREE Indoor Playground Drop-in play!
DESCRIPTION:Open to all families and their babies\, toddlers & preschoolers!  \nStaff are on site to answer any questions you may have about development\, parenting and community resources.
URL:https://midwestfamilyconnections.ca/event/free-indoor-playground-drop-in-play-26/2024-06-05/
LOCATION:Midwest Family Connections\, Suite 103 4910-50 Street\, Lloydminster\, Saskatchewan\, S9V 0Y5\, Canada
CATEGORIES:The First Five Years
ATTACH;FMTTYPE=image/jpeg:https://midwestfamilyconnections.ca/wp-content/uploads/2024/05/IMG_1332-scaled.jpg
END:VEVENT
BEGIN:VEVENT
DTSTART;TZID=America/Edmonton:20240605T130000
DTEND;TZID=America/Edmonton:20240605T150000
DTSTAMP:20260423T172735
CREATED:20240531T152315Z
LAST-MODIFIED:20240531T152315Z
UID:10003483-1717592400-1717599600@midwestfamilyconnections.ca
SUMMARY:FREE Indoor Playground Drop-in play!
DESCRIPTION:Open to all families and their babies\, toddlers & preschoolers!  \nStaff are on site to answer any questions you may have about development\, parenting and community resources.
URL:https://midwestfamilyconnections.ca/event/free-indoor-playground-drop-in-play-27/2024-06-05/
LOCATION:Midwest Family Connections\, Suite 103 4910-50 Street\, Lloydminster\, Saskatchewan\, S9V 0Y5\, Canada
CATEGORIES:The First Five Years
ATTACH;FMTTYPE=image/jpeg:https://midwestfamilyconnections.ca/wp-content/uploads/2024/05/IMG_1433-scaled.jpg
END:VEVENT
BEGIN:VEVENT
DTSTART;TZID=America/Edmonton:20240606T103000
DTEND;TZID=America/Edmonton:20240606T120000
DTSTAMP:20260423T172735
CREATED:20240531T155521Z
LAST-MODIFIED:20240531T155521Z
UID:10003501-1717669800-1717675200@midwestfamilyconnections.ca
SUMMARY:Marshall - Park Program!
DESCRIPTION:Join us for a Marshall Park Program at Marshall School playground.  \nFreeplay & literacy activities\, parenting information & more! Open to families and their babies\, toddlers & preschoolers.
URL:https://midwestfamilyconnections.ca/event/marshall-park-program/
LOCATION:Marshall School\, 109-1 Street East\, Marshall\, SK
CATEGORIES:The First Five Years
ATTACH;FMTTYPE=image/png:https://midwestfamilyconnections.ca/wp-content/uploads/2024/05/June-2024-SK-Rural-Outreach-002.png
END:VEVENT
BEGIN:VEVENT
DTSTART;TZID=America/Edmonton:20240606T130000
DTEND;TZID=America/Edmonton:20240606T150000
DTSTAMP:20260423T172735
CREATED:20240531T152454Z
LAST-MODIFIED:20240531T152454Z
UID:10003487-1717678800-1717686000@midwestfamilyconnections.ca
SUMMARY:FREE Indoor Playground Drop-in play!
DESCRIPTION:Open to all families and their babies\, toddlers & preschoolers!  \nStaff are on site to answer any questions you may have about development\, parenting and community resources.
URL:https://midwestfamilyconnections.ca/event/free-indoor-playground-drop-in-play-28/2024-06-06/
LOCATION:Midwest Family Connections\, Suite 103 4910-50 Street\, Lloydminster\, Saskatchewan\, S9V 0Y5\, Canada
CATEGORIES:The First Five Years
ATTACH;FMTTYPE=image/jpeg:https://midwestfamilyconnections.ca/wp-content/uploads/2024/05/IMG_1419-scaled.jpg
END:VEVENT
BEGIN:VEVENT
DTSTART;TZID=America/Edmonton:20240606T173000
DTEND;TZID=America/Edmonton:20240606T193000
DTSTAMP:20260423T172735
CREATED:20240531T153241Z
LAST-MODIFIED:20240531T153241Z
UID:10003495-1717695000-1717702200@midwestfamilyconnections.ca
SUMMARY:Happy Hearts & Kind Minds and Drop-in Indoor Playground
DESCRIPTION:Happy Hearts & Kind Minds – Fun activities to help children express feelings and practise social skills. Requires parent/caregiver & child involvement. This program runs in the Indoor Playground\, along with free\, drop-in play. \nOpen to all families and their babies\, toddlers & preschoolers!  \nStaff are on site to answer any questions you may have about development\, parenting and community resources.
URL:https://midwestfamilyconnections.ca/event/happy-hearts-kind-minds-and-drop-in-indoor-playground/2024-06-06/
LOCATION:Midwest Family Connections\, Suite 103 4910-50 Street\, Lloydminster\, Saskatchewan\, S9V 0Y5\, Canada
CATEGORIES:The First Five Years
ATTACH;FMTTYPE=image/png:https://midwestfamilyconnections.ca/wp-content/uploads/2024/05/Happy-Hearts-Kind-Minds-Lloydminster-June-2024-002.png
END:VEVENT
BEGIN:VEVENT
DTSTART;TZID=America/Edmonton:20240607T093000
DTEND;TZID=America/Edmonton:20240607T113000
DTSTAMP:20260423T172735
CREATED:20240531T152653Z
LAST-MODIFIED:20240531T152653Z
UID:10003491-1717752600-1717759800@midwestfamilyconnections.ca
SUMMARY:FREE Indoor Playground Drop-in play!
DESCRIPTION:Open to all families and their babies\, toddlers & preschoolers!  \nStaff are on site to answer any questions you may have about development\, parenting and community resources.
URL:https://midwestfamilyconnections.ca/event/free-indoor-playground-drop-in-play-29/2024-06-07/
LOCATION:Midwest Family Connections\, Suite 103 4910-50 Street\, Lloydminster\, Saskatchewan\, S9V 0Y5\, Canada
CATEGORIES:The First Five Years
ATTACH;FMTTYPE=image/jpeg:https://midwestfamilyconnections.ca/wp-content/uploads/2024/05/IMG_1387-scaled.jpg
END:VEVENT
BEGIN:VEVENT
DTSTART;TZID=America/Edmonton:20240607T130000
DTEND;TZID=America/Edmonton:20240607T143000
DTSTAMP:20260423T172735
CREATED:20240527T222314Z
LAST-MODIFIED:20240527T222314Z
UID:10003466-1717765200-1717770600@midwestfamilyconnections.ca
SUMMARY:Park Play in Lloydminster
DESCRIPTION:Friday afternoons you can find us at the Barrier-Free Park behind the Lloydminster Lakeland Collage Campus. Contact us for more information!
URL:https://midwestfamilyconnections.ca/event/park-play-in-lloydminster/2024-06-07/
LOCATION:Barrier-Free Park\, 2602 59 Ave\, Lloydminster\, Alberta\, Canada
CATEGORIES:The First Five Years
ATTACH;FMTTYPE=image/jpeg:https://midwestfamilyconnections.ca/wp-content/uploads/2024/05/June-Lloyd-Park-Programs.jpg
END:VEVENT
BEGIN:VEVENT
DTSTART;TZID=America/Edmonton:20240608T093000
DTEND;TZID=America/Edmonton:20240608T133000
DTSTAMP:20260423T172735
CREATED:20240527T222813Z
LAST-MODIFIED:20240531T154743Z
UID:10003471-1717839000-1717853400@midwestfamilyconnections.ca
SUMMARY:FREE Indoor Playground Drop-in play!
DESCRIPTION:Open to all families and their babies\, toddlers & preschoolers!
URL:https://midwestfamilyconnections.ca/event/free-indoor-playground-drop-in-play-24/2024-06-08/
LOCATION:Midwest Family Connections\, Suite 103 4910-50 Street\, Lloydminster\, Saskatchewan\, S9V 0Y5\, Canada
CATEGORIES:The First Five Years
ATTACH;FMTTYPE=image/png:https://midwestfamilyconnections.ca/wp-content/uploads/2024/05/June-2024-IP-Hours-5-002.png
END:VEVENT
BEGIN:VEVENT
DTSTART;TZID=America/Edmonton:20240611T093000
DTEND;TZID=America/Edmonton:20240611T113000
DTSTAMP:20260423T172735
CREATED:20240531T151921Z
LAST-MODIFIED:20240531T151921Z
UID:10003476-1718098200-1718105400@midwestfamilyconnections.ca
SUMMARY:FREE Indoor Playground Drop-in play!
DESCRIPTION:Open to all families and their babies\, toddlers & preschoolers!\nStaff are on site to answer any questions you may have about development\, parenting and community resources.
URL:https://midwestfamilyconnections.ca/event/free-indoor-playground-drop-in-play-25/2024-06-11/
LOCATION:Midwest Family Connections\, Suite 103 4910-50 Street\, Lloydminster\, Saskatchewan\, S9V 0Y5\, Canada
CATEGORIES:The First Five Years
ATTACH;FMTTYPE=image/jpeg:https://midwestfamilyconnections.ca/wp-content/uploads/2024/05/IMG_1430-scaled.jpg
END:VEVENT
BEGIN:VEVENT
DTSTART;TZID=America/Edmonton:20240611T110000
DTEND;TZID=America/Edmonton:20240611T113000
DTSTAMP:20260423T172735
CREATED:20240531T164630Z
LAST-MODIFIED:20240531T164630Z
UID:10003510-1718103600-1718105400@midwestfamilyconnections.ca
SUMMARY:Metis Like Me - Author Reading
DESCRIPTION:Join us during our Indoor Playground drop-in time to hear local author\, Tasha Hilderman\, read her book “Metis Like Me”. Crafts and activities planned as well!
URL:https://midwestfamilyconnections.ca/event/metis-like-me-author-reading/
LOCATION:Midwest Family Connections\, Suite 103 4910-50 Street\, Lloydminster\, Saskatchewan\, S9V 0Y5\, Canada
CATEGORIES:The First Five Years
ATTACH;FMTTYPE=image/jpeg:https://midwestfamilyconnections.ca/wp-content/uploads/2024/05/Metis-Like-Me-Storytime.jpg
END:VEVENT
BEGIN:VEVENT
DTSTART;TZID=America/Edmonton:20240611T130000
DTEND;TZID=America/Edmonton:20240611T150000
DTSTAMP:20260423T172735
CREATED:20240425T190318Z
LAST-MODIFIED:20240425T190318Z
UID:10003445-1718110800-1718118000@midwestfamilyconnections.ca
SUMMARY:Nobody's Perfect
DESCRIPTION:During these six sessions\, parents have the opportunity to talk about real life parenting experiences\, problem solve with a trained facilitator & discover ways of positive parenting. \nInformation focuses on children birth to 5 years of age. \nContact MFC to register.
URL:https://midwestfamilyconnections.ca/event/nobodys-perfect/2024-06-11/
LOCATION:Midwest Family Connections\, Suite 103 4910-50 Street\, Lloydminster\, Saskatchewan\, S9V 0Y5\, Canada
CATEGORIES:The First Five Years
ATTACH;FMTTYPE=image/png:https://midwestfamilyconnections.ca/wp-content/uploads/2024/04/Nobodys-Perfect-Spring-2024.png
END:VEVENT
BEGIN:VEVENT
DTSTART;TZID=America/Edmonton:20240612T090000
DTEND;TZID=America/Edmonton:20240612T113000
DTSTAMP:20260423T172735
CREATED:20240531T152119Z
LAST-MODIFIED:20240531T152119Z
UID:10003480-1718182800-1718191800@midwestfamilyconnections.ca
SUMMARY:FREE Indoor Playground Drop-in play!
DESCRIPTION:Open to all families and their babies\, toddlers & preschoolers!  \nStaff are on site to answer any questions you may have about development\, parenting and community resources.
URL:https://midwestfamilyconnections.ca/event/free-indoor-playground-drop-in-play-26/2024-06-12/
LOCATION:Midwest Family Connections\, Suite 103 4910-50 Street\, Lloydminster\, Saskatchewan\, S9V 0Y5\, Canada
CATEGORIES:The First Five Years
ATTACH;FMTTYPE=image/jpeg:https://midwestfamilyconnections.ca/wp-content/uploads/2024/05/IMG_1332-scaled.jpg
END:VEVENT
BEGIN:VEVENT
DTSTART;TZID=America/Edmonton:20240612T130000
DTEND;TZID=America/Edmonton:20240612T150000
DTSTAMP:20260423T172735
CREATED:20240531T152315Z
LAST-MODIFIED:20240531T152315Z
UID:10003484-1718197200-1718204400@midwestfamilyconnections.ca
SUMMARY:FREE Indoor Playground Drop-in play!
DESCRIPTION:Open to all families and their babies\, toddlers & preschoolers!  \nStaff are on site to answer any questions you may have about development\, parenting and community resources.
URL:https://midwestfamilyconnections.ca/event/free-indoor-playground-drop-in-play-27/2024-06-12/
LOCATION:Midwest Family Connections\, Suite 103 4910-50 Street\, Lloydminster\, Saskatchewan\, S9V 0Y5\, Canada
CATEGORIES:The First Five Years
ATTACH;FMTTYPE=image/jpeg:https://midwestfamilyconnections.ca/wp-content/uploads/2024/05/IMG_1433-scaled.jpg
END:VEVENT
BEGIN:VEVENT
DTSTART;TZID=America/Edmonton:20240612T180000
DTEND;TZID=America/Edmonton:20240612T193000
DTSTAMP:20260423T172735
CREATED:20240216T202618Z
LAST-MODIFIED:20240229T192458Z
UID:10003324-1718215200-1718220600@midwestfamilyconnections.ca
SUMMARY:Super Dads Super Kids
DESCRIPTION:A monthly program for dads and kids to connect & play in the Indoor Playground! Please contact MFC to register.
URL:https://midwestfamilyconnections.ca/event/super-dads-super-kids/2024-06-12/
LOCATION:Midwest Family Connections\, Suite 103 4910-50 Street\, Lloydminster\, Saskatchewan\, S9V 0Y5\, Canada
CATEGORIES:The First Five Years
ATTACH;FMTTYPE=image/jpeg:https://midwestfamilyconnections.ca/wp-content/uploads/2024/02/SUPER-DADS-super-kids-1-1-scaled.jpg
END:VEVENT
END:VCALENDAR