BEGIN:VCALENDAR
VERSION:2.0
PRODID:-//MFC - ECPv6.15.13.1//NONSGML v1.0//EN
CALSCALE:GREGORIAN
METHOD:PUBLISH
X-ORIGINAL-URL:https://midwestfamilyconnections.ca
X-WR-CALDESC:Events for MFC
REFRESH-INTERVAL;VALUE=DURATION:PT1H
X-Robots-Tag:noindex
X-PUBLISHED-TTL:PT1H
BEGIN:VTIMEZONE
TZID:America/Edmonton
BEGIN:DAYLIGHT
TZOFFSETFROM:-0700
TZOFFSETTO:-0600
TZNAME:MDT
DTSTART:20230312T090000
END:DAYLIGHT
BEGIN:STANDARD
TZOFFSETFROM:-0600
TZOFFSETTO:-0700
TZNAME:MST
DTSTART:20231105T080000
END:STANDARD
BEGIN:DAYLIGHT
TZOFFSETFROM:-0700
TZOFFSETTO:-0600
TZNAME:MDT
DTSTART:20240310T090000
END:DAYLIGHT
BEGIN:STANDARD
TZOFFSETFROM:-0600
TZOFFSETTO:-0700
TZNAME:MST
DTSTART:20241103T080000
END:STANDARD
BEGIN:DAYLIGHT
TZOFFSETFROM:-0700
TZOFFSETTO:-0600
TZNAME:MDT
DTSTART:20250309T090000
END:DAYLIGHT
BEGIN:STANDARD
TZOFFSETFROM:-0600
TZOFFSETTO:-0700
TZNAME:MST
DTSTART:20251102T080000
END:STANDARD
END:VTIMEZONE
BEGIN:VEVENT
DTSTART;TZID=America/Edmonton:20240509T173000
DTEND;TZID=America/Edmonton:20240509T193000
DTSTAMP:20260423T161434
CREATED:20240425T174119Z
LAST-MODIFIED:20240425T174119Z
UID:10003413-1715275800-1715283000@midwestfamilyconnections.ca
SUMMARY:Messy Madness & FREE Indoor Playground Drop-in play!
DESCRIPTION:Open to all families and their babies\, toddlers & preschoolers!
URL:https://midwestfamilyconnections.ca/event/messy-madness-free-indoor-playground-drop-in-play/2024-05-09/
LOCATION:Midwest Family Connections\, Suite 103 4910-50 Street\, Lloydminster\, Saskatchewan\, S9V 0Y5\, Canada
CATEGORIES:The First Five Years
ATTACH;FMTTYPE=image/png:https://midwestfamilyconnections.ca/wp-content/uploads/2024/04/Messy-Madness-May-2024.png
END:VEVENT
BEGIN:VEVENT
DTSTART;TZID=America/Edmonton:20240510T093000
DTEND;TZID=America/Edmonton:20240510T113000
DTSTAMP:20260423T161434
CREATED:20240425T174252Z
LAST-MODIFIED:20240425T174252Z
UID:10003418-1715333400-1715340600@midwestfamilyconnections.ca
SUMMARY:FREE Indoor Playground Drop-in play!
DESCRIPTION:Open to all families and their babies\, toddlers & preschoolers!
URL:https://midwestfamilyconnections.ca/event/free-indoor-playground-drop-in-play-21/2024-05-10/
LOCATION:Midwest Family Connections\, Suite 103 4910-50 Street\, Lloydminster\, Saskatchewan\, S9V 0Y5\, Canada
CATEGORIES:The First Five Years
ATTACH;FMTTYPE=image/jpeg:https://midwestfamilyconnections.ca/wp-content/uploads/2024/04/IMG_1435-scaled.jpg
END:VEVENT
BEGIN:VEVENT
DTSTART;TZID=America/Edmonton:20240510T130000
DTEND;TZID=America/Edmonton:20240510T143000
DTSTAMP:20260423T161434
CREATED:20240425T210512Z
LAST-MODIFIED:20240425T210512Z
UID:10003461-1715346000-1715351400@midwestfamilyconnections.ca
SUMMARY:Neilburg - Family Play & Learn
DESCRIPTION:Freeplay & literacy activities\, parenting information & more! Open to families and their babies\, toddlers & preschoolers.
URL:https://midwestfamilyconnections.ca/event/neilburg-family-play-learn-3/
LOCATION:Neilburg Library\, 108 Centre Street\, Neilburg\, Saskatchewan\, Canada
CATEGORIES:The First Five Years
ATTACH;FMTTYPE=image/png:https://midwestfamilyconnections.ca/wp-content/uploads/2024/04/May-2024-programs-1.png
END:VEVENT
BEGIN:VEVENT
DTSTART;TZID=America/Edmonton:20240510T130000
DTEND;TZID=America/Edmonton:20240510T150000
DTSTAMP:20260423T161434
CREATED:20240425T174829Z
LAST-MODIFIED:20240425T174829Z
UID:10003423-1715346000-1715353200@midwestfamilyconnections.ca
SUMMARY:Crafternoon & FREE Indoor Playground Drop-in play!
DESCRIPTION:Open to all families and their babies\, toddlers & preschoolers!
URL:https://midwestfamilyconnections.ca/event/crafternoon-free-indoor-playground-drop-in-play-2/2024-05-10/
LOCATION:Midwest Family Connections\, Suite 103 4910-50 Street\, Lloydminster\, Saskatchewan\, S9V 0Y5\, Canada
CATEGORIES:The First Five Years
ATTACH;FMTTYPE=image/png:https://midwestfamilyconnections.ca/wp-content/uploads/2024/04/Crafternoon-May-2024.png
END:VEVENT
BEGIN:VEVENT
DTSTART;TZID=America/Edmonton:20240511T110000
DTEND;TZID=America/Edmonton:20240511T130000
DTSTAMP:20260423T161434
CREATED:20240425T175955Z
LAST-MODIFIED:20240425T175955Z
UID:10003430-1715425200-1715432400@midwestfamilyconnections.ca
SUMMARY:Magnificent Moms!
DESCRIPTION:Join us at the LloydMall for activities\, snacks & giveaways! FREE and open to all families and their babies\, toddlers & preschoolers! \nWe will be located across from Shoppers Drugmart.
URL:https://midwestfamilyconnections.ca/event/magnificent-moms/
LOCATION:Lloyd Mall
CATEGORIES:The First Five Years
ATTACH;FMTTYPE=image/png:https://midwestfamilyconnections.ca/wp-content/uploads/2024/04/Magnificent-Moms.png
END:VEVENT
BEGIN:VEVENT
DTSTART;TZID=America/Edmonton:20240514T093000
DTEND;TZID=America/Edmonton:20240514T113000
DTSTAMP:20260423T161434
CREATED:20240425T172517Z
LAST-MODIFIED:20240425T172517Z
UID:10003394-1715679000-1715686200@midwestfamilyconnections.ca
SUMMARY:FREE Indoor Playground Drop-in play!
DESCRIPTION:The Indoor Playground is open to all families and their babies\, toddlers & preschoolers!
URL:https://midwestfamilyconnections.ca/event/free-indoor-playground-drop-in-play-17/2024-05-14/
LOCATION:Midwest Family Connections\, Suite 103 4910-50 Street\, Lloydminster\, Saskatchewan\, S9V 0Y5\, Canada
CATEGORIES:The First Five Years
ATTACH;FMTTYPE=image/png:https://midwestfamilyconnections.ca/wp-content/uploads/2024/04/April-2024-IP-Hours-2.png
END:VEVENT
BEGIN:VEVENT
DTSTART;TZID=America/Edmonton:20240514T100000
DTEND;TZID=America/Edmonton:20240514T133000
DTSTAMP:20260423T161434
CREATED:20240425T191244Z
LAST-MODIFIED:20240425T191244Z
UID:10003454-1715680800-1715693400@midwestfamilyconnections.ca
SUMMARY:Dewberry Happy Hearts & Kind Minds
DESCRIPTION:Social Emotional Play for families & children up to 6 years of age!
URL:https://midwestfamilyconnections.ca/event/dewberry-happy-hearts-kind-minds/2024-05-14/
LOCATION:Dewberry School\, 75 First Avenue\, Dewberry\, Alberta
CATEGORIES:The First Five Years
ATTACH;FMTTYPE=image/png:https://midwestfamilyconnections.ca/wp-content/uploads/2024/04/AB-Outreach-May-2024.png
END:VEVENT
BEGIN:VEVENT
DTSTART;TZID=America/Edmonton:20240515T093000
DTEND;TZID=America/Edmonton:20240515T113000
DTSTAMP:20260423T161434
CREATED:20240425T173558Z
LAST-MODIFIED:20240425T173558Z
UID:10003399-1715765400-1715772600@midwestfamilyconnections.ca
SUMMARY:FREE Indoor Playground Drop-in play!
DESCRIPTION:Open to all families and their babies\, toddlers & preschoolers!
URL:https://midwestfamilyconnections.ca/event/free-indoor-playground-drop-in-play-18/2024-05-15/
LOCATION:Midwest Family Connections\, Suite 103 4910-50 Street\, Lloydminster\, Saskatchewan\, S9V 0Y5\, Canada
CATEGORIES:The First Five Years
ATTACH;FMTTYPE=image/jpeg:https://midwestfamilyconnections.ca/wp-content/uploads/2024/04/IMG_1317-scaled.jpg
END:VEVENT
BEGIN:VEVENT
DTSTART;TZID=America/Edmonton:20240515T100000
DTEND;TZID=America/Edmonton:20240515T113000
DTSTAMP:20260423T161434
CREATED:20240425T210633Z
LAST-MODIFIED:20240425T210633Z
UID:10003462-1715767200-1715772600@midwestfamilyconnections.ca
SUMMARY:Paradise Hill - Family Play & Learn
DESCRIPTION:Freeplay & literacy activities\, parenting information & more! Open to families and their babies\, toddlers & preschoolers.
URL:https://midwestfamilyconnections.ca/event/paradise-hill-family-play-learn-6/
LOCATION:Paradise Hill Community Centre\, 102-3 Avenue\, Paradise Hill\, SK
CATEGORIES:The First Five Years
ATTACH;FMTTYPE=image/png:https://midwestfamilyconnections.ca/wp-content/uploads/2024/04/May-2024-programs-2.png
END:VEVENT
BEGIN:VEVENT
DTSTART;TZID=America/Edmonton:20240515T130000
DTEND;TZID=America/Edmonton:20240515T150000
DTSTAMP:20260423T161434
CREATED:20240425T173731Z
LAST-MODIFIED:20240425T173731Z
UID:10003404-1715778000-1715785200@midwestfamilyconnections.ca
SUMMARY:FREE Indoor Playground Drop-in play!
DESCRIPTION:Open to all families and their babies\, toddlers & preschoolers!
URL:https://midwestfamilyconnections.ca/event/free-indoor-playground-drop-in-play-19/2024-05-15/
LOCATION:Midwest Family Connections\, Suite 103 4910-50 Street\, Lloydminster\, Saskatchewan\, S9V 0Y5\, Canada
CATEGORIES:The First Five Years
ATTACH;FMTTYPE=image/jpeg:https://midwestfamilyconnections.ca/wp-content/uploads/2024/04/IMG_1389-scaled.jpg
END:VEVENT
BEGIN:VEVENT
DTSTART;TZID=America/Edmonton:20240516T130000
DTEND;TZID=America/Edmonton:20240516T150000
DTSTAMP:20260423T161434
CREATED:20240425T173927Z
LAST-MODIFIED:20240425T173927Z
UID:10003409-1715864400-1715871600@midwestfamilyconnections.ca
SUMMARY:FREE Indoor Playground Drop-in play!
DESCRIPTION:Open to all families and their babies\, toddlers & preschoolers!
URL:https://midwestfamilyconnections.ca/event/free-indoor-playground-drop-in-play-20/2024-05-16/
LOCATION:Midwest Family Connections\, Suite 103 4910-50 Street\, Lloydminster\, Saskatchewan\, S9V 0Y5\, Canada
CATEGORIES:The First Five Years
ATTACH;FMTTYPE=image/jpeg:https://midwestfamilyconnections.ca/wp-content/uploads/2024/04/IMG_1323-scaled.jpg
END:VEVENT
BEGIN:VEVENT
DTSTART;TZID=America/Edmonton:20240516T173000
DTEND;TZID=America/Edmonton:20240516T193000
DTSTAMP:20260423T161434
CREATED:20240425T174119Z
LAST-MODIFIED:20240425T174119Z
UID:10003414-1715880600-1715887800@midwestfamilyconnections.ca
SUMMARY:Messy Madness & FREE Indoor Playground Drop-in play!
DESCRIPTION:Open to all families and their babies\, toddlers & preschoolers!
URL:https://midwestfamilyconnections.ca/event/messy-madness-free-indoor-playground-drop-in-play/2024-05-16/
LOCATION:Midwest Family Connections\, Suite 103 4910-50 Street\, Lloydminster\, Saskatchewan\, S9V 0Y5\, Canada
CATEGORIES:The First Five Years
ATTACH;FMTTYPE=image/png:https://midwestfamilyconnections.ca/wp-content/uploads/2024/04/Messy-Madness-May-2024.png
END:VEVENT
BEGIN:VEVENT
DTSTART;TZID=America/Edmonton:20240517T093000
DTEND;TZID=America/Edmonton:20240517T113000
DTSTAMP:20260423T161434
CREATED:20240425T174252Z
LAST-MODIFIED:20240425T174252Z
UID:10003419-1715938200-1715945400@midwestfamilyconnections.ca
SUMMARY:FREE Indoor Playground Drop-in play!
DESCRIPTION:Open to all families and their babies\, toddlers & preschoolers!
URL:https://midwestfamilyconnections.ca/event/free-indoor-playground-drop-in-play-21/2024-05-17/
LOCATION:Midwest Family Connections\, Suite 103 4910-50 Street\, Lloydminster\, Saskatchewan\, S9V 0Y5\, Canada
CATEGORIES:The First Five Years
ATTACH;FMTTYPE=image/jpeg:https://midwestfamilyconnections.ca/wp-content/uploads/2024/04/IMG_1435-scaled.jpg
END:VEVENT
BEGIN:VEVENT
DTSTART;TZID=America/Edmonton:20240517T130000
DTEND;TZID=America/Edmonton:20240517T150000
DTSTAMP:20260423T161434
CREATED:20240425T174829Z
LAST-MODIFIED:20240425T174829Z
UID:10003424-1715950800-1715958000@midwestfamilyconnections.ca
SUMMARY:Crafternoon & FREE Indoor Playground Drop-in play!
DESCRIPTION:Open to all families and their babies\, toddlers & preschoolers!
URL:https://midwestfamilyconnections.ca/event/crafternoon-free-indoor-playground-drop-in-play-2/2024-05-17/
LOCATION:Midwest Family Connections\, Suite 103 4910-50 Street\, Lloydminster\, Saskatchewan\, S9V 0Y5\, Canada
CATEGORIES:The First Five Years
ATTACH;FMTTYPE=image/png:https://midwestfamilyconnections.ca/wp-content/uploads/2024/04/Crafternoon-May-2024.png
END:VEVENT
BEGIN:VEVENT
DTSTART;TZID=America/Edmonton:20240521T093000
DTEND;TZID=America/Edmonton:20240521T113000
DTSTAMP:20260423T161434
CREATED:20240425T172517Z
LAST-MODIFIED:20240425T172517Z
UID:10003395-1716283800-1716291000@midwestfamilyconnections.ca
SUMMARY:FREE Indoor Playground Drop-in play!
DESCRIPTION:The Indoor Playground is open to all families and their babies\, toddlers & preschoolers!
URL:https://midwestfamilyconnections.ca/event/free-indoor-playground-drop-in-play-17/2024-05-21/
LOCATION:Midwest Family Connections\, Suite 103 4910-50 Street\, Lloydminster\, Saskatchewan\, S9V 0Y5\, Canada
CATEGORIES:The First Five Years
ATTACH;FMTTYPE=image/png:https://midwestfamilyconnections.ca/wp-content/uploads/2024/04/April-2024-IP-Hours-2.png
END:VEVENT
BEGIN:VEVENT
DTSTART;TZID=America/Edmonton:20240521T100000
DTEND;TZID=America/Edmonton:20240521T133000
DTSTAMP:20260423T161434
CREATED:20240425T191244Z
LAST-MODIFIED:20240425T191244Z
UID:10003455-1716285600-1716298200@midwestfamilyconnections.ca
SUMMARY:Dewberry Happy Hearts & Kind Minds
DESCRIPTION:Social Emotional Play for families & children up to 6 years of age!
URL:https://midwestfamilyconnections.ca/event/dewberry-happy-hearts-kind-minds/2024-05-21/
LOCATION:Dewberry School\, 75 First Avenue\, Dewberry\, Alberta
CATEGORIES:The First Five Years
ATTACH;FMTTYPE=image/png:https://midwestfamilyconnections.ca/wp-content/uploads/2024/04/AB-Outreach-May-2024.png
END:VEVENT
BEGIN:VEVENT
DTSTART;TZID=America/Edmonton:20240521T130000
DTEND;TZID=America/Edmonton:20240521T150000
DTSTAMP:20260423T161434
CREATED:20240425T190318Z
LAST-MODIFIED:20240425T190318Z
UID:10003442-1716296400-1716303600@midwestfamilyconnections.ca
SUMMARY:Nobody's Perfect
DESCRIPTION:During these six sessions\, parents have the opportunity to talk about real life parenting experiences\, problem solve with a trained facilitator & discover ways of positive parenting. \nInformation focuses on children birth to 5 years of age. \nContact MFC to register.
URL:https://midwestfamilyconnections.ca/event/nobodys-perfect/2024-05-21/
LOCATION:Midwest Family Connections\, Suite 103 4910-50 Street\, Lloydminster\, Saskatchewan\, S9V 0Y5\, Canada
CATEGORIES:The First Five Years
ATTACH;FMTTYPE=image/png:https://midwestfamilyconnections.ca/wp-content/uploads/2024/04/Nobodys-Perfect-Spring-2024.png
END:VEVENT
BEGIN:VEVENT
DTSTART;TZID=America/Edmonton:20240522T093000
DTEND;TZID=America/Edmonton:20240522T113000
DTSTAMP:20260423T161434
CREATED:20240425T173558Z
LAST-MODIFIED:20240425T173558Z
UID:10003400-1716370200-1716377400@midwestfamilyconnections.ca
SUMMARY:FREE Indoor Playground Drop-in play!
DESCRIPTION:Open to all families and their babies\, toddlers & preschoolers!
URL:https://midwestfamilyconnections.ca/event/free-indoor-playground-drop-in-play-18/2024-05-22/
LOCATION:Midwest Family Connections\, Suite 103 4910-50 Street\, Lloydminster\, Saskatchewan\, S9V 0Y5\, Canada
CATEGORIES:The First Five Years
ATTACH;FMTTYPE=image/jpeg:https://midwestfamilyconnections.ca/wp-content/uploads/2024/04/IMG_1317-scaled.jpg
END:VEVENT
BEGIN:VEVENT
DTSTART;TZID=America/Edmonton:20240522T100000
DTEND;TZID=America/Edmonton:20240522T113000
DTSTAMP:20260423T161434
CREATED:20240425T210749Z
LAST-MODIFIED:20240425T210749Z
UID:10003463-1716372000-1716377400@midwestfamilyconnections.ca
SUMMARY:Hillmond- Family Play & Learn
DESCRIPTION:Freeplay & literacy activities\, parenting information & more! Open to families and their babies\, toddlers & preschoolers.
URL:https://midwestfamilyconnections.ca/event/hillmond-family-play-learn-3/
LOCATION:Hillmond Memorial Hall\, Hillmond\, Saskatchewan\, Canada
CATEGORIES:The First Five Years
ATTACH;FMTTYPE=image/png:https://midwestfamilyconnections.ca/wp-content/uploads/2024/04/May-2024-programs-3.png
END:VEVENT
BEGIN:VEVENT
DTSTART;TZID=America/Edmonton:20240522T130000
DTEND;TZID=America/Edmonton:20240522T150000
DTSTAMP:20260423T161434
CREATED:20240425T173731Z
LAST-MODIFIED:20240425T173731Z
UID:10003405-1716382800-1716390000@midwestfamilyconnections.ca
SUMMARY:FREE Indoor Playground Drop-in play!
DESCRIPTION:Open to all families and their babies\, toddlers & preschoolers!
URL:https://midwestfamilyconnections.ca/event/free-indoor-playground-drop-in-play-19/2024-05-22/
LOCATION:Midwest Family Connections\, Suite 103 4910-50 Street\, Lloydminster\, Saskatchewan\, S9V 0Y5\, Canada
CATEGORIES:The First Five Years
ATTACH;FMTTYPE=image/jpeg:https://midwestfamilyconnections.ca/wp-content/uploads/2024/04/IMG_1389-scaled.jpg
END:VEVENT
BEGIN:VEVENT
DTSTART;TZID=America/Edmonton:20240523T130000
DTEND;TZID=America/Edmonton:20240523T150000
DTSTAMP:20260423T161434
CREATED:20240425T173927Z
LAST-MODIFIED:20240425T173927Z
UID:10003410-1716469200-1716476400@midwestfamilyconnections.ca
SUMMARY:FREE Indoor Playground Drop-in play!
DESCRIPTION:Open to all families and their babies\, toddlers & preschoolers!
URL:https://midwestfamilyconnections.ca/event/free-indoor-playground-drop-in-play-20/2024-05-23/
LOCATION:Midwest Family Connections\, Suite 103 4910-50 Street\, Lloydminster\, Saskatchewan\, S9V 0Y5\, Canada
CATEGORIES:The First Five Years
ATTACH;FMTTYPE=image/jpeg:https://midwestfamilyconnections.ca/wp-content/uploads/2024/04/IMG_1323-scaled.jpg
END:VEVENT
BEGIN:VEVENT
DTSTART;TZID=America/Edmonton:20240523T173000
DTEND;TZID=America/Edmonton:20240523T193000
DTSTAMP:20260423T161434
CREATED:20240425T174119Z
LAST-MODIFIED:20240425T174119Z
UID:10003415-1716485400-1716492600@midwestfamilyconnections.ca
SUMMARY:Messy Madness & FREE Indoor Playground Drop-in play!
DESCRIPTION:Open to all families and their babies\, toddlers & preschoolers!
URL:https://midwestfamilyconnections.ca/event/messy-madness-free-indoor-playground-drop-in-play/2024-05-23/
LOCATION:Midwest Family Connections\, Suite 103 4910-50 Street\, Lloydminster\, Saskatchewan\, S9V 0Y5\, Canada
CATEGORIES:The First Five Years
ATTACH;FMTTYPE=image/png:https://midwestfamilyconnections.ca/wp-content/uploads/2024/04/Messy-Madness-May-2024.png
END:VEVENT
BEGIN:VEVENT
DTSTART;TZID=America/Edmonton:20240524T093000
DTEND;TZID=America/Edmonton:20240524T113000
DTSTAMP:20260423T161434
CREATED:20240425T174252Z
LAST-MODIFIED:20240425T174252Z
UID:10003420-1716543000-1716550200@midwestfamilyconnections.ca
SUMMARY:FREE Indoor Playground Drop-in play!
DESCRIPTION:Open to all families and their babies\, toddlers & preschoolers!
URL:https://midwestfamilyconnections.ca/event/free-indoor-playground-drop-in-play-21/2024-05-24/
LOCATION:Midwest Family Connections\, Suite 103 4910-50 Street\, Lloydminster\, Saskatchewan\, S9V 0Y5\, Canada
CATEGORIES:The First Five Years
ATTACH;FMTTYPE=image/jpeg:https://midwestfamilyconnections.ca/wp-content/uploads/2024/04/IMG_1435-scaled.jpg
END:VEVENT
BEGIN:VEVENT
DTSTART;TZID=America/Edmonton:20240524T130000
DTEND;TZID=America/Edmonton:20240524T150000
DTSTAMP:20260423T161434
CREATED:20240425T174829Z
LAST-MODIFIED:20240425T174829Z
UID:10003425-1716555600-1716562800@midwestfamilyconnections.ca
SUMMARY:Crafternoon & FREE Indoor Playground Drop-in play!
DESCRIPTION:Open to all families and their babies\, toddlers & preschoolers!
URL:https://midwestfamilyconnections.ca/event/crafternoon-free-indoor-playground-drop-in-play-2/2024-05-24/
LOCATION:Midwest Family Connections\, Suite 103 4910-50 Street\, Lloydminster\, Saskatchewan\, S9V 0Y5\, Canada
CATEGORIES:The First Five Years
ATTACH;FMTTYPE=image/png:https://midwestfamilyconnections.ca/wp-content/uploads/2024/04/Crafternoon-May-2024.png
END:VEVENT
BEGIN:VEVENT
DTSTART;TZID=America/Edmonton:20240525T093000
DTEND;TZID=America/Edmonton:20240525T133000
DTSTAMP:20260423T161434
CREATED:20240425T175123Z
LAST-MODIFIED:20240425T175123Z
UID:10003428-1716629400-1716643800@midwestfamilyconnections.ca
SUMMARY:FREE Indoor Playground Drop-in play!
DESCRIPTION:Open to all families and their babies\, toddlers & preschoolers!
URL:https://midwestfamilyconnections.ca/event/free-indoor-playground-drop-in-play-23/
LOCATION:Midwest Family Connections\, Suite 103 4910-50 Street\, Lloydminster\, Saskatchewan\, S9V 0Y5\, Canada
CATEGORIES:The First Five Years
ATTACH;FMTTYPE=image/png:https://midwestfamilyconnections.ca/wp-content/uploads/2024/04/May-2024-IP-hours-1.png
END:VEVENT
BEGIN:VEVENT
DTSTART;TZID=America/Edmonton:20240528T093000
DTEND;TZID=America/Edmonton:20240528T113000
DTSTAMP:20260423T161434
CREATED:20240425T172517Z
LAST-MODIFIED:20240425T172517Z
UID:10003396-1716888600-1716895800@midwestfamilyconnections.ca
SUMMARY:FREE Indoor Playground Drop-in play!
DESCRIPTION:The Indoor Playground is open to all families and their babies\, toddlers & preschoolers!
URL:https://midwestfamilyconnections.ca/event/free-indoor-playground-drop-in-play-17/2024-05-28/
LOCATION:Midwest Family Connections\, Suite 103 4910-50 Street\, Lloydminster\, Saskatchewan\, S9V 0Y5\, Canada
CATEGORIES:The First Five Years
ATTACH;FMTTYPE=image/png:https://midwestfamilyconnections.ca/wp-content/uploads/2024/04/April-2024-IP-Hours-2.png
END:VEVENT
BEGIN:VEVENT
DTSTART;TZID=America/Edmonton:20240528T100000
DTEND;TZID=America/Edmonton:20240528T133000
DTSTAMP:20260423T161434
CREATED:20240425T191244Z
LAST-MODIFIED:20240425T191244Z
UID:10003456-1716890400-1716903000@midwestfamilyconnections.ca
SUMMARY:Dewberry Happy Hearts & Kind Minds
DESCRIPTION:Social Emotional Play for families & children up to 6 years of age!
URL:https://midwestfamilyconnections.ca/event/dewberry-happy-hearts-kind-minds/2024-05-28/
LOCATION:Dewberry School\, 75 First Avenue\, Dewberry\, Alberta
CATEGORIES:The First Five Years
ATTACH;FMTTYPE=image/png:https://midwestfamilyconnections.ca/wp-content/uploads/2024/04/AB-Outreach-May-2024.png
END:VEVENT
BEGIN:VEVENT
DTSTART;TZID=America/Edmonton:20240528T130000
DTEND;TZID=America/Edmonton:20240528T150000
DTSTAMP:20260423T161434
CREATED:20240425T190318Z
LAST-MODIFIED:20240425T190318Z
UID:10003443-1716901200-1716908400@midwestfamilyconnections.ca
SUMMARY:Nobody's Perfect
DESCRIPTION:During these six sessions\, parents have the opportunity to talk about real life parenting experiences\, problem solve with a trained facilitator & discover ways of positive parenting. \nInformation focuses on children birth to 5 years of age. \nContact MFC to register.
URL:https://midwestfamilyconnections.ca/event/nobodys-perfect/2024-05-28/
LOCATION:Midwest Family Connections\, Suite 103 4910-50 Street\, Lloydminster\, Saskatchewan\, S9V 0Y5\, Canada
CATEGORIES:The First Five Years
ATTACH;FMTTYPE=image/png:https://midwestfamilyconnections.ca/wp-content/uploads/2024/04/Nobodys-Perfect-Spring-2024.png
END:VEVENT
BEGIN:VEVENT
DTSTART;TZID=America/Edmonton:20240529T093000
DTEND;TZID=America/Edmonton:20240529T113000
DTSTAMP:20260423T161434
CREATED:20240425T173558Z
LAST-MODIFIED:20240425T173558Z
UID:10003401-1716975000-1716982200@midwestfamilyconnections.ca
SUMMARY:FREE Indoor Playground Drop-in play!
DESCRIPTION:Open to all families and their babies\, toddlers & preschoolers!
URL:https://midwestfamilyconnections.ca/event/free-indoor-playground-drop-in-play-18/2024-05-29/
LOCATION:Midwest Family Connections\, Suite 103 4910-50 Street\, Lloydminster\, Saskatchewan\, S9V 0Y5\, Canada
CATEGORIES:The First Five Years
ATTACH;FMTTYPE=image/jpeg:https://midwestfamilyconnections.ca/wp-content/uploads/2024/04/IMG_1317-scaled.jpg
END:VEVENT
BEGIN:VEVENT
DTSTART;TZID=America/Edmonton:20240529T130000
DTEND;TZID=America/Edmonton:20240529T150000
DTSTAMP:20260423T161434
CREATED:20240425T173731Z
LAST-MODIFIED:20240425T173731Z
UID:10003406-1716987600-1716994800@midwestfamilyconnections.ca
SUMMARY:FREE Indoor Playground Drop-in play!
DESCRIPTION:Open to all families and their babies\, toddlers & preschoolers!
URL:https://midwestfamilyconnections.ca/event/free-indoor-playground-drop-in-play-19/2024-05-29/
LOCATION:Midwest Family Connections\, Suite 103 4910-50 Street\, Lloydminster\, Saskatchewan\, S9V 0Y5\, Canada
CATEGORIES:The First Five Years
ATTACH;FMTTYPE=image/jpeg:https://midwestfamilyconnections.ca/wp-content/uploads/2024/04/IMG_1389-scaled.jpg
END:VEVENT
END:VCALENDAR