BEGIN:VCALENDAR
VERSION:2.0
PRODID:-//MFC - ECPv6.15.13.1//NONSGML v1.0//EN
CALSCALE:GREGORIAN
METHOD:PUBLISH
X-WR-CALNAME:MFC
X-ORIGINAL-URL:https://midwestfamilyconnections.ca
X-WR-CALDESC:Events for MFC
REFRESH-INTERVAL;VALUE=DURATION:PT1H
X-Robots-Tag:noindex
X-PUBLISHED-TTL:PT1H
BEGIN:VTIMEZONE
TZID:America/Edmonton
BEGIN:DAYLIGHT
TZOFFSETFROM:-0700
TZOFFSETTO:-0600
TZNAME:MDT
DTSTART:20230312T090000
END:DAYLIGHT
BEGIN:STANDARD
TZOFFSETFROM:-0600
TZOFFSETTO:-0700
TZNAME:MST
DTSTART:20231105T080000
END:STANDARD
BEGIN:DAYLIGHT
TZOFFSETFROM:-0700
TZOFFSETTO:-0600
TZNAME:MDT
DTSTART:20240310T090000
END:DAYLIGHT
BEGIN:STANDARD
TZOFFSETFROM:-0600
TZOFFSETTO:-0700
TZNAME:MST
DTSTART:20241103T080000
END:STANDARD
BEGIN:DAYLIGHT
TZOFFSETFROM:-0700
TZOFFSETTO:-0600
TZNAME:MDT
DTSTART:20250309T090000
END:DAYLIGHT
BEGIN:STANDARD
TZOFFSETFROM:-0600
TZOFFSETTO:-0700
TZNAME:MST
DTSTART:20251102T080000
END:STANDARD
END:VTIMEZONE
BEGIN:VEVENT
DTSTART;TZID=America/Edmonton:20240814T100000
DTEND;TZID=America/Edmonton:20240814T113000
DTSTAMP:20260423T033900
CREATED:20240730T201851Z
LAST-MODIFIED:20240730T202038Z
UID:10003597-1723629600-1723635000@midwestfamilyconnections.ca
SUMMARY:Potty Time 101
DESCRIPTION:This inclusive\, 4 week toilet teaching group is for children of all abilities & their parents. Registration is required by calling 306-825-5911 or emailing info@midwestfamilyconnectioncs.ca   \nPlease see the poster for more details.
URL:https://midwestfamilyconnections.ca/event/potty-time-101-2/
LOCATION:Midwest Family Connections\, Suite 103 4910-50 Street\, Lloydminster\, Saskatchewan\, S9V 0Y5\, Canada
CATEGORIES:The First Five Years
ATTACH;FMTTYPE=image/jpeg:https://midwestfamilyconnections.ca/wp-content/uploads/2024/07/Potty-Time-101-Aug-2024-1.jpg
END:VEVENT
BEGIN:VEVENT
DTSTART;TZID=America/Edmonton:20240814T100000
DTEND;TZID=America/Edmonton:20240814T113000
DTSTAMP:20260423T033900
CREATED:20240730T205031Z
LAST-MODIFIED:20240730T205031Z
UID:10003607-1723629600-1723635000@midwestfamilyconnections.ca
SUMMARY:Neilburg Park Program!
DESCRIPTION:You can find us on this Wednesday morning at Village Green Park for games & activities!  Open to all families and their babies\, toddlers & preschoolers! \nStaff are on site to answer any questions you may have about development\, parenting and community resources
URL:https://midwestfamilyconnections.ca/event/neilburg-park-program-2/
LOCATION:Neilburg\, Village Green Park\, Neilburg\, Saskatchewan
CATEGORIES:The First Five Years
ATTACH;FMTTYPE=image/png:https://midwestfamilyconnections.ca/wp-content/uploads/2024/07/SK-MEL-summer-2024-1.png
END:VEVENT
BEGIN:VEVENT
DTSTART;TZID=America/Edmonton:20240814T103000
DTEND;TZID=America/Edmonton:20240814T120000
DTSTAMP:20260423T033900
CREATED:20240730T202712Z
LAST-MODIFIED:20240730T202712Z
UID:10003599-1723631400-1723636800@midwestfamilyconnections.ca
SUMMARY:In the Wild
DESCRIPTION:We are partnering with the Lloydminster Library to bring you “In the Wild”\, where we will explore a different Lloydminster park on Wednesdays mornings! \nPlease see the poster for locations each week.
URL:https://midwestfamilyconnections.ca/event/in-the-wild-2/2024-08-14/
CATEGORIES:The First Five Years
ATTACH;FMTTYPE=image/png:https://midwestfamilyconnections.ca/wp-content/uploads/2024/07/In-the-Wild-July-2024.png
END:VEVENT
BEGIN:VEVENT
DTSTART;TZID=America/Edmonton:20240814T130000
DTEND;TZID=America/Edmonton:20240814T150000
DTSTAMP:20260423T033900
CREATED:20240730T194915Z
LAST-MODIFIED:20240730T195045Z
UID:10003572-1723640400-1723647600@midwestfamilyconnections.ca
SUMMARY:FREE Indoor Playground Drop-in play!
DESCRIPTION:Open to all families and their babies\, toddlers & preschoolers!\nStaff are on site to answer any questions you may have about development\, parenting and community resources.
URL:https://midwestfamilyconnections.ca/event/free-indoor-playground-drop-in-play-36/2024-08-14/
LOCATION:Midwest Family Connections\, Suite 103 4910-50 Street\, Lloydminster\, Saskatchewan\, S9V 0Y5\, Canada
CATEGORIES:The First Five Years
ATTACH;FMTTYPE=image/jpeg:https://midwestfamilyconnections.ca/wp-content/uploads/2024/07/pig-on-airplane-scaled.jpg
END:VEVENT
BEGIN:VEVENT
DTSTART;TZID=America/Edmonton:20240815T100000
DTEND;TZID=America/Edmonton:20240815T113000
DTSTAMP:20260423T033900
CREATED:20240730T204844Z
LAST-MODIFIED:20240730T204844Z
UID:10003606-1723716000-1723721400@midwestfamilyconnections.ca
SUMMARY:Lashburn Park Program!
DESCRIPTION:You can find us on this Thursday morning at Heritage Park for games & activities!  Open to all families and their babies\, toddlers & preschoolers. \nStaff are on site to answer any questions you may have about development\, parenting and community resources
URL:https://midwestfamilyconnections.ca/event/lashburn-park-program-2/
LOCATION:Lashburn\, Heritage Park\, Lashburn\, Saskatchewan
CATEGORIES:The First Five Years
ATTACH;FMTTYPE=image/png:https://midwestfamilyconnections.ca/wp-content/uploads/2024/07/SK-MEL-summer-2024.png
END:VEVENT
BEGIN:VEVENT
DTSTART;TZID=America/Edmonton:20240815T130000
DTEND;TZID=America/Edmonton:20240815T150000
DTSTAMP:20260423T033900
CREATED:20240730T195651Z
LAST-MODIFIED:20240730T195651Z
UID:10003577-1723726800-1723734000@midwestfamilyconnections.ca
SUMMARY:FREE Indoor Playground Drop-in play!
DESCRIPTION:Open to all families and their babies\, toddlers & preschoolers!\nStaff are on site to answer any questions you may have about development\, parenting and community resources.
URL:https://midwestfamilyconnections.ca/event/free-indoor-playground-drop-in-play-37/2024-08-15/
LOCATION:Midwest Family Connections\, Suite 103 4910-50 Street\, Lloydminster\, Saskatchewan\, S9V 0Y5\, Canada
CATEGORIES:The First Five Years
ATTACH;FMTTYPE=image/jpeg:https://midwestfamilyconnections.ca/wp-content/uploads/2024/07/blocks-2-scaled.jpg
END:VEVENT
BEGIN:VEVENT
DTSTART;TZID=America/Edmonton:20240816T093000
DTEND;TZID=America/Edmonton:20240816T113000
DTSTAMP:20260423T033900
CREATED:20240730T200711Z
LAST-MODIFIED:20240730T200711Z
UID:10003589-1723800600-1723807800@midwestfamilyconnections.ca
SUMMARY:SPF3- Summer Playtime: Family Friends & Fun & Drop-in Play
DESCRIPTION:Families can explore a different theme each week with interactive play and craft opportunities! \nDrop-in Free Play runs during this time as well.
URL:https://midwestfamilyconnections.ca/event/spf3-summer-playtime-family-friends-fun-drop-in-play-2/2024-08-16/
LOCATION:Midwest Family Connections\, Suite 103 4910-50 Street\, Lloydminster\, Saskatchewan\, S9V 0Y5\, Canada
CATEGORIES:The First Five Years
ATTACH;FMTTYPE=image/png:https://midwestfamilyconnections.ca/wp-content/uploads/2024/07/SPF3-August-2024-1.png
END:VEVENT
BEGIN:VEVENT
DTSTART;TZID=America/Edmonton:20240817T093000
DTEND;TZID=America/Edmonton:20240817T133000
DTSTAMP:20260423T033900
CREATED:20240730T200217Z
LAST-MODIFIED:20240730T200217Z
UID:10003585-1723887000-1723901400@midwestfamilyconnections.ca
SUMMARY:FREE Indoor Playground Drop-in play!
DESCRIPTION:Open to all families and their babies\, toddlers & preschoolers!\nStaff are on site to answer any questions you may have about development\, parenting and community resources.
URL:https://midwestfamilyconnections.ca/event/free-indoor-playground-drop-in-play-39/2024-08-17/
LOCATION:Midwest Family Connections\, Suite 103 4910-50 Street\, Lloydminster\, Saskatchewan\, S9V 0Y5\, Canada
CATEGORIES:The First Five Years
ATTACH;FMTTYPE=image/png:https://midwestfamilyconnections.ca/wp-content/uploads/2024/07/August-2024-IP-Hours-7.png
END:VEVENT
BEGIN:VEVENT
DTSTART;TZID=America/Edmonton:20240820T093000
DTEND;TZID=America/Edmonton:20240820T113000
DTSTAMP:20260423T033900
CREATED:20240730T194531Z
LAST-MODIFIED:20240730T195421Z
UID:10003565-1724146200-1724153400@midwestfamilyconnections.ca
SUMMARY:FREE Indoor Playground Drop-in play!
DESCRIPTION:Open to all families and their babies\, toddlers & preschoolers!\nStaff are on site to answer any questions you may have about development\, parenting and community resources.
URL:https://midwestfamilyconnections.ca/event/free-indoor-playground-drop-in-play-35/2024-08-20/
LOCATION:Midwest Family Connections\, Suite 103 4910-50 Street\, Lloydminster\, Saskatchewan\, S9V 0Y5\, Canada
CATEGORIES:The First Five Years
ATTACH;FMTTYPE=image/png:https://midwestfamilyconnections.ca/wp-content/uploads/2024/07/Facebook-IP-cropped-picture.png
END:VEVENT
BEGIN:VEVENT
DTSTART;TZID=America/Edmonton:20240820T100000
DTEND;TZID=America/Edmonton:20240820T113000
DTSTAMP:20260423T033900
CREATED:20240730T205400Z
LAST-MODIFIED:20240730T205400Z
UID:10003608-1724148000-1724153400@midwestfamilyconnections.ca
SUMMARY:Maidstone Park Program!
DESCRIPTION:You can find us on this Tuesday morning at Delfrari Splash Park for games & activities!  Open to all families and their babies\, toddlers & preschoolers! \nStaff are on site to answer any questions you may have about development\, parenting and community resources.
URL:https://midwestfamilyconnections.ca/event/maidstone-park-program-2/
LOCATION:Maidstone\, Delfrari Splash Park\, Maidstone\, Saskatchewan
CATEGORIES:The First Five Years
ATTACH;FMTTYPE=image/png:https://midwestfamilyconnections.ca/wp-content/uploads/2024/07/SK-MEL-summer-2024-2.png
END:VEVENT
BEGIN:VEVENT
DTSTART;TZID=America/Edmonton:20240820T130000
DTEND;TZID=America/Edmonton:20240820T190000
DTSTAMP:20260423T033900
CREATED:20240730T200036Z
LAST-MODIFIED:20240730T200036Z
UID:10003582-1724158800-1724180400@midwestfamilyconnections.ca
SUMMARY:FREE Indoor Playground Drop-in play!
DESCRIPTION:Open to all families and their babies\, toddlers & preschoolers!\nStaff are on site to answer any questions you may have about development\, parenting and community resources.
URL:https://midwestfamilyconnections.ca/event/free-indoor-playground-drop-in-play-38/2024-08-20/
LOCATION:Midwest Family Connections\, Suite 103 4910-50 Street\, Lloydminster\, Saskatchewan\, S9V 0Y5\, Canada
CATEGORIES:The First Five Years
ATTACH;FMTTYPE=image/jpeg:https://midwestfamilyconnections.ca/wp-content/uploads/2024/07/IMG_1307-scaled.jpg
END:VEVENT
BEGIN:VEVENT
DTSTART;TZID=America/Edmonton:20240821T103000
DTEND;TZID=America/Edmonton:20240821T120000
DTSTAMP:20260423T033900
CREATED:20240730T202712Z
LAST-MODIFIED:20240730T202712Z
UID:10003600-1724236200-1724241600@midwestfamilyconnections.ca
SUMMARY:In the Wild
DESCRIPTION:We are partnering with the Lloydminster Library to bring you “In the Wild”\, where we will explore a different Lloydminster park on Wednesdays mornings! \nPlease see the poster for locations each week.
URL:https://midwestfamilyconnections.ca/event/in-the-wild-2/2024-08-21/
CATEGORIES:The First Five Years
ATTACH;FMTTYPE=image/png:https://midwestfamilyconnections.ca/wp-content/uploads/2024/07/In-the-Wild-July-2024.png
END:VEVENT
BEGIN:VEVENT
DTSTART;TZID=America/Edmonton:20240821T130000
DTEND;TZID=America/Edmonton:20240821T150000
DTSTAMP:20260423T033900
CREATED:20240730T194915Z
LAST-MODIFIED:20240730T195045Z
UID:10003573-1724245200-1724252400@midwestfamilyconnections.ca
SUMMARY:FREE Indoor Playground Drop-in play!
DESCRIPTION:Open to all families and their babies\, toddlers & preschoolers!\nStaff are on site to answer any questions you may have about development\, parenting and community resources.
URL:https://midwestfamilyconnections.ca/event/free-indoor-playground-drop-in-play-36/2024-08-21/
LOCATION:Midwest Family Connections\, Suite 103 4910-50 Street\, Lloydminster\, Saskatchewan\, S9V 0Y5\, Canada
CATEGORIES:The First Five Years
ATTACH;FMTTYPE=image/jpeg:https://midwestfamilyconnections.ca/wp-content/uploads/2024/07/pig-on-airplane-scaled.jpg
END:VEVENT
BEGIN:VEVENT
DTSTART;TZID=America/Edmonton:20240822T130000
DTEND;TZID=America/Edmonton:20240822T150000
DTSTAMP:20260423T033900
CREATED:20240730T195651Z
LAST-MODIFIED:20240730T195651Z
UID:10003578-1724331600-1724338800@midwestfamilyconnections.ca
SUMMARY:FREE Indoor Playground Drop-in play!
DESCRIPTION:Open to all families and their babies\, toddlers & preschoolers!\nStaff are on site to answer any questions you may have about development\, parenting and community resources.
URL:https://midwestfamilyconnections.ca/event/free-indoor-playground-drop-in-play-37/2024-08-22/
LOCATION:Midwest Family Connections\, Suite 103 4910-50 Street\, Lloydminster\, Saskatchewan\, S9V 0Y5\, Canada
CATEGORIES:The First Five Years
ATTACH;FMTTYPE=image/jpeg:https://midwestfamilyconnections.ca/wp-content/uploads/2024/07/blocks-2-scaled.jpg
END:VEVENT
BEGIN:VEVENT
DTSTART;TZID=America/Edmonton:20240823T093000
DTEND;TZID=America/Edmonton:20240823T113000
DTSTAMP:20260423T033900
CREATED:20240730T200711Z
LAST-MODIFIED:20240730T200711Z
UID:10003590-1724405400-1724412600@midwestfamilyconnections.ca
SUMMARY:SPF3- Summer Playtime: Family Friends & Fun & Drop-in Play
DESCRIPTION:Families can explore a different theme each week with interactive play and craft opportunities! \nDrop-in Free Play runs during this time as well.
URL:https://midwestfamilyconnections.ca/event/spf3-summer-playtime-family-friends-fun-drop-in-play-2/2024-08-23/
LOCATION:Midwest Family Connections\, Suite 103 4910-50 Street\, Lloydminster\, Saskatchewan\, S9V 0Y5\, Canada
CATEGORIES:The First Five Years
ATTACH;FMTTYPE=image/png:https://midwestfamilyconnections.ca/wp-content/uploads/2024/07/SPF3-August-2024-1.png
END:VEVENT
BEGIN:VEVENT
DTSTART;TZID=America/Edmonton:20240824T093000
DTEND;TZID=America/Edmonton:20240824T133000
DTSTAMP:20260423T033900
CREATED:20240730T200217Z
LAST-MODIFIED:20240730T200217Z
UID:10003586-1724491800-1724506200@midwestfamilyconnections.ca
SUMMARY:FREE Indoor Playground Drop-in play!
DESCRIPTION:Open to all families and their babies\, toddlers & preschoolers!\nStaff are on site to answer any questions you may have about development\, parenting and community resources.
URL:https://midwestfamilyconnections.ca/event/free-indoor-playground-drop-in-play-39/2024-08-24/
LOCATION:Midwest Family Connections\, Suite 103 4910-50 Street\, Lloydminster\, Saskatchewan\, S9V 0Y5\, Canada
CATEGORIES:The First Five Years
ATTACH;FMTTYPE=image/png:https://midwestfamilyconnections.ca/wp-content/uploads/2024/07/August-2024-IP-Hours-7.png
END:VEVENT
BEGIN:VEVENT
DTSTART;TZID=America/Edmonton:20240827T093000
DTEND;TZID=America/Edmonton:20240827T113000
DTSTAMP:20260423T033900
CREATED:20240730T194531Z
LAST-MODIFIED:20240730T195421Z
UID:10003566-1724751000-1724758200@midwestfamilyconnections.ca
SUMMARY:FREE Indoor Playground Drop-in play!
DESCRIPTION:Open to all families and their babies\, toddlers & preschoolers!\nStaff are on site to answer any questions you may have about development\, parenting and community resources.
URL:https://midwestfamilyconnections.ca/event/free-indoor-playground-drop-in-play-35/2024-08-27/
LOCATION:Midwest Family Connections\, Suite 103 4910-50 Street\, Lloydminster\, Saskatchewan\, S9V 0Y5\, Canada
CATEGORIES:The First Five Years
ATTACH;FMTTYPE=image/png:https://midwestfamilyconnections.ca/wp-content/uploads/2024/07/Facebook-IP-cropped-picture.png
END:VEVENT
BEGIN:VEVENT
DTSTART;TZID=America/Edmonton:20240827T130000
DTEND;TZID=America/Edmonton:20240827T190000
DTSTAMP:20260423T033900
CREATED:20240730T200036Z
LAST-MODIFIED:20240730T200036Z
UID:10003583-1724763600-1724785200@midwestfamilyconnections.ca
SUMMARY:FREE Indoor Playground Drop-in play!
DESCRIPTION:Open to all families and their babies\, toddlers & preschoolers!\nStaff are on site to answer any questions you may have about development\, parenting and community resources.
URL:https://midwestfamilyconnections.ca/event/free-indoor-playground-drop-in-play-38/2024-08-27/
LOCATION:Midwest Family Connections\, Suite 103 4910-50 Street\, Lloydminster\, Saskatchewan\, S9V 0Y5\, Canada
CATEGORIES:The First Five Years
ATTACH;FMTTYPE=image/jpeg:https://midwestfamilyconnections.ca/wp-content/uploads/2024/07/IMG_1307-scaled.jpg
END:VEVENT
BEGIN:VEVENT
DTSTART;TZID=America/Edmonton:20240828T103000
DTEND;TZID=America/Edmonton:20240828T120000
DTSTAMP:20260423T033900
CREATED:20240730T202712Z
LAST-MODIFIED:20240730T202712Z
UID:10003601-1724841000-1724846400@midwestfamilyconnections.ca
SUMMARY:In the Wild
DESCRIPTION:We are partnering with the Lloydminster Library to bring you “In the Wild”\, where we will explore a different Lloydminster park on Wednesdays mornings! \nPlease see the poster for locations each week.
URL:https://midwestfamilyconnections.ca/event/in-the-wild-2/2024-08-28/
CATEGORIES:The First Five Years
ATTACH;FMTTYPE=image/png:https://midwestfamilyconnections.ca/wp-content/uploads/2024/07/In-the-Wild-July-2024.png
END:VEVENT
BEGIN:VEVENT
DTSTART;TZID=America/Edmonton:20240828T130000
DTEND;TZID=America/Edmonton:20240828T150000
DTSTAMP:20260423T033900
CREATED:20240730T194915Z
LAST-MODIFIED:20240730T195045Z
UID:10003574-1724850000-1724857200@midwestfamilyconnections.ca
SUMMARY:FREE Indoor Playground Drop-in play!
DESCRIPTION:Open to all families and their babies\, toddlers & preschoolers!\nStaff are on site to answer any questions you may have about development\, parenting and community resources.
URL:https://midwestfamilyconnections.ca/event/free-indoor-playground-drop-in-play-36/2024-08-28/
LOCATION:Midwest Family Connections\, Suite 103 4910-50 Street\, Lloydminster\, Saskatchewan\, S9V 0Y5\, Canada
CATEGORIES:The First Five Years
ATTACH;FMTTYPE=image/jpeg:https://midwestfamilyconnections.ca/wp-content/uploads/2024/07/pig-on-airplane-scaled.jpg
END:VEVENT
BEGIN:VEVENT
DTSTART;TZID=America/Edmonton:20240829T130000
DTEND;TZID=America/Edmonton:20240829T150000
DTSTAMP:20260423T033900
CREATED:20240730T195651Z
LAST-MODIFIED:20240730T195651Z
UID:10003579-1724936400-1724943600@midwestfamilyconnections.ca
SUMMARY:FREE Indoor Playground Drop-in play!
DESCRIPTION:Open to all families and their babies\, toddlers & preschoolers!\nStaff are on site to answer any questions you may have about development\, parenting and community resources.
URL:https://midwestfamilyconnections.ca/event/free-indoor-playground-drop-in-play-37/2024-08-29/
LOCATION:Midwest Family Connections\, Suite 103 4910-50 Street\, Lloydminster\, Saskatchewan\, S9V 0Y5\, Canada
CATEGORIES:The First Five Years
ATTACH;FMTTYPE=image/jpeg:https://midwestfamilyconnections.ca/wp-content/uploads/2024/07/blocks-2-scaled.jpg
END:VEVENT
BEGIN:VEVENT
DTSTART;TZID=America/Edmonton:20240830T093000
DTEND;TZID=America/Edmonton:20240830T113000
DTSTAMP:20260423T033900
CREATED:20240730T200711Z
LAST-MODIFIED:20240730T200711Z
UID:10003591-1725010200-1725017400@midwestfamilyconnections.ca
SUMMARY:SPF3- Summer Playtime: Family Friends & Fun & Drop-in Play
DESCRIPTION:Families can explore a different theme each week with interactive play and craft opportunities! \nDrop-in Free Play runs during this time as well.
URL:https://midwestfamilyconnections.ca/event/spf3-summer-playtime-family-friends-fun-drop-in-play-2/2024-08-30/
LOCATION:Midwest Family Connections\, Suite 103 4910-50 Street\, Lloydminster\, Saskatchewan\, S9V 0Y5\, Canada
CATEGORIES:The First Five Years
ATTACH;FMTTYPE=image/png:https://midwestfamilyconnections.ca/wp-content/uploads/2024/07/SPF3-August-2024-1.png
END:VEVENT
BEGIN:VEVENT
DTSTART;TZID=America/Edmonton:20240903T093000
DTEND;TZID=America/Edmonton:20240903T113000
DTSTAMP:20260423T033900
CREATED:20240828T011141Z
LAST-MODIFIED:20240828T011141Z
UID:10003615-1725355800-1725363000@midwestfamilyconnections.ca
SUMMARY:FREE Indoor Playground Drop-in play!
DESCRIPTION:Open to all families and their babies\, toddlers & preschoolers!\nStaff are on site to answer any questions you may have about development\, parenting and community resources.
URL:https://midwestfamilyconnections.ca/event/free-indoor-playground-drop-in-play-40/2024-09-03/
LOCATION:Midwest Family Connections\, Suite 103 4910-50 Street\, Lloydminster\, Saskatchewan\, S9V 0Y5\, Canada
CATEGORIES:The First Five Years
ATTACH;FMTTYPE=image/jpeg:https://midwestfamilyconnections.ca/wp-content/uploads/2024/08/IMG_1314-scaled.jpg
END:VEVENT
BEGIN:VEVENT
DTSTART;TZID=America/Edmonton:20240903T130000
DTEND;TZID=America/Edmonton:20240903T190000
DTSTAMP:20260423T033900
CREATED:20240828T011312Z
LAST-MODIFIED:20240828T011312Z
UID:10003618-1725368400-1725390000@midwestfamilyconnections.ca
SUMMARY:FREE Indoor Playground Drop-in play!
DESCRIPTION:Open to all families and their babies\, toddlers & preschoolers!\nStaff are on site to answer any questions you may have about development\, parenting and community resources.
URL:https://midwestfamilyconnections.ca/event/free-indoor-playground-drop-in-play-41/2024-09-03/
LOCATION:Midwest Family Connections\, Suite 103 4910-50 Street\, Lloydminster\, Saskatchewan\, S9V 0Y5\, Canada
CATEGORIES:The First Five Years
ATTACH;FMTTYPE=image/jpeg:https://midwestfamilyconnections.ca/wp-content/uploads/2024/08/IMG_1389-scaled.jpg
END:VEVENT
BEGIN:VEVENT
DTSTART;TZID=America/Edmonton:20240904T130000
DTEND;TZID=America/Edmonton:20240904T150000
DTSTAMP:20260423T033900
CREATED:20240828T011545Z
LAST-MODIFIED:20240828T011545Z
UID:10003622-1725454800-1725462000@midwestfamilyconnections.ca
SUMMARY:FREE Indoor Playground Drop-in play!
DESCRIPTION:Open to all families and their babies\, toddlers & preschoolers!\nStaff are on site to answer any questions you may have about development\, parenting and community resources.
URL:https://midwestfamilyconnections.ca/event/free-indoor-playground-drop-in-play-42/2024-09-04/
LOCATION:Midwest Family Connections\, Suite 103 4910-50 Street\, Lloydminster\, Saskatchewan\, S9V 0Y5\, Canada
CATEGORIES:The First Five Years
ATTACH;FMTTYPE=image/jpeg:https://midwestfamilyconnections.ca/wp-content/uploads/2024/08/IMG_1432-scaled.jpg
END:VEVENT
BEGIN:VEVENT
DTSTART;TZID=America/Edmonton:20240905T130000
DTEND;TZID=America/Edmonton:20240905T150000
DTSTAMP:20260423T033900
CREATED:20240828T011945Z
LAST-MODIFIED:20240828T011945Z
UID:10003626-1725541200-1725548400@midwestfamilyconnections.ca
SUMMARY:FREE Indoor Playground Drop-in play!
DESCRIPTION:Open to all families and their babies\, toddlers & preschoolers!\nStaff are on site to answer any questions you may have about development\, parenting and community resources.
URL:https://midwestfamilyconnections.ca/event/free-indoor-playground-drop-in-play-43/2024-09-05/
LOCATION:Midwest Family Connections\, Suite 103 4910-50 Street\, Lloydminster\, Saskatchewan\, S9V 0Y5\, Canada
CATEGORIES:The First Five Years
ATTACH;FMTTYPE=image/jpeg:https://midwestfamilyconnections.ca/wp-content/uploads/2024/08/IMG_1435-scaled.jpg
END:VEVENT
BEGIN:VEVENT
DTSTART;TZID=America/Edmonton:20240906T093000
DTEND;TZID=America/Edmonton:20240906T113000
DTSTAMP:20260423T033900
CREATED:20240828T012204Z
LAST-MODIFIED:20240828T012204Z
UID:10003630-1725615000-1725622200@midwestfamilyconnections.ca
SUMMARY:FREE Indoor Playground Drop-in play!
DESCRIPTION:Open to all families and their babies\, toddlers & preschoolers!\nStaff are on site to answer any questions you may have about development\, parenting and community resources.
URL:https://midwestfamilyconnections.ca/event/free-indoor-playground-drop-in-play-44/2024-09-06/
LOCATION:Midwest Family Connections\, Suite 103 4910-50 Street\, Lloydminster\, Saskatchewan\, S9V 0Y5\, Canada
CATEGORIES:The First Five Years
ATTACH;FMTTYPE=image/jpeg:https://midwestfamilyconnections.ca/wp-content/uploads/2024/08/IMG_1410-scaled.jpg
END:VEVENT
BEGIN:VEVENT
DTSTART;TZID=America/Edmonton:20240907T093000
DTEND;TZID=America/Edmonton:20240907T133000
DTSTAMP:20260423T033900
CREATED:20240828T012511Z
LAST-MODIFIED:20240828T012745Z
UID:10003634-1725701400-1725715800@midwestfamilyconnections.ca
SUMMARY:FREE Indoor Playground Drop-in play!
DESCRIPTION:As it happens to work out\, the Indoor Playground will be open EVERY Saturday for the month the September!! \nThe Indoor Playground is open to all families and their babies\, toddlers & preschoolers!\nStaff are on site to answer any questions you may have about development\, parenting and community resources.
URL:https://midwestfamilyconnections.ca/event/free-indoor-playground-drop-in-play-45/2024-09-07/
LOCATION:Midwest Family Connections\, Suite 103 4910-50 Street\, Lloydminster\, Saskatchewan\, S9V 0Y5\, Canada
CATEGORIES:The First Five Years
ATTACH;FMTTYPE=image/jpeg:https://midwestfamilyconnections.ca/wp-content/uploads/2024/08/Sept.-IP-Hours-scaled.jpg
END:VEVENT
BEGIN:VEVENT
DTSTART;TZID=America/Edmonton:20240910T093000
DTEND;TZID=America/Edmonton:20240910T113000
DTSTAMP:20260423T033900
CREATED:20240828T011141Z
LAST-MODIFIED:20240828T011141Z
UID:10003616-1725960600-1725967800@midwestfamilyconnections.ca
SUMMARY:FREE Indoor Playground Drop-in play!
DESCRIPTION:Open to all families and their babies\, toddlers & preschoolers!\nStaff are on site to answer any questions you may have about development\, parenting and community resources.
URL:https://midwestfamilyconnections.ca/event/free-indoor-playground-drop-in-play-40/2024-09-10/
LOCATION:Midwest Family Connections\, Suite 103 4910-50 Street\, Lloydminster\, Saskatchewan\, S9V 0Y5\, Canada
CATEGORIES:The First Five Years
ATTACH;FMTTYPE=image/jpeg:https://midwestfamilyconnections.ca/wp-content/uploads/2024/08/IMG_1314-scaled.jpg
END:VEVENT
BEGIN:VEVENT
DTSTART;TZID=America/Edmonton:20240910T103000
DTEND;TZID=America/Edmonton:20240910T120000
DTSTAMP:20260423T033900
CREATED:20240828T005056Z
LAST-MODIFIED:20240828T005056Z
UID:10003611-1725964200-1725969600@midwestfamilyconnections.ca
SUMMARY:Vermilion Happy Hearts & Kind Minds
DESCRIPTION:Join fun co-regulation activities that support social & emotional development. Requires both parent/caregiver and child involvement.
URL:https://midwestfamilyconnections.ca/event/vermilion-happy-hearts-kind-minds/2024-09-10/
LOCATION:Vermilion Public Library\, 5001-49 Avenue\, Vermilion\, Alberta\, Canada
CATEGORIES:The First Five Years
ATTACH;FMTTYPE=image/jpeg:https://midwestfamilyconnections.ca/wp-content/uploads/2024/08/Vermilion-Happy-Hearts-Kind-Minds-fall-2024-scaled.jpg
END:VEVENT
END:VCALENDAR