BEGIN:VCALENDAR
VERSION:2.0
PRODID:-//MFC - ECPv6.15.13.1//NONSGML v1.0//EN
CALSCALE:GREGORIAN
METHOD:PUBLISH
X-WR-CALNAME:MFC
X-ORIGINAL-URL:https://midwestfamilyconnections.ca
X-WR-CALDESC:Events for MFC
REFRESH-INTERVAL;VALUE=DURATION:PT1H
X-Robots-Tag:noindex
X-PUBLISHED-TTL:PT1H
BEGIN:VTIMEZONE
TZID:America/Edmonton
BEGIN:DAYLIGHT
TZOFFSETFROM:-0700
TZOFFSETTO:-0600
TZNAME:MDT
DTSTART:20240310T090000
END:DAYLIGHT
BEGIN:STANDARD
TZOFFSETFROM:-0600
TZOFFSETTO:-0700
TZNAME:MST
DTSTART:20241103T080000
END:STANDARD
BEGIN:DAYLIGHT
TZOFFSETFROM:-0700
TZOFFSETTO:-0600
TZNAME:MDT
DTSTART:20250309T090000
END:DAYLIGHT
BEGIN:STANDARD
TZOFFSETFROM:-0600
TZOFFSETTO:-0700
TZNAME:MST
DTSTART:20251102T080000
END:STANDARD
BEGIN:DAYLIGHT
TZOFFSETFROM:-0700
TZOFFSETTO:-0600
TZNAME:MDT
DTSTART:20260308T090000
END:DAYLIGHT
BEGIN:STANDARD
TZOFFSETFROM:-0600
TZOFFSETTO:-0700
TZNAME:MST
DTSTART:20261101T080000
END:STANDARD
END:VTIMEZONE
BEGIN:VEVENT
DTSTART;TZID=America/Edmonton:20251107T093000
DTEND;TZID=America/Edmonton:20251107T110000
DTSTAMP:20260419T085653
CREATED:20250925T222654Z
LAST-MODIFIED:20251210T175812Z
UID:10004924-1762507800-1762513200@midwestfamilyconnections.ca
SUMMARY:Marwayne Happy Hearts & Kind Minds
DESCRIPTION:Happy Hearts & Kind Minds includes social-emotional play for families & children up to 6 years of age. \nFun activities to help children express feelings & practice social skills. Requires parent/caregiver & child interaction. The best news is\, as you engage with your children during play it helps them learn and grow! All of the free play items you know and love like dress up\, puppets\, fine motor play\, infant toys\, crafts\, circle time and more! \nJoin us at Marwayne Jubilee School for activities\, games and play! Open to all families and their babies\, toddlers & preschoolers!
URL:https://midwestfamilyconnections.ca/event/marwayne-happy-hearts-kind-minds/2025-11-07/
LOCATION:Marwayne Jubilee School\, 105 2nd Street\, Marwayne\, AB
CATEGORIES:Outreach Programs,The First Five Years
ATTACH;FMTTYPE=image/jpeg:https://midwestfamilyconnections.ca/wp-content/uploads/2025/09/Marwayne-HHKM-October-to-December-2025TEST.jpg
END:VEVENT
BEGIN:VEVENT
DTSTART;TZID=America/Edmonton:20251107T093000
DTEND;TZID=America/Edmonton:20251107T113000
DTSTAMP:20260419T085653
CREATED:20251104T231817Z
LAST-MODIFIED:20251104T231817Z
UID:10004980-1762507800-1762515000@midwestfamilyconnections.ca
SUMMARY:Indoor Playground
DESCRIPTION:FREE drop-in playtime. Open to all families and their babies\, toddlers & preschoolers! Come on out to play\, craft\, dress up\, learn\, have fun and much more with your little ones! \nOur staff are always available to answer any parenting questions\, provide activities to support your child’s development and to share more information about other valuable community resources! \nReach out the day before to arrange free transportation to and from our programs! 306-825-5911
URL:https://midwestfamilyconnections.ca/event/indoor-playground-23/2025-11-07/
LOCATION:The Indoor Playground
CATEGORIES:The First Five Years
ATTACH;FMTTYPE=image/png:https://midwestfamilyconnections.ca/wp-content/uploads/2025/11/November-IP-Hours.png
END:VEVENT
BEGIN:VEVENT
DTSTART;TZID=America/Edmonton:20251107T130000
DTEND;TZID=America/Edmonton:20251107T150000
DTSTAMP:20260419T085653
CREATED:20250724T170144Z
LAST-MODIFIED:20250724T171051Z
UID:10004748-1762520400-1762527600@midwestfamilyconnections.ca
SUMMARY:SPARK Communication
DESCRIPTION:This program is for families with a child 0-5 years of age that has a speech and language delay. Caregivers and children attend this program together. \nThis program will help caregivers:\n– Understand their child’s communication style and stage so they’re able to set goals to work towards.\n– Talk in ways that help their children understand and use language.\n-Use strategies during play and reading to boost learning and engagement \nApply today for this program! This program is for families with a child with a language delay. \nFamilies are encouraged to attend all 6 sessions. \nReach out today at 306-825-5911 or info@midwestfamilyconnections.ca
URL:https://midwestfamilyconnections.ca/event/spark-communication/2025-11-07/
LOCATION:Midwest Family Connections\, Suite 103 4910-50 Street\, Lloydminster\, Saskatchewan\, S9V 0Y5\, Canada
CATEGORIES:The First Five Years
ATTACH;FMTTYPE=image/png:https://midwestfamilyconnections.ca/wp-content/uploads/2025/07/SPARK-Communication-Sept-2025.png
END:VEVENT
END:VCALENDAR