BEGIN:VCALENDAR
VERSION:2.0
PRODID:-//MFC - ECPv6.15.13.1//NONSGML v1.0//EN
CALSCALE:GREGORIAN
METHOD:PUBLISH
X-ORIGINAL-URL:https://midwestfamilyconnections.ca
X-WR-CALDESC:Events for MFC
REFRESH-INTERVAL;VALUE=DURATION:PT1H
X-Robots-Tag:noindex
X-PUBLISHED-TTL:PT1H
BEGIN:VTIMEZONE
TZID:America/Edmonton
BEGIN:DAYLIGHT
TZOFFSETFROM:-0700
TZOFFSETTO:-0600
TZNAME:MDT
DTSTART:20240310T090000
END:DAYLIGHT
BEGIN:STANDARD
TZOFFSETFROM:-0600
TZOFFSETTO:-0700
TZNAME:MST
DTSTART:20241103T080000
END:STANDARD
BEGIN:DAYLIGHT
TZOFFSETFROM:-0700
TZOFFSETTO:-0600
TZNAME:MDT
DTSTART:20250309T090000
END:DAYLIGHT
BEGIN:STANDARD
TZOFFSETFROM:-0600
TZOFFSETTO:-0700
TZNAME:MST
DTSTART:20251102T080000
END:STANDARD
BEGIN:DAYLIGHT
TZOFFSETFROM:-0700
TZOFFSETTO:-0600
TZNAME:MDT
DTSTART:20260308T090000
END:DAYLIGHT
BEGIN:STANDARD
TZOFFSETFROM:-0600
TZOFFSETTO:-0700
TZNAME:MST
DTSTART:20261101T080000
END:STANDARD
END:VTIMEZONE
BEGIN:VEVENT
DTSTART;TZID=America/Edmonton:20251028T093000
DTEND;TZID=America/Edmonton:20251028T113000
DTSTAMP:20260419T091641
CREATED:20251003T174736Z
LAST-MODIFIED:20251003T174736Z
UID:10004933-1761643800-1761651000@midwestfamilyconnections.ca
SUMMARY:Indoor Playground
DESCRIPTION:Open to all families and their babies\, toddlers & preschoolers!\nStaff are on site to answer any questions you may have about development\, parenting and community resources. \nA great space to connect\, learn and play with your little ones and other families in the community! \nPlease reach out with 24 hours notice if you require support with free transportation to and from our drop-in play.
URL:https://midwestfamilyconnections.ca/event/indoor-playground-18/2025-10-28/
LOCATION:The Indoor Playground
CATEGORIES:The First Five Years
ATTACH;FMTTYPE=image/png:https://midwestfamilyconnections.ca/wp-content/uploads/2025/10/October-IP-Hours.png
END:VEVENT
BEGIN:VEVENT
DTSTART;TZID=America/Edmonton:20251028T093000
DTEND;TZID=America/Edmonton:20251028T113000
DTSTAMP:20260419T091641
CREATED:20251028T160649Z
LAST-MODIFIED:20251028T160649Z
UID:10004969-1761643800-1761651000@midwestfamilyconnections.ca
SUMMARY:Messy Play Day!
DESCRIPTION:Join us here at Midwest Family Connections for an opportunity to explore different sensory experiences! Pumpkin painting\, messy painting\, muddy animals and more!
URL:https://midwestfamilyconnections.ca/event/messy-play-day-3/2025-10-28/1/
LOCATION:Midwest Family Connections\, Suite 103 4910-50 Street\, Lloydminster\, Saskatchewan\, S9V 0Y5\, Canada
CATEGORIES:The First Five Years
ATTACH;FMTTYPE=image/png:https://midwestfamilyconnections.ca/wp-content/uploads/2025/10/Messy-Play-Day-October-2025.png
END:VEVENT
BEGIN:VEVENT
DTSTART;TZID=America/Edmonton:20251028T130000
DTEND;TZID=America/Edmonton:20251028T150000
DTSTAMP:20260419T091641
CREATED:20251028T160649Z
LAST-MODIFIED:20251028T160649Z
UID:10004970-1761656400-1761663600@midwestfamilyconnections.ca
SUMMARY:Messy Play Day!
DESCRIPTION:Join us here at Midwest Family Connections for an opportunity to explore different sensory experiences! Pumpkin painting\, messy painting\, muddy animals and more!
URL:https://midwestfamilyconnections.ca/event/messy-play-day-3/2025-10-28/2/
LOCATION:Midwest Family Connections\, Suite 103 4910-50 Street\, Lloydminster\, Saskatchewan\, S9V 0Y5\, Canada
CATEGORIES:The First Five Years
ATTACH;FMTTYPE=image/png:https://midwestfamilyconnections.ca/wp-content/uploads/2025/10/Messy-Play-Day-October-2025.png
END:VEVENT
BEGIN:VEVENT
DTSTART;TZID=America/Edmonton:20251028T130000
DTEND;TZID=America/Edmonton:20251028T190000
DTSTAMP:20260419T091641
CREATED:20250815T223402Z
LAST-MODIFIED:20251031T194849Z
UID:10004839-1761656400-1761678000@midwestfamilyconnections.ca
SUMMARY:Indoor Playground- Extended
DESCRIPTION:FREE drop-in playtime. Open to all families and their babies\, toddlers & preschoolers! Come on out to play\, craft\, dress up\, learn\, have fun and much more with your little ones! \nOur staff are always available to answer any parenting questions\, provide activities to support your child’s development and to share more information about other valuable community resources! \nTransportation available with 24 hours notice\, call us at 306-825-5911 and we’ll arrange the rest!
URL:https://midwestfamilyconnections.ca/event/indoor-playground-extended-6/2025-10-28/
LOCATION:The Indoor Playground
CATEGORIES:The First Five Years
ATTACH;FMTTYPE=image/jpeg:https://midwestfamilyconnections.ca/wp-content/uploads/2025/08/sam-and-allie-craft-scaled.jpg
END:VEVENT
BEGIN:VEVENT
DTSTART;TZID=America/Edmonton:20251028T180000
DTEND;TZID=America/Edmonton:20251028T200000
DTSTAMP:20260419T091641
CREATED:20251007T202920Z
LAST-MODIFIED:20251007T204241Z
UID:10004951-1761674400-1761681600@midwestfamilyconnections.ca
SUMMARY:Positive Parenting Discussion Group – Dealing with Disobedience
DESCRIPTION:It is a common parenting experience to have children struggle to do what we ask them to do. Join in on this learning opportunity to find new strategies to help teach your child to accept limits and follow instructions. \nThis Triple P Discussion Group will be held in person here at MFC. Participants will receive a workbook to track the plan they make for their family. Information shared focuses on parenting children 2-12 years of age.\nRegister by calling us at 306-825-5911 or emailing us at info@midwestfamilyconnections.ca \nSnacks provided\, transportation available. No childcare available.
URL:https://midwestfamilyconnections.ca/event/positive-parenting-discussion-group-dealing-with-disobedience-2/
LOCATION:Midwest Family Connections\, Suite 103 4910-50 Street\, Lloydminster\, Saskatchewan\, S9V 0Y5\, Canada
CATEGORIES:The First Five Years,The School Years
ATTACH;FMTTYPE=image/png:https://midwestfamilyconnections.ca/wp-content/uploads/2025/10/Triple-P-Discussion-Groups-Oct.png
END:VEVENT
END:VCALENDAR