BEGIN:VCALENDAR
VERSION:2.0
PRODID:-//MFC - ECPv6.15.13.1//NONSGML v1.0//EN
CALSCALE:GREGORIAN
METHOD:PUBLISH
X-WR-CALNAME:MFC
X-ORIGINAL-URL:https://midwestfamilyconnections.ca
X-WR-CALDESC:Events for MFC
REFRESH-INTERVAL;VALUE=DURATION:PT1H
X-Robots-Tag:noindex
X-PUBLISHED-TTL:PT1H
BEGIN:VTIMEZONE
TZID:America/Edmonton
BEGIN:DAYLIGHT
TZOFFSETFROM:-0700
TZOFFSETTO:-0600
TZNAME:MDT
DTSTART:20240310T090000
END:DAYLIGHT
BEGIN:STANDARD
TZOFFSETFROM:-0600
TZOFFSETTO:-0700
TZNAME:MST
DTSTART:20241103T080000
END:STANDARD
BEGIN:DAYLIGHT
TZOFFSETFROM:-0700
TZOFFSETTO:-0600
TZNAME:MDT
DTSTART:20250309T090000
END:DAYLIGHT
BEGIN:STANDARD
TZOFFSETFROM:-0600
TZOFFSETTO:-0700
TZNAME:MST
DTSTART:20251102T080000
END:STANDARD
BEGIN:DAYLIGHT
TZOFFSETFROM:-0700
TZOFFSETTO:-0600
TZNAME:MDT
DTSTART:20260308T090000
END:DAYLIGHT
BEGIN:STANDARD
TZOFFSETFROM:-0600
TZOFFSETTO:-0700
TZNAME:MST
DTSTART:20261101T080000
END:STANDARD
END:VTIMEZONE
BEGIN:VEVENT
DTSTART;TZID=America/Edmonton:20251023T093000
DTEND;TZID=America/Edmonton:20251023T113000
DTSTAMP:20260419T163540
CREATED:20250925T213131Z
LAST-MODIFIED:20250925T213131Z
UID:10004918-1761211800-1761219000@midwestfamilyconnections.ca
SUMMARY:Kids Have Stress Too!
DESCRIPTION:Learn about stress & it’s impact on children\, children’s reaction to stress & ways to help children cope with stressful experiences. These strategies are relevant for parenting children 2-12 years old! You’ll leave with easy to implement strategies that you can try at home! You’ll find lots of healthy snacks at our program and if you require support with transportation to and from the program we can help with that too\, just let us know while you’re registering. \nChildcare available too\, just let us know while you’re registering! \nParents are encouraged to attend both sessions.  \nPlease register by calling 306-825-5911 or info@midwestfamilyconnections.ca
URL:https://midwestfamilyconnections.ca/event/kids-have-stress-too-3/2025-10-23/
LOCATION:Midwest Family Connections\, Suite 103 4910-50 Street\, Lloydminster\, Saskatchewan\, S9V 0Y5\, Canada
CATEGORIES:The First Five Years,The School Years
ATTACH;FMTTYPE=image/png:https://midwestfamilyconnections.ca/wp-content/uploads/2025/09/KHST-October-2025.png
END:VEVENT
BEGIN:VEVENT
DTSTART;TZID=America/Edmonton:20251023T130000
DTEND;TZID=America/Edmonton:20251023T150000
DTSTAMP:20260419T163540
CREATED:20251003T175815Z
LAST-MODIFIED:20251003T175815Z
UID:10004940-1761224400-1761231600@midwestfamilyconnections.ca
SUMMARY:Indoor Playground
DESCRIPTION:Open to all families and their babies\, toddlers & preschoolers!\nStaff are on site to answer any questions you may have about development\, parenting and community resources. \nA great space to connect\, learn and play with your little ones and other families in the community! \nIf you require free support with transportation to and from a program please call the office and let us know with 24 hours notice.
URL:https://midwestfamilyconnections.ca/event/indoor-playground-19/2025-10-23/
LOCATION:The Indoor Playground
CATEGORIES:The First Five Years
ATTACH;FMTTYPE=image/jpeg:https://midwestfamilyconnections.ca/wp-content/uploads/2025/10/peyton-and-brett.jpg
END:VEVENT
END:VCALENDAR