BEGIN:VCALENDAR
VERSION:2.0
PRODID:-//MFC - ECPv6.15.13.1//NONSGML v1.0//EN
CALSCALE:GREGORIAN
METHOD:PUBLISH
X-ORIGINAL-URL:https://midwestfamilyconnections.ca
X-WR-CALDESC:Events for MFC
REFRESH-INTERVAL;VALUE=DURATION:PT1H
X-Robots-Tag:noindex
X-PUBLISHED-TTL:PT1H
BEGIN:VTIMEZONE
TZID:America/Edmonton
BEGIN:DAYLIGHT
TZOFFSETFROM:-0700
TZOFFSETTO:-0600
TZNAME:MDT
DTSTART:20240310T090000
END:DAYLIGHT
BEGIN:STANDARD
TZOFFSETFROM:-0600
TZOFFSETTO:-0700
TZNAME:MST
DTSTART:20241103T080000
END:STANDARD
BEGIN:DAYLIGHT
TZOFFSETFROM:-0700
TZOFFSETTO:-0600
TZNAME:MDT
DTSTART:20250309T090000
END:DAYLIGHT
BEGIN:STANDARD
TZOFFSETFROM:-0600
TZOFFSETTO:-0700
TZNAME:MST
DTSTART:20251102T080000
END:STANDARD
BEGIN:DAYLIGHT
TZOFFSETFROM:-0700
TZOFFSETTO:-0600
TZNAME:MDT
DTSTART:20260308T090000
END:DAYLIGHT
BEGIN:STANDARD
TZOFFSETFROM:-0600
TZOFFSETTO:-0700
TZNAME:MST
DTSTART:20261101T080000
END:STANDARD
END:VTIMEZONE
BEGIN:VEVENT
DTSTART;TZID=America/Edmonton:20250710T100000
DTEND;TZID=America/Edmonton:20250710T113000
DTSTAMP:20260421T181704
CREATED:20250626T162709Z
LAST-MODIFIED:20250626T162709Z
UID:10004682-1752141600-1752147000@midwestfamilyconnections.ca
SUMMARY:SK Rural Outreach- Mobile Early Learning in Maidstone
DESCRIPTION:Join us at the Delfrari Splash Park where we’ll have activities\, infant toys\, parenting information\, and more!\nYou won’t want to miss this opportunity to connect with other families in your community and your kiddos!\nPop in to check it out. Don’t be afraid to ask our staff any questions about the other services we offer for families! This program is for children 0-6 years old and their parents to attend together\, big siblings are welcome too!
URL:https://midwestfamilyconnections.ca/event/sk-rural-outreach-mobile-early-learning-in-maidstone-6/
LOCATION:Delfrari Splash Park Maidstone\, Maidstone\, Saskatchewan
CATEGORIES:The First Five Years
ATTACH;FMTTYPE=image/png:https://midwestfamilyconnections.ca/wp-content/uploads/2025/06/SK-MEL-ALL-SUMMER.png
END:VEVENT
BEGIN:VEVENT
DTSTART;TZID=America/Edmonton:20250710T130000
DTEND;TZID=America/Edmonton:20250710T150000
DTSTAMP:20260421T181704
CREATED:20250624T222859Z
LAST-MODIFIED:20250624T222859Z
UID:10004661-1752152400-1752159600@midwestfamilyconnections.ca
SUMMARY:SPF-3
DESCRIPTION:Join us each Thursday afternoon in July for the free play you know and love with a special twist\, a new theme each week! \nWhether we have a dino excavation\, scavenger hunt or a round of freeze dance for your family to enjoy together you won’t want to miss this great opportunity to play and learn with your kiddo.  \nCheck out these new themed activities each week! Families can also expect a structured circle time at the end of each program as well.
URL:https://midwestfamilyconnections.ca/event/spf-3/2025-07-10/
LOCATION:The Indoor Playground
CATEGORIES:The First Five Years
ATTACH;FMTTYPE=image/png:https://midwestfamilyconnections.ca/wp-content/uploads/2025/06/SPF3-July-2025.png
END:VEVENT
END:VCALENDAR