BEGIN:VCALENDAR
VERSION:2.0
PRODID:-//MFC - ECPv6.15.13.1//NONSGML v1.0//EN
CALSCALE:GREGORIAN
METHOD:PUBLISH
X-WR-CALNAME:MFC
X-ORIGINAL-URL:https://midwestfamilyconnections.ca
X-WR-CALDESC:Events for MFC
REFRESH-INTERVAL;VALUE=DURATION:PT1H
X-Robots-Tag:noindex
X-PUBLISHED-TTL:PT1H
BEGIN:VTIMEZONE
TZID:America/Edmonton
BEGIN:DAYLIGHT
TZOFFSETFROM:-0700
TZOFFSETTO:-0600
TZNAME:MDT
DTSTART:20240310T090000
END:DAYLIGHT
BEGIN:STANDARD
TZOFFSETFROM:-0600
TZOFFSETTO:-0700
TZNAME:MST
DTSTART:20241103T080000
END:STANDARD
BEGIN:DAYLIGHT
TZOFFSETFROM:-0700
TZOFFSETTO:-0600
TZNAME:MDT
DTSTART:20250309T090000
END:DAYLIGHT
BEGIN:STANDARD
TZOFFSETFROM:-0600
TZOFFSETTO:-0700
TZNAME:MST
DTSTART:20251102T080000
END:STANDARD
BEGIN:DAYLIGHT
TZOFFSETFROM:-0700
TZOFFSETTO:-0600
TZNAME:MDT
DTSTART:20260308T090000
END:DAYLIGHT
BEGIN:STANDARD
TZOFFSETFROM:-0600
TZOFFSETTO:-0700
TZNAME:MST
DTSTART:20261101T080000
END:STANDARD
END:VTIMEZONE
BEGIN:VEVENT
DTSTART;TZID=America/Edmonton:20250513T130000
DTEND;TZID=America/Edmonton:20250513T190000
DTSTAMP:20260421T215723
CREATED:20250429T201538Z
LAST-MODIFIED:20250429T201538Z
UID:10004583-1747141200-1747162800@midwestfamilyconnections.ca
SUMMARY:Indoor Playground- Extended
DESCRIPTION:FREE drop-in playtime. Open to all families and their babies\, toddlers\, preschoolers & school-aged children!\nStaff are on site to answer any questions you may have about development\, parenting and community resources. \nTransportation is available to all of our drop in play sessions\, with 24 hours notice. Contact the office to set up transportation today at 306-825-5911.
URL:https://midwestfamilyconnections.ca/event/indoor-playground-extended-2/2025-05-13/
LOCATION:The Indoor Playground
CATEGORIES:The First Five Years
ATTACH;FMTTYPE=image/jpeg:https://midwestfamilyconnections.ca/wp-content/uploads/2025/04/millie-in-dog-house-002.jpg
END:VEVENT
BEGIN:VEVENT
DTSTART;TZID=America/Edmonton:20250513T180000
DTEND;TZID=America/Edmonton:20250513T200000
DTSTAMP:20260421T215723
CREATED:20250425T184559Z
LAST-MODIFIED:20250425T184559Z
UID:10004572-1747159200-1747166400@midwestfamilyconnections.ca
SUMMARY:Positive Parenting Discussion Group- Bedtime Routines
DESCRIPTION:Looking for more strategies on how to make bedtime enjoyable in your household? \nJoin us for this 2 hour session where you’ll learn strategies that you can use to implement a successful bedtime routine for your family. Strategies are relevant for parenting children 2-12 years old. \nParents can attend one or all three of these Discussion Groups. Each session has it’s own workbook for parents to take home with them.  \nRegister today at 306-825-5911 or info@midwestfamilyconnections.ca  \nTransportation available\, snacks provided\, no childcare available.
URL:https://midwestfamilyconnections.ca/event/positive-parenting-discussion-group-bedtime-routines/
LOCATION:Midwest Family Connections\, Suite 103 4910-50 Street\, Lloydminster\, Saskatchewan\, S9V 0Y5\, Canada
CATEGORIES:The First Five Years,The School Years
ATTACH;FMTTYPE=image/png:https://midwestfamilyconnections.ca/wp-content/uploads/2025/04/Triple-P-Discussion-Groups-May-June-2025.png
END:VEVENT
END:VCALENDAR