BEGIN:VCALENDAR
VERSION:2.0
PRODID:-//MFC - ECPv6.15.13.1//NONSGML v1.0//EN
CALSCALE:GREGORIAN
METHOD:PUBLISH
X-ORIGINAL-URL:https://midwestfamilyconnections.ca
X-WR-CALDESC:Events for MFC
REFRESH-INTERVAL;VALUE=DURATION:PT1H
X-Robots-Tag:noindex
X-PUBLISHED-TTL:PT1H
BEGIN:VTIMEZONE
TZID:America/Edmonton
BEGIN:DAYLIGHT
TZOFFSETFROM:-0700
TZOFFSETTO:-0600
TZNAME:MDT
DTSTART:20240310T090000
END:DAYLIGHT
BEGIN:STANDARD
TZOFFSETFROM:-0600
TZOFFSETTO:-0700
TZNAME:MST
DTSTART:20241103T080000
END:STANDARD
BEGIN:DAYLIGHT
TZOFFSETFROM:-0700
TZOFFSETTO:-0600
TZNAME:MDT
DTSTART:20250309T090000
END:DAYLIGHT
BEGIN:STANDARD
TZOFFSETFROM:-0600
TZOFFSETTO:-0700
TZNAME:MST
DTSTART:20251102T080000
END:STANDARD
BEGIN:DAYLIGHT
TZOFFSETFROM:-0700
TZOFFSETTO:-0600
TZNAME:MDT
DTSTART:20260308T090000
END:DAYLIGHT
BEGIN:STANDARD
TZOFFSETFROM:-0600
TZOFFSETTO:-0700
TZNAME:MST
DTSTART:20261101T080000
END:STANDARD
END:VTIMEZONE
BEGIN:VEVENT
DTSTART;TZID=America/Edmonton:20250226T100000
DTEND;TZID=America/Edmonton:20250226T113000
DTSTAMP:20260422T044510
CREATED:20241224T210545Z
LAST-MODIFIED:20241224T210545Z
UID:10003819-1740564000-1740569400@midwestfamilyconnections.ca
SUMMARY:Connect & Play @ Kiddie Oasis
DESCRIPTION:Families with children under the age of 6 are invited to Kiddie Oasis to drop in & play together for FREE. \nThis space will be a great event for you to connect\, learn and play with your little ones and others in the community.\nWe’ll be there to provide connecting play activities\, share more information about the programs we offer as well as Triple P Resources.
URL:https://midwestfamilyconnections.ca/event/connect-play-kiddie-oasis-3/
LOCATION:Kiddie Oasis\, 5702 College Drive\, Vermilion\, Alberta\, T9X 1K5\, Canada
CATEGORIES:The First Five Years
ATTACH;FMTTYPE=image/png:https://midwestfamilyconnections.ca/wp-content/uploads/2024/12/2025-Family-Connect-Play-Poster_-2.png
END:VEVENT
BEGIN:VEVENT
DTSTART;TZID=America/Edmonton:20250226T103000
DTEND;TZID=America/Edmonton:20250226T120000
DTSTAMP:20260422T044510
CREATED:20250131T224445Z
LAST-MODIFIED:20250131T224445Z
UID:10003916-1740565800-1740571200@midwestfamilyconnections.ca
SUMMARY:SK Rural Outreach - Mobile Early Learning in Paradise Hill
DESCRIPTION:Freeplay & literacy activities\, parenting information & more! Open to families and their babies\, toddlers & preschoolers. \nPop in to connect\, play & learn with your little ones! \nPlease note the program runs 10:30-12:00 CST!
URL:https://midwestfamilyconnections.ca/event/sk-rural-outreach-mobile-early-learning-in-paradise-hill-2/
LOCATION:Paradise Hill Community Centre\, 102-3 Avenue\, Paradise Hill\, SK
CATEGORIES:Outreach Programs,The First Five Years
ATTACH;FMTTYPE=image/png:https://midwestfamilyconnections.ca/wp-content/uploads/2025/01/February-2025-SK-MEL.png
END:VEVENT
BEGIN:VEVENT
DTSTART;TZID=America/Edmonton:20250226T130000
DTEND;TZID=America/Edmonton:20250226T150000
DTSTAMP:20260422T044510
CREATED:20250131T220215Z
LAST-MODIFIED:20250131T220215Z
UID:10003856-1740574800-1740582000@midwestfamilyconnections.ca
SUMMARY:FREE Indoor Playground Drop-in play!
DESCRIPTION:FREE drop-in playtime. Open to all families and their babies\, toddlers\, preschoolers & school-aged children! Come on out to play\, craft\, dress up\, learn\, have fun and much more with your little ones! \nOur staff are always available to answer any parenting questions\, provide activities to support your child’s development and to share more information about other valuable community resources!
URL:https://midwestfamilyconnections.ca/event/free-indoor-playground-drop-in-play-65/2025-02-26/
LOCATION:SK
CATEGORIES:The First Five Years
ATTACH;FMTTYPE=image/jpeg:https://midwestfamilyconnections.ca/wp-content/uploads/2025/01/mom-and-infant-with-rattle-scaled.jpg
END:VEVENT
END:VCALENDAR