BEGIN:VCALENDAR
VERSION:2.0
PRODID:-//MFC - ECPv6.15.13.1//NONSGML v1.0//EN
CALSCALE:GREGORIAN
METHOD:PUBLISH
X-ORIGINAL-URL:https://midwestfamilyconnections.ca
X-WR-CALDESC:Events for MFC
REFRESH-INTERVAL;VALUE=DURATION:PT1H
X-Robots-Tag:noindex
X-PUBLISHED-TTL:PT1H
BEGIN:VTIMEZONE
TZID:America/Edmonton
BEGIN:DAYLIGHT
TZOFFSETFROM:-0700
TZOFFSETTO:-0600
TZNAME:MDT
DTSTART:20240310T090000
END:DAYLIGHT
BEGIN:STANDARD
TZOFFSETFROM:-0600
TZOFFSETTO:-0700
TZNAME:MST
DTSTART:20241103T080000
END:STANDARD
BEGIN:DAYLIGHT
TZOFFSETFROM:-0700
TZOFFSETTO:-0600
TZNAME:MDT
DTSTART:20250309T090000
END:DAYLIGHT
BEGIN:STANDARD
TZOFFSETFROM:-0600
TZOFFSETTO:-0700
TZNAME:MST
DTSTART:20251102T080000
END:STANDARD
BEGIN:DAYLIGHT
TZOFFSETFROM:-0700
TZOFFSETTO:-0600
TZNAME:MDT
DTSTART:20260308T090000
END:DAYLIGHT
BEGIN:STANDARD
TZOFFSETFROM:-0600
TZOFFSETTO:-0700
TZNAME:MST
DTSTART:20261101T080000
END:STANDARD
END:VTIMEZONE
BEGIN:VEVENT
DTSTART;TZID=America/Edmonton:20250207T093000
DTEND;TZID=America/Edmonton:20250207T113000
DTSTAMP:20260422T085629
CREATED:20250131T220025Z
LAST-MODIFIED:20250131T220025Z
UID:10003843-1738920600-1738927800@midwestfamilyconnections.ca
SUMMARY:Indoor Playground
DESCRIPTION:Open to all families and their babies\, toddlers & preschoolers!\nStaff are on site to answer any questions you may have about development\, parenting and community resources. \nA great space to connect\, learn and play with your little ones and other families in the community!
URL:https://midwestfamilyconnections.ca/event/indoor-playground-2/2025-02-07/
LOCATION:SK
CATEGORIES:The First Five Years
ATTACH;FMTTYPE=image/jpeg:https://midwestfamilyconnections.ca/wp-content/uploads/2025/01/boy-at-barn-with-mom-scaled.jpg
END:VEVENT
BEGIN:VEVENT
DTSTART;TZID=America/Edmonton:20250207T130000
DTEND;TZID=America/Edmonton:20250207T143000
DTSTAMP:20260422T085629
CREATED:20250131T224654Z
LAST-MODIFIED:20250131T224654Z
UID:10003917-1738933200-1738938600@midwestfamilyconnections.ca
SUMMARY:SK Rural Outreach - Mobile Early Learning in Neilburg
DESCRIPTION:Join us at the Neilburg Library to connect\, play\, learn and have fun with your little ones. This program is for parents and their children ages 0-6 years to enjoy. We bring along activities\, toys\, crafts\, dress up items and more for your family to enjoy together!
URL:https://midwestfamilyconnections.ca/event/sk-rural-outreach-mobile-early-learning-in-neilburg-3/
LOCATION:Neilburg Library\, 108 Centre Street\, Neilburg\, Saskatchewan\, Canada
CATEGORIES:Outreach Programs,The First Five Years
ATTACH;FMTTYPE=image/png:https://midwestfamilyconnections.ca/wp-content/uploads/2025/01/Neilburg-January-April-2025.png
END:VEVENT
END:VCALENDAR