BEGIN:VCALENDAR
VERSION:2.0
PRODID:-//MFC - ECPv6.15.13.1//NONSGML v1.0//EN
CALSCALE:GREGORIAN
METHOD:PUBLISH
X-WR-CALNAME:MFC
X-ORIGINAL-URL:https://midwestfamilyconnections.ca
X-WR-CALDESC:Events for MFC
REFRESH-INTERVAL;VALUE=DURATION:PT1H
X-Robots-Tag:noindex
X-PUBLISHED-TTL:PT1H
BEGIN:VTIMEZONE
TZID:America/Edmonton
BEGIN:DAYLIGHT
TZOFFSETFROM:-0700
TZOFFSETTO:-0600
TZNAME:MDT
DTSTART:20240310T090000
END:DAYLIGHT
BEGIN:STANDARD
TZOFFSETFROM:-0600
TZOFFSETTO:-0700
TZNAME:MST
DTSTART:20241103T080000
END:STANDARD
BEGIN:DAYLIGHT
TZOFFSETFROM:-0700
TZOFFSETTO:-0600
TZNAME:MDT
DTSTART:20250309T090000
END:DAYLIGHT
BEGIN:STANDARD
TZOFFSETFROM:-0600
TZOFFSETTO:-0700
TZNAME:MST
DTSTART:20251102T080000
END:STANDARD
BEGIN:DAYLIGHT
TZOFFSETFROM:-0700
TZOFFSETTO:-0600
TZNAME:MDT
DTSTART:20260308T090000
END:DAYLIGHT
BEGIN:STANDARD
TZOFFSETFROM:-0600
TZOFFSETTO:-0700
TZNAME:MST
DTSTART:20261101T080000
END:STANDARD
END:VTIMEZONE
BEGIN:VEVENT
DTSTART;TZID=America/Edmonton:20250128T093000
DTEND;TZID=America/Edmonton:20250128T113000
DTSTAMP:20260422T181544
CREATED:20241223T205051Z
LAST-MODIFIED:20241223T205051Z
UID:10003782-1738056600-1738063800@midwestfamilyconnections.ca
SUMMARY:Indoor Playground
DESCRIPTION:FREE drop-in playtime. Open to all families and their babies\, toddlers\, preschoolers & school-aged children! Come on out to play\, craft\, dress up\, learn\, have fun and much more with your little ones! \nOur staff are always available to answer any parenting questions\, provide activities to support your child’s development and to share more information about other valuable community resources!
URL:https://midwestfamilyconnections.ca/event/indoor-playground/2025-01-28/
LOCATION:SK
CATEGORIES:The First Five Years
ATTACH;FMTTYPE=image/jpeg:https://midwestfamilyconnections.ca/wp-content/uploads/2024/12/Millie-at-doll-house.jpg
END:VEVENT
BEGIN:VEVENT
DTSTART;TZID=America/Edmonton:20250128T130000
DTEND;TZID=America/Edmonton:20250128T190000
DTSTAMP:20260422T181544
CREATED:20241223T192902Z
LAST-MODIFIED:20241223T192902Z
UID:10003775-1738069200-1738090800@midwestfamilyconnections.ca
SUMMARY:FREE Indoor Playground Drop-in play!
DESCRIPTION:FREE drop-in playtime. Open to all families and their babies\, toddlers\, preschoolers & school-aged children!\nStaff are on site to answer any questions you may have about development\, parenting and community resources. \nThese extended hours from 1:00-7:00 PM offer a variety of time for your family to pop in to PLAY & LEARN whenever works best for you!
URL:https://midwestfamilyconnections.ca/event/free-indoor-playground-drop-in-play-61/2025-01-28/
LOCATION:SK
CATEGORIES:The First Five Years
ATTACH;FMTTYPE=image/jpeg:https://midwestfamilyconnections.ca/wp-content/uploads/2024/12/evie-bigger.jpg
END:VEVENT
END:VCALENDAR