BEGIN:VCALENDAR
VERSION:2.0
PRODID:-//MFC - ECPv6.15.13.1//NONSGML v1.0//EN
CALSCALE:GREGORIAN
METHOD:PUBLISH
X-ORIGINAL-URL:https://midwestfamilyconnections.ca
X-WR-CALDESC:Events for MFC
REFRESH-INTERVAL;VALUE=DURATION:PT1H
X-Robots-Tag:noindex
X-PUBLISHED-TTL:PT1H
BEGIN:VTIMEZONE
TZID:America/Edmonton
BEGIN:DAYLIGHT
TZOFFSETFROM:-0700
TZOFFSETTO:-0600
TZNAME:MDT
DTSTART:20240310T090000
END:DAYLIGHT
BEGIN:STANDARD
TZOFFSETFROM:-0600
TZOFFSETTO:-0700
TZNAME:MST
DTSTART:20241103T080000
END:STANDARD
BEGIN:DAYLIGHT
TZOFFSETFROM:-0700
TZOFFSETTO:-0600
TZNAME:MDT
DTSTART:20250309T090000
END:DAYLIGHT
BEGIN:STANDARD
TZOFFSETFROM:-0600
TZOFFSETTO:-0700
TZNAME:MST
DTSTART:20251102T080000
END:STANDARD
BEGIN:DAYLIGHT
TZOFFSETFROM:-0700
TZOFFSETTO:-0600
TZNAME:MDT
DTSTART:20260308T090000
END:DAYLIGHT
BEGIN:STANDARD
TZOFFSETFROM:-0600
TZOFFSETTO:-0700
TZNAME:MST
DTSTART:20261101T080000
END:STANDARD
END:VTIMEZONE
BEGIN:VTIMEZONE
TZID:America/Winnipeg
BEGIN:DAYLIGHT
TZOFFSETFROM:-0600
TZOFFSETTO:-0500
TZNAME:CDT
DTSTART:20240310T080000
END:DAYLIGHT
BEGIN:STANDARD
TZOFFSETFROM:-0500
TZOFFSETTO:-0600
TZNAME:CST
DTSTART:20241103T070000
END:STANDARD
BEGIN:DAYLIGHT
TZOFFSETFROM:-0600
TZOFFSETTO:-0500
TZNAME:CDT
DTSTART:20250309T080000
END:DAYLIGHT
BEGIN:STANDARD
TZOFFSETFROM:-0500
TZOFFSETTO:-0600
TZNAME:CST
DTSTART:20251102T070000
END:STANDARD
BEGIN:DAYLIGHT
TZOFFSETFROM:-0600
TZOFFSETTO:-0500
TZNAME:CDT
DTSTART:20260308T080000
END:DAYLIGHT
BEGIN:STANDARD
TZOFFSETFROM:-0500
TZOFFSETTO:-0600
TZNAME:CST
DTSTART:20261101T070000
END:STANDARD
END:VTIMEZONE
BEGIN:VEVENT
DTSTART;TZID=America/Edmonton:20250122T100000
DTEND;TZID=America/Edmonton:20250122T113000
DTSTAMP:20260422T075234
CREATED:20241223T211312Z
LAST-MODIFIED:20241223T211751Z
UID:10003807-1737540000-1737545400@midwestfamilyconnections.ca
SUMMARY:Connect & Play @ Kiddie Oasis
DESCRIPTION:Families with children under the age of 6 are invited to Kiddie Oasis to drop in & play together for FREE.  \nThis space will be a great event for you to connect\, learn and play with your little ones and others in the community.\nWe’ll be there to provide connecting play activities\, share more information about the programs we offer as well as Triple P Resources.
URL:https://midwestfamilyconnections.ca/event/connect-play-kiddie-oasis/2025-01-22/
LOCATION:SK
CATEGORIES:The First Five Years
ATTACH;FMTTYPE=image/png:https://midwestfamilyconnections.ca/wp-content/uploads/2024/12/2025-Family-Connect-Play-Poster_.png
END:VEVENT
BEGIN:VEVENT
DTSTART;TZID=America/Winnipeg:20250122T103000
DTEND;TZID=America/Winnipeg:20250122T120000
DTSTAMP:20260422T075234
CREATED:20241223T214008Z
LAST-MODIFIED:20241223T214008Z
UID:10003813-1737541800-1737547200@midwestfamilyconnections.ca
SUMMARY:SK Rural Outreach - Mobile Early Learning in Paradise Hill
DESCRIPTION:Join us at the Paradise Hill Community Centre to connect\, learn and play. We bring along a variety of free play items\, craft materials\, dress up clothes\, literacy activities and more for families with children 0-6 years old to enjoy together. \nOur staff are always available to share more information on how to support your child’s development\, to answer any parenting questions or to share strategies on how to deal with challenging behaviour as they arise. \nThis is a drop-in program\, no need to register. Contact the office at 306-825-5911 to ask any questions you may have about the program. \nPlease note this program is hosted from 10:30-12:00 CST!
URL:https://midwestfamilyconnections.ca/event/sk-rural-outreach-mobile-early-learning-in-paradise-hill/
LOCATION:Paradise Hill Community Centre\, 102-3 Avenue\, Paradise Hill\, SK
CATEGORIES:Outreach Programs,The First Five Years
ATTACH;FMTTYPE=image/png:https://midwestfamilyconnections.ca/wp-content/uploads/2024/12/Sk-Outreach-January-2025-1.png
END:VEVENT
BEGIN:VEVENT
DTSTART;TZID=America/Edmonton:20250122T130000
DTEND;TZID=America/Edmonton:20250122T150000
DTSTAMP:20260422T075234
CREATED:20241223T205346Z
LAST-MODIFIED:20241223T205346Z
UID:10003788-1737550800-1737558000@midwestfamilyconnections.ca
SUMMARY:FREE Indoor Playground Drop-in play!
DESCRIPTION:FREE drop-in playtime. Open to all families and their babies\, toddlers\, preschoolers & school-aged children! Come on out to play\, craft\, dress up\, learn\, have fun and much more with your little ones! \nOur staff are always available to answer any parenting questions\, provide activities to support your child’s development and to share more information about other valuable community resources!
URL:https://midwestfamilyconnections.ca/event/free-indoor-playground-drop-in-play-62/2025-01-22/
LOCATION:SK
CATEGORIES:The First Five Years
ATTACH;FMTTYPE=image/jpeg:https://midwestfamilyconnections.ca/wp-content/uploads/2024/12/everly-slide-2.jpg
END:VEVENT
END:VCALENDAR