BEGIN:VCALENDAR
VERSION:2.0
PRODID:-//MFC - ECPv6.15.13.1//NONSGML v1.0//EN
CALSCALE:GREGORIAN
METHOD:PUBLISH
X-ORIGINAL-URL:https://midwestfamilyconnections.ca
X-WR-CALDESC:Events for MFC
REFRESH-INTERVAL;VALUE=DURATION:PT1H
X-Robots-Tag:noindex
X-PUBLISHED-TTL:PT1H
BEGIN:VTIMEZONE
TZID:America/Edmonton
BEGIN:DAYLIGHT
TZOFFSETFROM:-0700
TZOFFSETTO:-0600
TZNAME:MDT
DTSTART:20240310T090000
END:DAYLIGHT
BEGIN:STANDARD
TZOFFSETFROM:-0600
TZOFFSETTO:-0700
TZNAME:MST
DTSTART:20241103T080000
END:STANDARD
BEGIN:DAYLIGHT
TZOFFSETFROM:-0700
TZOFFSETTO:-0600
TZNAME:MDT
DTSTART:20250309T090000
END:DAYLIGHT
BEGIN:STANDARD
TZOFFSETFROM:-0600
TZOFFSETTO:-0700
TZNAME:MST
DTSTART:20251102T080000
END:STANDARD
BEGIN:DAYLIGHT
TZOFFSETFROM:-0700
TZOFFSETTO:-0600
TZNAME:MDT
DTSTART:20260308T090000
END:DAYLIGHT
BEGIN:STANDARD
TZOFFSETFROM:-0600
TZOFFSETTO:-0700
TZNAME:MST
DTSTART:20261101T080000
END:STANDARD
END:VTIMEZONE
BEGIN:VEVENT
DTSTART;TZID=America/Edmonton:20250103T093000
DTEND;TZID=America/Edmonton:20250103T113000
DTSTAMP:20260422T110014
CREATED:20241223T210611Z
LAST-MODIFIED:20241223T210611Z
UID:10003804-1735896600-1735903800@midwestfamilyconnections.ca
SUMMARY:FREE Indoor Playground Drop-in play!
DESCRIPTION:Drop in to connect\, play and learn with your infants\, toddlers or preschoolers.  \nThis program is for both children and their parent/caregiver to attend together.  \nWe offer free transportation to and from our drop-in programs. Contact the office with 24 hours notice and we’ll organize the rest.
URL:https://midwestfamilyconnections.ca/event/free-indoor-playground-drop-in-play-63/
LOCATION:SK
CATEGORIES:The First Five Years
ATTACH;FMTTYPE=image/jpeg:https://midwestfamilyconnections.ca/wp-content/uploads/2024/12/Hadlee-smilinng-at-slide.jpg
END:VEVENT
END:VCALENDAR