BEGIN:VCALENDAR
VERSION:2.0
PRODID:-//MFC - ECPv6.15.13.1//NONSGML v1.0//EN
CALSCALE:GREGORIAN
METHOD:PUBLISH
X-WR-CALNAME:MFC
X-ORIGINAL-URL:https://midwestfamilyconnections.ca
X-WR-CALDESC:Events for MFC
REFRESH-INTERVAL;VALUE=DURATION:PT1H
X-Robots-Tag:noindex
X-PUBLISHED-TTL:PT1H
BEGIN:VTIMEZONE
TZID:America/Edmonton
BEGIN:DAYLIGHT
TZOFFSETFROM:-0700
TZOFFSETTO:-0600
TZNAME:MDT
DTSTART:20230312T090000
END:DAYLIGHT
BEGIN:STANDARD
TZOFFSETFROM:-0600
TZOFFSETTO:-0700
TZNAME:MST
DTSTART:20231105T080000
END:STANDARD
BEGIN:DAYLIGHT
TZOFFSETFROM:-0700
TZOFFSETTO:-0600
TZNAME:MDT
DTSTART:20240310T090000
END:DAYLIGHT
BEGIN:STANDARD
TZOFFSETFROM:-0600
TZOFFSETTO:-0700
TZNAME:MST
DTSTART:20241103T080000
END:STANDARD
BEGIN:DAYLIGHT
TZOFFSETFROM:-0700
TZOFFSETTO:-0600
TZNAME:MDT
DTSTART:20250309T090000
END:DAYLIGHT
BEGIN:STANDARD
TZOFFSETFROM:-0600
TZOFFSETTO:-0700
TZNAME:MST
DTSTART:20251102T080000
END:STANDARD
END:VTIMEZONE
BEGIN:VEVENT
DTSTART;TZID=America/Edmonton:20241213T093000
DTEND;TZID=America/Edmonton:20241213T110000
DTSTAMP:20260422T092824
CREATED:20241129T173657Z
LAST-MODIFIED:20241129T173657Z
UID:10003755-1734082200-1734087600@midwestfamilyconnections.ca
SUMMARY:SK Rural Outreach - Mobile Early Learning in Lashburn
DESCRIPTION:Freeplay & literacy activities\, parenting information & more! Open to families and their babies\, toddlers & preschoolers. \nA great space to connect and play with your family and others in the community. If you have any questions about your child’s development\, looking for parenting tips or anything child related feel free to ask our staff!
URL:https://midwestfamilyconnections.ca/event/sk-rural-outreach-mobile-early-learning-in-lashburn/
LOCATION:J H Moore Elementary School – Lashburn\, SK
CATEGORIES:The First Five Years
ATTACH;FMTTYPE=image/jpeg:https://midwestfamilyconnections.ca/wp-content/uploads/2024/11/Lashburn-fall-2024.jpg
END:VEVENT
BEGIN:VEVENT
DTSTART;TZID=America/Edmonton:20241213T093000
DTEND;TZID=America/Edmonton:20241213T113000
DTSTAMP:20260422T092824
CREATED:20241128T222635Z
LAST-MODIFIED:20241128T222635Z
UID:10003753-1734082200-1734089400@midwestfamilyconnections.ca
SUMMARY:FREE Indoor Playground Drop-in play!
DESCRIPTION:Open to all families and their babies\, toddlers & preschoolers!\nStaff are on site to answer any questions you may have about development\, parenting and community resources. \nContact the office at 1-866-651-5911 if you require support with transportation to and from the Indoor Playground.
URL:https://midwestfamilyconnections.ca/event/free-indoor-playground-drop-in-play-60/2024-12-13/
LOCATION:Midwest Family Connections\, Suite 103 4910-50 Street\, Lloydminster\, Saskatchewan\, S9V 0Y5\, Canada
CATEGORIES:The First Five Years
ATTACH;FMTTYPE=image/jpeg:https://midwestfamilyconnections.ca/wp-content/uploads/2024/11/mother-daughter-reading-close-up-scaled.jpg
END:VEVENT
END:VCALENDAR