BEGIN:VCALENDAR
VERSION:2.0
PRODID:-//MFC - ECPv6.15.13.1//NONSGML v1.0//EN
CALSCALE:GREGORIAN
METHOD:PUBLISH
X-ORIGINAL-URL:https://midwestfamilyconnections.ca
X-WR-CALDESC:Events for MFC
REFRESH-INTERVAL;VALUE=DURATION:PT1H
X-Robots-Tag:noindex
X-PUBLISHED-TTL:PT1H
BEGIN:VTIMEZONE
TZID:America/Edmonton
BEGIN:DAYLIGHT
TZOFFSETFROM:-0700
TZOFFSETTO:-0600
TZNAME:MDT
DTSTART:20230312T090000
END:DAYLIGHT
BEGIN:STANDARD
TZOFFSETFROM:-0600
TZOFFSETTO:-0700
TZNAME:MST
DTSTART:20231105T080000
END:STANDARD
BEGIN:DAYLIGHT
TZOFFSETFROM:-0700
TZOFFSETTO:-0600
TZNAME:MDT
DTSTART:20240310T090000
END:DAYLIGHT
BEGIN:STANDARD
TZOFFSETFROM:-0600
TZOFFSETTO:-0700
TZNAME:MST
DTSTART:20241103T080000
END:STANDARD
BEGIN:DAYLIGHT
TZOFFSETFROM:-0700
TZOFFSETTO:-0600
TZNAME:MDT
DTSTART:20250309T090000
END:DAYLIGHT
BEGIN:STANDARD
TZOFFSETFROM:-0600
TZOFFSETTO:-0700
TZNAME:MST
DTSTART:20251102T080000
END:STANDARD
END:VTIMEZONE
BEGIN:VEVENT
DTSTART;TZID=America/Edmonton:20241204T093000
DTEND;TZID=America/Edmonton:20241204T113000
DTSTAMP:20260422T122307
CREATED:20241128T215244Z
LAST-MODIFIED:20241128T215244Z
UID:10003734-1733304600-1733311800@midwestfamilyconnections.ca
SUMMARY:Kids Have Stress Too! Parent Education Program
DESCRIPTION:Learn about stress & it’s impact on children\, children’s reaction to stress & ways to help children cope with stressful experiences. There will be a variety of realistic strategies to try at home shared at these sessions. These strategies are targeted at parenting children 2-12 years of age. \n Free childcare is available during the program\, let us know that you require it while you’re registering. \nContact the office to register at 306-825-5911.
URL:https://midwestfamilyconnections.ca/event/kids-have-stress-too-parent-education-program/2024-12-04/
LOCATION:Midwest Family Connections\, Suite 103 4910-50 Street\, Lloydminster\, Saskatchewan\, S9V 0Y5\, Canada
CATEGORIES:The First Five Years
ATTACH;FMTTYPE=image/jpeg:https://midwestfamilyconnections.ca/wp-content/uploads/2024/11/Kids-Have-Stress-Too-Dec.-2024.jpg
END:VEVENT
BEGIN:VEVENT
DTSTART;TZID=America/Edmonton:20241204T130000
DTEND;TZID=America/Edmonton:20241204T150000
DTSTAMP:20260422T122307
CREATED:20241128T220154Z
LAST-MODIFIED:20241128T220154Z
UID:10003742-1733317200-1733324400@midwestfamilyconnections.ca
SUMMARY:FREE Indoor Playground Drop-in play!
DESCRIPTION:Open to all families and their babies\, toddlers & preschoolers!\nStaff are on site to answer any questions you may have about development\, parenting and community resources. \nContact the office at 1-866-651-5911 if you require support with free transportation to and from the program!
URL:https://midwestfamilyconnections.ca/event/free-indoor-playground-drop-in-play-59/2024-12-04/
LOCATION:Midwest Family Connections\, Suite 103 4910-50 Street\, Lloydminster\, Saskatchewan\, S9V 0Y5\, Canada
CATEGORIES:The First Five Years
ATTACH;FMTTYPE=image/jpeg:https://midwestfamilyconnections.ca/wp-content/uploads/2024/11/IMG_1345-scaled.jpg
END:VEVENT
END:VCALENDAR