BEGIN:VCALENDAR
VERSION:2.0
PRODID:-//MFC - ECPv6.15.13.1//NONSGML v1.0//EN
CALSCALE:GREGORIAN
METHOD:PUBLISH
X-WR-CALNAME:MFC
X-ORIGINAL-URL:https://midwestfamilyconnections.ca
X-WR-CALDESC:Events for MFC
REFRESH-INTERVAL;VALUE=DURATION:PT1H
X-Robots-Tag:noindex
X-PUBLISHED-TTL:PT1H
BEGIN:VTIMEZONE
TZID:America/Edmonton
BEGIN:DAYLIGHT
TZOFFSETFROM:-0700
TZOFFSETTO:-0600
TZNAME:MDT
DTSTART:20230312T090000
END:DAYLIGHT
BEGIN:STANDARD
TZOFFSETFROM:-0600
TZOFFSETTO:-0700
TZNAME:MST
DTSTART:20231105T080000
END:STANDARD
BEGIN:DAYLIGHT
TZOFFSETFROM:-0700
TZOFFSETTO:-0600
TZNAME:MDT
DTSTART:20240310T090000
END:DAYLIGHT
BEGIN:STANDARD
TZOFFSETFROM:-0600
TZOFFSETTO:-0700
TZNAME:MST
DTSTART:20241103T080000
END:STANDARD
BEGIN:DAYLIGHT
TZOFFSETFROM:-0700
TZOFFSETTO:-0600
TZNAME:MDT
DTSTART:20250309T090000
END:DAYLIGHT
BEGIN:STANDARD
TZOFFSETFROM:-0600
TZOFFSETTO:-0700
TZNAME:MST
DTSTART:20251102T080000
END:STANDARD
END:VTIMEZONE
BEGIN:VEVENT
DTSTART;TZID=America/Edmonton:20240925T100000
DTEND;TZID=America/Edmonton:20240925T113000
DTSTAMP:20260422T203454
CREATED:20240828T014117Z
LAST-MODIFIED:20240828T014117Z
UID:10003639-1727258400-1727263800@midwestfamilyconnections.ca
SUMMARY:Paradise Hill - Family Play & Learn
DESCRIPTION:Freeplay & literacy activities\, parenting information & more! Open to families and their babies\, toddlers & preschoolers.
URL:https://midwestfamilyconnections.ca/event/paradise-hill-family-play-learn-7/
LOCATION:Paradise Hill Community Centre\, 102-3 Avenue\, Paradise Hill\, SK
CATEGORIES:The First Five Years
ATTACH;FMTTYPE=image/jpeg:https://midwestfamilyconnections.ca/wp-content/uploads/2024/08/Paradise-Hill-fall-2024.jpg
END:VEVENT
BEGIN:VEVENT
DTSTART;TZID=America/Edmonton:20240925T100000
DTEND;TZID=America/Edmonton:20240925T120000
DTSTAMP:20260422T203454
CREATED:20240828T015133Z
LAST-MODIFIED:20240828T015133Z
UID:10003643-1727258400-1727265600@midwestfamilyconnections.ca
SUMMARY:Handle With Care
DESCRIPTION:Handle with Care is for parents and caregivers of children from birth to six years. The sessions include hands on\, interactive activities and discussions with other parents and our trained facilitators. \nLimited childcare is available\, so families must call to register for the program.
URL:https://midwestfamilyconnections.ca/event/handle-with-care/2024-09-25/
LOCATION:Midwest Family Connections\, Suite 103 4910-50 Street\, Lloydminster\, Saskatchewan\, S9V 0Y5\, Canada
CATEGORIES:The First Five Years
ATTACH;FMTTYPE=image/jpeg:https://midwestfamilyconnections.ca/wp-content/uploads/2024/08/Handle-With-Care.jpg
END:VEVENT
BEGIN:VEVENT
DTSTART;TZID=America/Edmonton:20240925T130000
DTEND;TZID=America/Edmonton:20240925T150000
DTSTAMP:20260422T203454
CREATED:20240828T011545Z
LAST-MODIFIED:20240828T011545Z
UID:10003625-1727269200-1727276400@midwestfamilyconnections.ca
SUMMARY:FREE Indoor Playground Drop-in play!
DESCRIPTION:Open to all families and their babies\, toddlers & preschoolers!\nStaff are on site to answer any questions you may have about development\, parenting and community resources.
URL:https://midwestfamilyconnections.ca/event/free-indoor-playground-drop-in-play-42/2024-09-25/
LOCATION:Midwest Family Connections\, Suite 103 4910-50 Street\, Lloydminster\, Saskatchewan\, S9V 0Y5\, Canada
CATEGORIES:The First Five Years
ATTACH;FMTTYPE=image/jpeg:https://midwestfamilyconnections.ca/wp-content/uploads/2024/08/IMG_1432-scaled.jpg
END:VEVENT
END:VCALENDAR