BEGIN:VCALENDAR
VERSION:2.0
PRODID:-//MFC - ECPv6.15.13.1//NONSGML v1.0//EN
CALSCALE:GREGORIAN
METHOD:PUBLISH
X-WR-CALNAME:MFC
X-ORIGINAL-URL:https://midwestfamilyconnections.ca
X-WR-CALDESC:Events for MFC
REFRESH-INTERVAL;VALUE=DURATION:PT1H
X-Robots-Tag:noindex
X-PUBLISHED-TTL:PT1H
BEGIN:VTIMEZONE
TZID:America/Edmonton
BEGIN:DAYLIGHT
TZOFFSETFROM:-0700
TZOFFSETTO:-0600
TZNAME:MDT
DTSTART:20230312T090000
END:DAYLIGHT
BEGIN:STANDARD
TZOFFSETFROM:-0600
TZOFFSETTO:-0700
TZNAME:MST
DTSTART:20231105T080000
END:STANDARD
BEGIN:DAYLIGHT
TZOFFSETFROM:-0700
TZOFFSETTO:-0600
TZNAME:MDT
DTSTART:20240310T090000
END:DAYLIGHT
BEGIN:STANDARD
TZOFFSETFROM:-0600
TZOFFSETTO:-0700
TZNAME:MST
DTSTART:20241103T080000
END:STANDARD
BEGIN:DAYLIGHT
TZOFFSETFROM:-0700
TZOFFSETTO:-0600
TZNAME:MDT
DTSTART:20250309T090000
END:DAYLIGHT
BEGIN:STANDARD
TZOFFSETFROM:-0600
TZOFFSETTO:-0700
TZNAME:MST
DTSTART:20251102T080000
END:STANDARD
END:VTIMEZONE
BEGIN:VEVENT
DTSTART;TZID=America/Edmonton:20240419T093000
DTEND;TZID=America/Edmonton:20240419T113000
DTSTAMP:20260423T124507
CREATED:20240326T193000Z
LAST-MODIFIED:20240326T193000Z
UID:10003360-1713519000-1713526200@midwestfamilyconnections.ca
SUMMARY:FREE Indoor Playground Drop-in play!
DESCRIPTION:The Indoor Playground is FREE and open to all families and their babies\, toddlers and preschoolers. Parent/caregiver supervision is required.
URL:https://midwestfamilyconnections.ca/event/free-indoor-playground-drop-in-play-14/2024-04-19/
LOCATION:Midwest Family Connections\, Suite 103 4910-50 Street\, Lloydminster\, Saskatchewan\, S9V 0Y5\, Canada
CATEGORIES:The First Five Years
ATTACH;FMTTYPE=image/jpeg:https://midwestfamilyconnections.ca/wp-content/uploads/2024/03/IMG_1433-scaled.jpg
END:VEVENT
BEGIN:VEVENT
DTSTART;TZID=America/Edmonton:20240419T100000
DTEND;TZID=America/Edmonton:20240419T113000
DTSTAMP:20260423T124507
CREATED:20240326T200603Z
LAST-MODIFIED:20240326T200603Z
UID:10003385-1713520800-1713526200@midwestfamilyconnections.ca
SUMMARY:Lashburn - Family Play & Learn
DESCRIPTION:Free-play & literacy activities\, parenting information and more! Open to parents and their babies\, toddlers & preschoolers
URL:https://midwestfamilyconnections.ca/event/lashburn-family-play-learn-3/
LOCATION:J.H. Moore Elementary School\, 215 3 Street East\, Lashburn\, Saskatchewan\, S0M 1H0\, Canada
CATEGORIES:The First Five Years
ATTACH;FMTTYPE=image/png:https://midwestfamilyconnections.ca/wp-content/uploads/2024/03/SK-KF-Outreach-April-2024-002-2.png
END:VEVENT
BEGIN:VEVENT
DTSTART;TZID=America/Edmonton:20240419T130000
DTEND;TZID=America/Edmonton:20240419T143000
DTSTAMP:20260423T124507
CREATED:20240326T200744Z
LAST-MODIFIED:20240326T200744Z
UID:10003386-1713531600-1713537000@midwestfamilyconnections.ca
SUMMARY:Neilburg - Family Play & Learn
DESCRIPTION:Free-play & literacy activities\, parenting information and more! Open to parents and their babies\, toddlers & preschoolers
URL:https://midwestfamilyconnections.ca/event/neilburg-family-play-learn-2/
LOCATION:Neilburg Library\, 108 Centre Street\, Neilburg\, Saskatchewan\, Canada
CATEGORIES:The First Five Years
ATTACH;FMTTYPE=image/png:https://midwestfamilyconnections.ca/wp-content/uploads/2024/03/SK-KF-Outreach-April-2024-002-3.png
END:VEVENT
BEGIN:VEVENT
DTSTART;TZID=America/Edmonton:20240419T130000
DTEND;TZID=America/Edmonton:20240419T150000
DTSTAMP:20260423T124507
CREATED:20240326T193300Z
LAST-MODIFIED:20240326T193300Z
UID:10003364-1713531600-1713538800@midwestfamilyconnections.ca
SUMMARY:Crafternoon & FREE Indoor Playground Drop-in play!
DESCRIPTION:Explore a variety of craft materials and see what masterpieces your child can create! \nThe Indoor Playground is FREE and open to all families and their babies\, toddlers and preschoolers. Parent/caregiver supervision is required.
URL:https://midwestfamilyconnections.ca/event/crafternoon-free-indoor-playground-drop-in-play/2024-04-19/
LOCATION:Midwest Family Connections\, Suite 103 4910-50 Street\, Lloydminster\, Saskatchewan\, S9V 0Y5\, Canada
CATEGORIES:The First Five Years
ATTACH;FMTTYPE=image/png:https://midwestfamilyconnections.ca/wp-content/uploads/2024/03/Crafternoon-April-2024.png
END:VEVENT
END:VCALENDAR