BEGIN:VCALENDAR
VERSION:2.0
PRODID:-//MFC - ECPv6.15.13.1//NONSGML v1.0//EN
CALSCALE:GREGORIAN
METHOD:PUBLISH
X-ORIGINAL-URL:https://midwestfamilyconnections.ca
X-WR-CALDESC:Events for MFC
REFRESH-INTERVAL;VALUE=DURATION:PT1H
X-Robots-Tag:noindex
X-PUBLISHED-TTL:PT1H
BEGIN:VTIMEZONE
TZID:America/Edmonton
BEGIN:DAYLIGHT
TZOFFSETFROM:-0700
TZOFFSETTO:-0600
TZNAME:MDT
DTSTART:20230312T090000
END:DAYLIGHT
BEGIN:STANDARD
TZOFFSETFROM:-0600
TZOFFSETTO:-0700
TZNAME:MST
DTSTART:20231105T080000
END:STANDARD
BEGIN:DAYLIGHT
TZOFFSETFROM:-0700
TZOFFSETTO:-0600
TZNAME:MDT
DTSTART:20240310T090000
END:DAYLIGHT
BEGIN:STANDARD
TZOFFSETFROM:-0600
TZOFFSETTO:-0700
TZNAME:MST
DTSTART:20241103T080000
END:STANDARD
BEGIN:DAYLIGHT
TZOFFSETFROM:-0700
TZOFFSETTO:-0600
TZNAME:MDT
DTSTART:20250309T090000
END:DAYLIGHT
BEGIN:STANDARD
TZOFFSETFROM:-0600
TZOFFSETTO:-0700
TZNAME:MST
DTSTART:20251102T080000
END:STANDARD
END:VTIMEZONE
BEGIN:VEVENT
DTSTART;TZID=America/Edmonton:20240313T093000
DTEND;TZID=America/Edmonton:20240313T113000
DTSTAMP:20260424T031140
CREATED:20240213T154149Z
LAST-MODIFIED:20240213T154149Z
UID:10003254-1710322200-1710329400@midwestfamilyconnections.ca
SUMMARY:FREE Indoor Playground Drop-In
DESCRIPTION:The Indoor Playground is open to all families and their babies\, toddlers & preschoolers!
URL:https://midwestfamilyconnections.ca/event/free-indoor-playground-drop-in/2024-03-13/
LOCATION:Midwest Family Connections\, Suite 103 4910-50 Street\, Lloydminster\, Saskatchewan\, S9V 0Y5\, Canada
CATEGORIES:The First Five Years
ATTACH;FMTTYPE=image/jpeg:https://midwestfamilyconnections.ca/wp-content/uploads/2024/02/IMG_1316-scaled.jpg
END:VEVENT
BEGIN:VEVENT
DTSTART;TZID=America/Edmonton:20240313T103000
DTEND;TZID=America/Edmonton:20240313T120000
DTSTAMP:20260424T031140
CREATED:20240216T204929Z
LAST-MODIFIED:20240216T204929Z
UID:10003333-1710325800-1710331200@midwestfamilyconnections.ca
SUMMARY:Paradise Hill - Family Play & Learn
DESCRIPTION:Free-play & literacy activities\, parenting information and more! Open to parents and their babies\, toddlers & preschoolers.
URL:https://midwestfamilyconnections.ca/event/paradise-hill-family-play-learn-3/
LOCATION:Paradise Hill Community Centre\, 102-3 Avenue\, Paradise Hill\, SK
CATEGORIES:The First Five Years
ATTACH;FMTTYPE=image/png:https://midwestfamilyconnections.ca/wp-content/uploads/2024/02/KF-Outreach-March-2024-4.png
END:VEVENT
BEGIN:VEVENT
DTSTART;TZID=America/Edmonton:20240313T130000
DTEND;TZID=America/Edmonton:20240313T150000
DTSTAMP:20260424T031140
CREATED:20240213T154510Z
LAST-MODIFIED:20240213T154510Z
UID:10003261-1710334800-1710342000@midwestfamilyconnections.ca
SUMMARY:FREE Indoor Playground Drop-in play!
DESCRIPTION:The Indoor Playground is open to all families and their babies\, toddlers & preschoolers.
URL:https://midwestfamilyconnections.ca/event/free-indoor-playground-drop-in-play-2/2024-03-13/
LOCATION:Midwest Family Connections\, Suite 103 4910-50 Street\, Lloydminster\, Saskatchewan\, S9V 0Y5\, Canada
CATEGORIES:The First Five Years
ATTACH;FMTTYPE=image/jpeg:https://midwestfamilyconnections.ca/wp-content/uploads/2024/02/IMG_1314-scaled.jpg
END:VEVENT
BEGIN:VEVENT
DTSTART;TZID=America/Edmonton:20240313T180000
DTEND;TZID=America/Edmonton:20240313T193000
DTSTAMP:20260424T031140
CREATED:20240216T202618Z
LAST-MODIFIED:20240229T192458Z
UID:10003321-1710352800-1710358200@midwestfamilyconnections.ca
SUMMARY:Super Dads Super Kids
DESCRIPTION:A monthly program for dads and kids to connect & play in the Indoor Playground! Please contact MFC to register.
URL:https://midwestfamilyconnections.ca/event/super-dads-super-kids/2024-03-13/
LOCATION:Midwest Family Connections\, Suite 103 4910-50 Street\, Lloydminster\, Saskatchewan\, S9V 0Y5\, Canada
CATEGORIES:The First Five Years
ATTACH;FMTTYPE=image/jpeg:https://midwestfamilyconnections.ca/wp-content/uploads/2024/02/SUPER-DADS-super-kids-1-1-scaled.jpg
END:VEVENT
END:VCALENDAR