BEGIN:VCALENDAR
VERSION:2.0
PRODID:-//MFC - ECPv6.15.13.1//NONSGML v1.0//EN
CALSCALE:GREGORIAN
METHOD:PUBLISH
X-WR-CALNAME:MFC
X-ORIGINAL-URL:https://midwestfamilyconnections.ca
X-WR-CALDESC:Events for MFC
REFRESH-INTERVAL;VALUE=DURATION:PT1H
X-Robots-Tag:noindex
X-PUBLISHED-TTL:PT1H
BEGIN:VTIMEZONE
TZID:America/Edmonton
BEGIN:DAYLIGHT
TZOFFSETFROM:-0700
TZOFFSETTO:-0600
TZNAME:MDT
DTSTART:20230312T090000
END:DAYLIGHT
BEGIN:STANDARD
TZOFFSETFROM:-0600
TZOFFSETTO:-0700
TZNAME:MST
DTSTART:20231105T080000
END:STANDARD
BEGIN:DAYLIGHT
TZOFFSETFROM:-0700
TZOFFSETTO:-0600
TZNAME:MDT
DTSTART:20240310T090000
END:DAYLIGHT
BEGIN:STANDARD
TZOFFSETFROM:-0600
TZOFFSETTO:-0700
TZNAME:MST
DTSTART:20241103T080000
END:STANDARD
BEGIN:DAYLIGHT
TZOFFSETFROM:-0700
TZOFFSETTO:-0600
TZNAME:MDT
DTSTART:20250309T090000
END:DAYLIGHT
BEGIN:STANDARD
TZOFFSETFROM:-0600
TZOFFSETTO:-0700
TZNAME:MST
DTSTART:20251102T080000
END:STANDARD
END:VTIMEZONE
BEGIN:VEVENT
DTSTART;TZID=America/Edmonton:20240308T093000
DTEND;TZID=America/Edmonton:20240308T110000
DTSTAMP:20260424T025341
CREATED:20240216T204308Z
LAST-MODIFIED:20240216T204308Z
UID:10003330-1709890200-1709895600@midwestfamilyconnections.ca
SUMMARY:Lashburn - Family Play & Learn
DESCRIPTION:Free-play & literacy activities\, parenting information and more! Open to parents and their babies\, toddlers & preschoolers.
URL:https://midwestfamilyconnections.ca/event/lashburn-family-play-learn-2/
LOCATION:J.H. Moore Elementary School\, 215 3 Street East\, Lashburn\, Saskatchewan\, S0M 1H0\, Canada
CATEGORIES:The First Five Years
ATTACH;FMTTYPE=image/png:https://midwestfamilyconnections.ca/wp-content/uploads/2024/02/KF-Outreach-March-2024-1.png
END:VEVENT
BEGIN:VEVENT
DTSTART;TZID=America/Edmonton:20240308T093000
DTEND;TZID=America/Edmonton:20240308T113000
DTSTAMP:20260424T025341
CREATED:20240216T200842Z
LAST-MODIFIED:20240216T200842Z
UID:10003302-1709890200-1709897400@midwestfamilyconnections.ca
SUMMARY:FREE Indoor Playground Drop-in play!
DESCRIPTION:The Indoor Playground is open to all families and their babies\, toddlers & preschoolers!
URL:https://midwestfamilyconnections.ca/event/free-indoor-playground-drop-in-play-8/2024-03-08/
LOCATION:Midwest Family Connections\, Suite 103 4910-50 Street\, Lloydminster\, Saskatchewan\, S9V 0Y5\, Canada
CATEGORIES:The First Five Years
ATTACH;FMTTYPE=image/jpeg:https://midwestfamilyconnections.ca/wp-content/uploads/2024/02/pig-on-airplane-scaled.jpg
END:VEVENT
BEGIN:VEVENT
DTSTART;TZID=America/Edmonton:20240308T130000
DTEND;TZID=America/Edmonton:20240308T143000
DTSTAMP:20260424T025341
CREATED:20240216T204637Z
LAST-MODIFIED:20240216T204637Z
UID:10003331-1709902800-1709908200@midwestfamilyconnections.ca
SUMMARY:Neilburg - Family Play & Learn
DESCRIPTION:Free-play & literacy activities\, parenting information and more! Open to parents and their babies\, toddlers & preschoolers.
URL:https://midwestfamilyconnections.ca/event/neilburg-family-play-learn/
LOCATION:Neilburg Library\, 108 Centre Street\, Neilburg\, Saskatchewan\, Canada
CATEGORIES:The First Five Years
ATTACH;FMTTYPE=image/png:https://midwestfamilyconnections.ca/wp-content/uploads/2024/02/KF-Outreach-March-2024-2.png
END:VEVENT
BEGIN:VEVENT
DTSTART;TZID=America/Edmonton:20240308T130000
DTEND;TZID=America/Edmonton:20240308T150000
DTSTAMP:20260424T025341
CREATED:20240216T201641Z
LAST-MODIFIED:20240216T201641Z
UID:10003314-1709902800-1709910000@midwestfamilyconnections.ca
SUMMARY:FREE Indoor Playground Drop-in and Crafternoon!
DESCRIPTION:The Indoor Playground is open to all families and their babies\, toddlers & preschoolers! Explore the different craft & art materials also available.
URL:https://midwestfamilyconnections.ca/event/free-indoor-playground-drop-in-and-crafternoon/2024-03-08/
LOCATION:Midwest Family Connections\, Suite 103 4910-50 Street\, Lloydminster\, Saskatchewan\, S9V 0Y5\, Canada
CATEGORIES:The First Five Years
ATTACH;FMTTYPE=image/jpeg:https://midwestfamilyconnections.ca/wp-content/uploads/2024/02/March-Crafternoon.jpg
END:VEVENT
END:VCALENDAR