BEGIN:VCALENDAR
VERSION:2.0
PRODID:-//MFC - ECPv6.15.13.1//NONSGML v1.0//EN
CALSCALE:GREGORIAN
METHOD:PUBLISH
X-WR-CALNAME:MFC
X-ORIGINAL-URL:https://midwestfamilyconnections.ca
X-WR-CALDESC:Events for MFC
REFRESH-INTERVAL;VALUE=DURATION:PT1H
X-Robots-Tag:noindex
X-PUBLISHED-TTL:PT1H
BEGIN:VTIMEZONE
TZID:America/Edmonton
BEGIN:DAYLIGHT
TZOFFSETFROM:-0700
TZOFFSETTO:-0600
TZNAME:MDT
DTSTART:20230312T090000
END:DAYLIGHT
BEGIN:STANDARD
TZOFFSETFROM:-0600
TZOFFSETTO:-0700
TZNAME:MST
DTSTART:20231105T080000
END:STANDARD
BEGIN:DAYLIGHT
TZOFFSETFROM:-0700
TZOFFSETTO:-0600
TZNAME:MDT
DTSTART:20240310T090000
END:DAYLIGHT
BEGIN:STANDARD
TZOFFSETFROM:-0600
TZOFFSETTO:-0700
TZNAME:MST
DTSTART:20241103T080000
END:STANDARD
BEGIN:DAYLIGHT
TZOFFSETFROM:-0700
TZOFFSETTO:-0600
TZNAME:MDT
DTSTART:20250309T090000
END:DAYLIGHT
BEGIN:STANDARD
TZOFFSETFROM:-0600
TZOFFSETTO:-0700
TZNAME:MST
DTSTART:20251102T080000
END:STANDARD
END:VTIMEZONE
BEGIN:VEVENT
DTSTART;TZID=America/Edmonton:20240227T093000
DTEND;TZID=America/Edmonton:20240227T113000
DTSTAMP:20260423T171129
CREATED:20240129T202315Z
LAST-MODIFIED:20240129T202315Z
UID:10003191-1709026200-1709033400@midwestfamilyconnections.ca
SUMMARY:FREE Indoor Playground Drop-in play!
DESCRIPTION:The Indoor Playground is FREE and open to all families and their babies\, toddlers & preschoolers.
URL:https://midwestfamilyconnections.ca/event/free-indoor-playground-drop-in-play/2024-02-27/
LOCATION:Midwest Family Connections\, Suite 103 4910-50 Street\, Lloydminster\, Saskatchewan\, S9V 0Y5\, Canada
CATEGORIES:The First Five Years
ATTACH;FMTTYPE=image/jpeg:https://midwestfamilyconnections.ca/wp-content/uploads/2024/01/Stuffies-on-slide-scaled.jpg
END:VEVENT
BEGIN:VEVENT
DTSTART;TZID=America/Edmonton:20240227T130000
DTEND;TZID=America/Edmonton:20240227T150000
DTSTAMP:20260423T171129
CREATED:20240213T153400Z
LAST-MODIFIED:20240213T153400Z
UID:10003243-1709038800-1709046000@midwestfamilyconnections.ca
SUMMARY:Indigenous Literacy & Parenting Skills
DESCRIPTION:Join us to connect with Indigenous culture\, ways to support children’s literacy and parenting strategies. Contact MFC to register.
URL:https://midwestfamilyconnections.ca/event/indigenous-literacy-parenting-skills-2/2024-02-27/
LOCATION:Midwest Family Connections\, Suite 103 4910-50 Street\, Lloydminster\, Saskatchewan\, S9V 0Y5\, Canada
CATEGORIES:The First Five Years
ATTACH;FMTTYPE=image/jpeg:https://midwestfamilyconnections.ca/wp-content/uploads/2024/02/Indigenous-Literacy-Parenting-Program_Page_1.jpg
END:VEVENT
BEGIN:VEVENT
DTSTART;TZID=America/Edmonton:20240227T173000
DTEND;TZID=America/Edmonton:20240227T180000
DTSTAMP:20260423T171129
CREATED:20240129T213412Z
LAST-MODIFIED:20240129T213412Z
UID:10003230-1709055000-1709056800@midwestfamilyconnections.ca
SUMMARY:Tiny Tikes - Learning League!! Virtual program
DESCRIPTION:Stay warm & cozy while connecting on-line for family playdates! Call or email to register and get the Zoom link to join. This program is open to all families and their babies\, toddlers & preschoolers. \nPlease note the times of these late afternoon sessions – 5:30 MST\, 6:30 CST
URL:https://midwestfamilyconnections.ca/event/tiny-tikes-learning-league-virtual-program/2024-02-27/
LOCATION:SK
CATEGORIES:The First Five Years
ATTACH;FMTTYPE=image/png:https://midwestfamilyconnections.ca/wp-content/uploads/2024/01/SK-Reg.-KF-Virtual-Feb-2024.png
END:VEVENT
END:VCALENDAR