BEGIN:VCALENDAR
VERSION:2.0
PRODID:-//MFC - ECPv6.15.13.1//NONSGML v1.0//EN
CALSCALE:GREGORIAN
METHOD:PUBLISH
X-ORIGINAL-URL:https://midwestfamilyconnections.ca
X-WR-CALDESC:Events for MFC
REFRESH-INTERVAL;VALUE=DURATION:PT1H
X-Robots-Tag:noindex
X-PUBLISHED-TTL:PT1H
BEGIN:VTIMEZONE
TZID:America/Edmonton
BEGIN:DAYLIGHT
TZOFFSETFROM:-0700
TZOFFSETTO:-0600
TZNAME:MDT
DTSTART:20230312T090000
END:DAYLIGHT
BEGIN:STANDARD
TZOFFSETFROM:-0600
TZOFFSETTO:-0700
TZNAME:MST
DTSTART:20231105T080000
END:STANDARD
BEGIN:DAYLIGHT
TZOFFSETFROM:-0700
TZOFFSETTO:-0600
TZNAME:MDT
DTSTART:20240310T090000
END:DAYLIGHT
BEGIN:STANDARD
TZOFFSETFROM:-0600
TZOFFSETTO:-0700
TZNAME:MST
DTSTART:20241103T080000
END:STANDARD
BEGIN:DAYLIGHT
TZOFFSETFROM:-0700
TZOFFSETTO:-0600
TZNAME:MDT
DTSTART:20250309T090000
END:DAYLIGHT
BEGIN:STANDARD
TZOFFSETFROM:-0600
TZOFFSETTO:-0700
TZNAME:MST
DTSTART:20251102T080000
END:STANDARD
END:VTIMEZONE
BEGIN:VEVENT
DTSTART;TZID=America/Edmonton:20240212T093000
DTEND;TZID=America/Edmonton:20240212T110000
DTSTAMP:20260424T005214
CREATED:20240129T211809Z
LAST-MODIFIED:20240129T211809Z
UID:10003225-1707730200-1707735600@midwestfamilyconnections.ca
SUMMARY:Marshall - Family Play & Learn
DESCRIPTION:Family Play & Learn is FREE and open to all families and their babies\, toddlers & preschoolers. Join us for stories\, crafts\, games and activities! Developmental questionnaires\, parenting information and community resources also available!
URL:https://midwestfamilyconnections.ca/event/marshall-family-play-learn-2/
LOCATION:Marshall School\, 109-1 Street East\, Marshall\, SK
CATEGORIES:The First Five Years
ATTACH;FMTTYPE=image/png:https://midwestfamilyconnections.ca/wp-content/uploads/2024/01/Marshall-Feb-2024.png
END:VEVENT
BEGIN:VEVENT
DTSTART;TZID=America/Edmonton:20240212T133000
DTEND;TZID=America/Edmonton:20240212T150000
DTSTAMP:20260424T005214
CREATED:20240129T211246Z
LAST-MODIFIED:20240129T211246Z
UID:10003223-1707744600-1707750000@midwestfamilyconnections.ca
SUMMARY:Maidstone Family Play & Learn
DESCRIPTION:Family Play & Learn is FREE and open to all families and their babies\, toddlers & preschoolers. Join us for stories\, crafts\, games and activities! Developmental questionnaires\, parenting information and community resources also available!
URL:https://midwestfamilyconnections.ca/event/maidstone-family-play-learn-2/2024-02-12/
LOCATION:Ratushniak Elementary School\, 220- 3 Street East\, Maidstone\, SK
CATEGORIES:The First Five Years
ATTACH;FMTTYPE=image/png:https://midwestfamilyconnections.ca/wp-content/uploads/2024/01/Maidstone-Feb-2024.png
END:VEVENT
END:VCALENDAR