BEGIN:VCALENDAR
VERSION:2.0
PRODID:-//MFC - ECPv6.15.13.1//NONSGML v1.0//EN
CALSCALE:GREGORIAN
METHOD:PUBLISH
X-WR-CALNAME:MFC
X-ORIGINAL-URL:https://midwestfamilyconnections.ca
X-WR-CALDESC:Events for MFC
REFRESH-INTERVAL;VALUE=DURATION:PT1H
X-Robots-Tag:noindex
X-PUBLISHED-TTL:PT1H
BEGIN:VTIMEZONE
TZID:America/Edmonton
BEGIN:DAYLIGHT
TZOFFSETFROM:-0700
TZOFFSETTO:-0600
TZNAME:MDT
DTSTART:20240310T090000
END:DAYLIGHT
BEGIN:STANDARD
TZOFFSETFROM:-0600
TZOFFSETTO:-0700
TZNAME:MST
DTSTART:20241103T080000
END:STANDARD
BEGIN:DAYLIGHT
TZOFFSETFROM:-0700
TZOFFSETTO:-0600
TZNAME:MDT
DTSTART:20250309T090000
END:DAYLIGHT
BEGIN:STANDARD
TZOFFSETFROM:-0600
TZOFFSETTO:-0700
TZNAME:MST
DTSTART:20251102T080000
END:STANDARD
BEGIN:DAYLIGHT
TZOFFSETFROM:-0700
TZOFFSETTO:-0600
TZNAME:MDT
DTSTART:20260308T090000
END:DAYLIGHT
BEGIN:STANDARD
TZOFFSETFROM:-0600
TZOFFSETTO:-0700
TZNAME:MST
DTSTART:20261101T080000
END:STANDARD
END:VTIMEZONE
BEGIN:VEVENT
DTSTART;TZID=America/Edmonton:20250625T100000
DTEND;TZID=America/Edmonton:20250625T113000
DTSTAMP:20260420T122414
CREATED:20250529T202540Z
LAST-MODIFIED:20250530T191425Z
UID:10004623-1750845600-1750851000@midwestfamilyconnections.ca
SUMMARY:Lloydminster Park Programs
DESCRIPTION:Wednesday morning you can find us at the Barrier-Free Park behind the Lloydminster Lakeland College Campus. We bring along gross motor activities\, infant toys\, scavenger hunts\, messy play and more. Reach out if you have any more questions about this drop in program! \nOpen to all families and their babies\, toddlers & preschoolers!  \nStaff are on site to answer any questions you may have about development\, parenting and community resources.
URL:https://midwestfamilyconnections.ca/event/lloydminster-park-programs/2025-06-25/
LOCATION:Barrier-Free Park\, 2602 59 Ave\, Lloydminster\, Alberta\, Canada
CATEGORIES:The First Five Years
ATTACH;FMTTYPE=image/png:https://midwestfamilyconnections.ca/wp-content/uploads/2025/05/Lloyd-Parks-June-2025.png
END:VEVENT
BEGIN:VEVENT
DTSTART;TZID=America/Edmonton:20250625T130000
DTEND;TZID=America/Edmonton:20250625T150000
DTSTAMP:20260420T122414
CREATED:20250529T200420Z
LAST-MODIFIED:20250529T200420Z
UID:10004620-1750856400-1750863600@midwestfamilyconnections.ca
SUMMARY:Indoor Playground
DESCRIPTION:Open to all families and their babies\, toddlers & preschoolers!\nStaff are on site to answer any questions you may have about development\, parenting and community resources. \nA great space to connect\, learn and play with your little ones and other families in the community! \nIf you require transportation to and from any of our programs please contact the office with 24 hours notice to let us know and then we’ll organize the rest! 1-866-651-5911
URL:https://midwestfamilyconnections.ca/event/indoor-playground-5/2025-06-25/
LOCATION:The Indoor Playground
CATEGORIES:The First Five Years
ATTACH;FMTTYPE=image/jpeg:https://midwestfamilyconnections.ca/wp-content/uploads/2025/05/paisley-tuff-tray.jpg
END:VEVENT
BEGIN:VEVENT
DTSTART;TZID=America/Edmonton:20250625T130000
DTEND;TZID=America/Edmonton:20250625T150000
DTSTAMP:20260420T122414
CREATED:20250530T191924Z
LAST-MODIFIED:20250530T191924Z
UID:10004627-1750856400-1750863600@midwestfamilyconnections.ca
SUMMARY:Triple P Tipsheet Time!
DESCRIPTION:While you’re playing and connecting in the Indoor Playground with your kiddos we’ll have staff available to review an age specific Triple P Tipsheet with you. We’ll be rotating through Tipsheet topics\, but staff can find information on whichever aspect of parenting you’re looking for. \nIf you’re looking for a more private time to go over parenting resources reach out to the office at 1-866-651-5911 and a staff member will be happy to set up a time to help!
URL:https://midwestfamilyconnections.ca/event/triple-p-tipsheet-time/2025-06-25/
LOCATION:The Indoor Playground
CATEGORIES:The First Five Years
END:VEVENT
BEGIN:VEVENT
DTSTART;TZID=America/Edmonton:20250625T171500
DTEND;TZID=America/Edmonton:20250625T191500
DTSTAMP:20260420T122414
CREATED:20250425T175313Z
LAST-MODIFIED:20250425T175313Z
UID:10004565-1750871700-1750878900@midwestfamilyconnections.ca
SUMMARY:SPARK Communication- Evening Sessions!
DESCRIPTION:This program is for families with a child 0-5 years of age that has a speech and language delay. Caregivers and children attend this program together. \nSupper is provided during this session! \nRegistration Required! \nThis program will help caregivers:\n– Understand their child’s communication style and stage so they’re able to set goals to work towards.\n– Talk in ways that help their children understand and use language.\n– Use strategies during play and reading to boost learning and engagement
URL:https://midwestfamilyconnections.ca/event/spark-communication-evening-sessions/2025-06-25/
LOCATION:Midwest Family Connections\, Suite 103 4910-50 Street\, Lloydminster\, Saskatchewan\, S9V 0Y5\, Canada
CATEGORIES:The First Five Years
ATTACH;FMTTYPE=image/png:https://midwestfamilyconnections.ca/wp-content/uploads/2025/04/SPARK-May-June-2025.png
END:VEVENT
END:VCALENDAR