BEGIN:VCALENDAR
VERSION:2.0
PRODID:-//MFC - ECPv6.15.13.1//NONSGML v1.0//EN
CALSCALE:GREGORIAN
METHOD:PUBLISH
X-WR-CALNAME:MFC
X-ORIGINAL-URL:https://midwestfamilyconnections.ca
X-WR-CALDESC:Events for MFC
REFRESH-INTERVAL;VALUE=DURATION:PT1H
X-Robots-Tag:noindex
X-PUBLISHED-TTL:PT1H
BEGIN:VTIMEZONE
TZID:America/Edmonton
BEGIN:DAYLIGHT
TZOFFSETFROM:-0700
TZOFFSETTO:-0600
TZNAME:MDT
DTSTART:20240310T090000
END:DAYLIGHT
BEGIN:STANDARD
TZOFFSETFROM:-0600
TZOFFSETTO:-0700
TZNAME:MST
DTSTART:20241103T080000
END:STANDARD
BEGIN:DAYLIGHT
TZOFFSETFROM:-0700
TZOFFSETTO:-0600
TZNAME:MDT
DTSTART:20250309T090000
END:DAYLIGHT
BEGIN:STANDARD
TZOFFSETFROM:-0600
TZOFFSETTO:-0700
TZNAME:MST
DTSTART:20251102T080000
END:STANDARD
BEGIN:DAYLIGHT
TZOFFSETFROM:-0700
TZOFFSETTO:-0600
TZNAME:MDT
DTSTART:20260308T090000
END:DAYLIGHT
BEGIN:STANDARD
TZOFFSETFROM:-0600
TZOFFSETTO:-0700
TZNAME:MST
DTSTART:20261101T080000
END:STANDARD
END:VTIMEZONE
BEGIN:VEVENT
DTSTART;TZID=America/Edmonton:20250624T093000
DTEND;TZID=America/Edmonton:20250624T113000
DTSTAMP:20260420T122420
CREATED:20250523T190007Z
LAST-MODIFIED:20250523T190007Z
UID:10004608-1750757400-1750764600@midwestfamilyconnections.ca
SUMMARY:Indoor Playground
DESCRIPTION:Open to all families and their babies\, toddlers & preschoolers!\nStaff are on site to answer any questions you may have about development\, parenting and community resources. \nA great space to connect\, learn and play with your little ones and other families in the community! \nIf you require transportation to and from a program we can help you out if you contact the office with 24 hours notice. 306-825-5911
URL:https://midwestfamilyconnections.ca/event/indoor-playground-8/2025-06-24/
LOCATION:The Indoor Playground
CATEGORIES:The First Five Years
ATTACH;FMTTYPE=image/jpeg:https://midwestfamilyconnections.ca/wp-content/uploads/2025/05/devon-and-rylee-w-toys-scaled.jpg
END:VEVENT
BEGIN:VEVENT
DTSTART;TZID=America/Edmonton:20250624T100000
DTEND;TZID=America/Edmonton:20250624T110000
DTSTAMP:20260420T122420
CREATED:20250523T185132Z
LAST-MODIFIED:20250523T185132Z
UID:10004597-1750759200-1750762800@midwestfamilyconnections.ca
SUMMARY:Infant Massage
DESCRIPTION:Open to all dads\, moms\, grandparents and caregivers with an infant that is over three weeks old! \nLearn different Infant Massage strategies to connect with your babies and decrease stress for both you and your baby. You’ll learn a variety of strategies that help with things from congestion to sleep.  \nYour baby and you will attend these sessions together.  \nRegister today for all three sessions.  \nRegister via phone or email at 306-825-5911 or info@midwestfamilyconnections.ca
URL:https://midwestfamilyconnections.ca/event/infant-massage/2025-06-24/
LOCATION:Midwest Family Connections\, Suite 103 4910-50 Street\, Lloydminster\, Saskatchewan\, S9V 0Y5\, Canada
CATEGORIES:Infant (up to 12 months),Newborn
ATTACH;FMTTYPE=image/png:https://midwestfamilyconnections.ca/wp-content/uploads/2025/05/Infant-Massage-June-2025.png
END:VEVENT
BEGIN:VEVENT
DTSTART;TZID=America/Edmonton:20250624T130000
DTEND;TZID=America/Edmonton:20250624T190000
DTSTAMP:20260420T122420
CREATED:20250523T185559Z
LAST-MODIFIED:20250523T185559Z
UID:10004601-1750770000-1750791600@midwestfamilyconnections.ca
SUMMARY:Indoor Playground- Extended
DESCRIPTION:Open to all families and their babies\, toddlers & preschoolers!\nStaff are on site to answer any questions you may have about development\, parenting and community resources. \nA great space to connect\, learn and play with your little ones and other families in the community!
URL:https://midwestfamilyconnections.ca/event/indoor-playground-extended-3/2025-06-24/
LOCATION:The Indoor Playground
CATEGORIES:The First Five Years
ATTACH;FMTTYPE=image/png:https://midwestfamilyconnections.ca/wp-content/uploads/2025/05/June-2025-IP-Hours.png
END:VEVENT
END:VCALENDAR