BEGIN:VCALENDAR
VERSION:2.0
PRODID:-//MFC - ECPv6.15.13.1//NONSGML v1.0//EN
CALSCALE:GREGORIAN
METHOD:PUBLISH
X-WR-CALNAME:MFC
X-ORIGINAL-URL:https://midwestfamilyconnections.ca
X-WR-CALDESC:Events for MFC
REFRESH-INTERVAL;VALUE=DURATION:PT1H
X-Robots-Tag:noindex
X-PUBLISHED-TTL:PT1H
BEGIN:VTIMEZONE
TZID:America/Edmonton
BEGIN:DAYLIGHT
TZOFFSETFROM:-0700
TZOFFSETTO:-0600
TZNAME:MDT
DTSTART:20240310T090000
END:DAYLIGHT
BEGIN:STANDARD
TZOFFSETFROM:-0600
TZOFFSETTO:-0700
TZNAME:MST
DTSTART:20241103T080000
END:STANDARD
BEGIN:DAYLIGHT
TZOFFSETFROM:-0700
TZOFFSETTO:-0600
TZNAME:MDT
DTSTART:20250309T090000
END:DAYLIGHT
BEGIN:STANDARD
TZOFFSETFROM:-0600
TZOFFSETTO:-0700
TZNAME:MST
DTSTART:20251102T080000
END:STANDARD
BEGIN:DAYLIGHT
TZOFFSETFROM:-0700
TZOFFSETTO:-0600
TZNAME:MDT
DTSTART:20260308T090000
END:DAYLIGHT
BEGIN:STANDARD
TZOFFSETFROM:-0600
TZOFFSETTO:-0700
TZNAME:MST
DTSTART:20261101T080000
END:STANDARD
END:VTIMEZONE
BEGIN:VEVENT
DTSTART;TZID=America/Edmonton:20250620T093000
DTEND;TZID=America/Edmonton:20250620T113000
DTSTAMP:20260420T153443
CREATED:20250523T190007Z
LAST-MODIFIED:20250523T190007Z
UID:10004607-1750411800-1750419000@midwestfamilyconnections.ca
SUMMARY:Indoor Playground
DESCRIPTION:Open to all families and their babies\, toddlers & preschoolers!\nStaff are on site to answer any questions you may have about development\, parenting and community resources. \nA great space to connect\, learn and play with your little ones and other families in the community! \nIf you require transportation to and from a program we can help you out if you contact the office with 24 hours notice. 306-825-5911
URL:https://midwestfamilyconnections.ca/event/indoor-playground-8/2025-06-20/
LOCATION:The Indoor Playground
CATEGORIES:The First Five Years
ATTACH;FMTTYPE=image/jpeg:https://midwestfamilyconnections.ca/wp-content/uploads/2025/05/devon-and-rylee-w-toys-scaled.jpg
END:VEVENT
BEGIN:VEVENT
DTSTART;TZID=America/Edmonton:20250620T100000
DTEND;TZID=America/Edmonton:20250620T113000
DTSTAMP:20260420T153443
CREATED:20250530T195110Z
LAST-MODIFIED:20250530T195110Z
UID:10004642-1750413600-1750419000@midwestfamilyconnections.ca
SUMMARY:Vermilion Park Program
DESCRIPTION:You can find us Friday mornings at The Heritage Park for games & activities!\nOpen to all families and their babies\, toddlers & preschoolers!\nStaff are on site to answer any questions you may have about development\, parenting and community resources. \nReach out with any questions to 1-866-651-5911
URL:https://midwestfamilyconnections.ca/event/vermilion-park-program/2025-06-20/
LOCATION:Heritage Park\, 51 Ave & 53 Street\, Vermilion
CATEGORIES:The First Five Years
ATTACH;FMTTYPE=image/jpeg:https://midwestfamilyconnections.ca/wp-content/uploads/2025/05/Vermilion-Park-Program-June-2025.jpg
END:VEVENT
BEGIN:VEVENT
DTSTART;TZID=America/Edmonton:20250620T130000
DTEND;TZID=America/Edmonton:20250620T143000
DTSTAMP:20260420T153443
CREATED:20250530T194325Z
LAST-MODIFIED:20250530T194325Z
UID:10004639-1750424400-1750429800@midwestfamilyconnections.ca
SUMMARY:Lloydminster Park Programs
DESCRIPTION:Friday afternoons you can find us at the Parkview Park! \nContact us for more information! \nOpen to all families and their babies\, toddlers & preschoolers! We bring along gross motor play\, crafts\, messy play and loads of other activities for you and your little ones to enjoy together! \nStaff are on site to answer any questions you may have about development\, parenting and community resources.
URL:https://midwestfamilyconnections.ca/event/lloydminster-park-programs-2/2025-06-20/
LOCATION:Parkview Playground\, 3603 71 Ave\, Lloydminster\, Alberta\, Canada
CATEGORIES:The First Five Years
ATTACH;FMTTYPE=image/png:https://midwestfamilyconnections.ca/wp-content/uploads/2025/05/Lloyd-Parks-June-2025-1.png
END:VEVENT
END:VCALENDAR