BEGIN:VCALENDAR
VERSION:2.0
PRODID:-//MFC - ECPv6.15.13.1//NONSGML v1.0//EN
CALSCALE:GREGORIAN
METHOD:PUBLISH
X-ORIGINAL-URL:https://midwestfamilyconnections.ca
X-WR-CALDESC:Events for MFC
REFRESH-INTERVAL;VALUE=DURATION:PT1H
X-Robots-Tag:noindex
X-PUBLISHED-TTL:PT1H
BEGIN:VTIMEZONE
TZID:America/Edmonton
BEGIN:DAYLIGHT
TZOFFSETFROM:-0700
TZOFFSETTO:-0600
TZNAME:MDT
DTSTART:20240310T090000
END:DAYLIGHT
BEGIN:STANDARD
TZOFFSETFROM:-0600
TZOFFSETTO:-0700
TZNAME:MST
DTSTART:20241103T080000
END:STANDARD
BEGIN:DAYLIGHT
TZOFFSETFROM:-0700
TZOFFSETTO:-0600
TZNAME:MDT
DTSTART:20250309T090000
END:DAYLIGHT
BEGIN:STANDARD
TZOFFSETFROM:-0600
TZOFFSETTO:-0700
TZNAME:MST
DTSTART:20251102T080000
END:STANDARD
BEGIN:DAYLIGHT
TZOFFSETFROM:-0700
TZOFFSETTO:-0600
TZNAME:MDT
DTSTART:20260308T090000
END:DAYLIGHT
BEGIN:STANDARD
TZOFFSETFROM:-0600
TZOFFSETTO:-0700
TZNAME:MST
DTSTART:20261101T080000
END:STANDARD
END:VTIMEZONE
BEGIN:VEVENT
DTSTART;TZID=America/Edmonton:20250619T100000
DTEND;TZID=America/Edmonton:20250619T113000
DTSTAMP:20260420T215645
CREATED:20250530T192555Z
LAST-MODIFIED:20250626T204112Z
UID:10004630-1750327200-1750332600@midwestfamilyconnections.ca
SUMMARY:Mothers First
DESCRIPTION:A weekly group for mothers of infants to connect with one another while learning about & practicing self-care.\nTransportation and limited childcare provided\, so contact MFC for information or to register. \nTopics vary from; Physical Health\, Community Supports\, Mental Health and more! \n306-825-5911 to register or for more info.
URL:https://midwestfamilyconnections.ca/event/mothers-first-14/2025-06-19/
LOCATION:Midwest Family Connections\, Suite 103 4910-50 Street\, Lloydminster\, Saskatchewan\, S9V 0Y5\, Canada
CATEGORIES:Infant (up to 12 months)
ATTACH;FMTTYPE=image/jpeg:https://midwestfamilyconnections.ca/wp-content/uploads/2025/05/mothers-first.jpg
END:VEVENT
BEGIN:VEVENT
DTSTART;TZID=America/Edmonton:20250619T130000
DTEND;TZID=America/Edmonton:20250619T150000
DTSTAMP:20260420T215645
CREATED:20250529T200420Z
LAST-MODIFIED:20250529T200420Z
UID:10004619-1750338000-1750345200@midwestfamilyconnections.ca
SUMMARY:Indoor Playground
DESCRIPTION:Open to all families and their babies\, toddlers & preschoolers!\nStaff are on site to answer any questions you may have about development\, parenting and community resources. \nA great space to connect\, learn and play with your little ones and other families in the community! \nIf you require transportation to and from any of our programs please contact the office with 24 hours notice to let us know and then we’ll organize the rest! 1-866-651-5911
URL:https://midwestfamilyconnections.ca/event/indoor-playground-5/2025-06-19/
LOCATION:The Indoor Playground
CATEGORIES:The First Five Years
ATTACH;FMTTYPE=image/jpeg:https://midwestfamilyconnections.ca/wp-content/uploads/2025/05/paisley-tuff-tray.jpg
END:VEVENT
END:VCALENDAR