BEGIN:VCALENDAR
VERSION:2.0
PRODID:-//MFC - ECPv6.15.13.1//NONSGML v1.0//EN
CALSCALE:GREGORIAN
METHOD:PUBLISH
X-WR-CALNAME:MFC
X-ORIGINAL-URL:https://midwestfamilyconnections.ca
X-WR-CALDESC:Events for MFC
REFRESH-INTERVAL;VALUE=DURATION:PT1H
X-Robots-Tag:noindex
X-PUBLISHED-TTL:PT1H
BEGIN:VTIMEZONE
TZID:America/Edmonton
BEGIN:DAYLIGHT
TZOFFSETFROM:-0700
TZOFFSETTO:-0600
TZNAME:MDT
DTSTART:20240310T090000
END:DAYLIGHT
BEGIN:STANDARD
TZOFFSETFROM:-0600
TZOFFSETTO:-0700
TZNAME:MST
DTSTART:20241103T080000
END:STANDARD
BEGIN:DAYLIGHT
TZOFFSETFROM:-0700
TZOFFSETTO:-0600
TZNAME:MDT
DTSTART:20250309T090000
END:DAYLIGHT
BEGIN:STANDARD
TZOFFSETFROM:-0600
TZOFFSETTO:-0700
TZNAME:MST
DTSTART:20251102T080000
END:STANDARD
BEGIN:DAYLIGHT
TZOFFSETFROM:-0700
TZOFFSETTO:-0600
TZNAME:MDT
DTSTART:20260308T090000
END:DAYLIGHT
BEGIN:STANDARD
TZOFFSETFROM:-0600
TZOFFSETTO:-0700
TZNAME:MST
DTSTART:20261101T080000
END:STANDARD
END:VTIMEZONE
BEGIN:VEVENT
DTSTART;TZID=America/Edmonton:20250321T093000
DTEND;TZID=America/Edmonton:20250321T113000
DTSTAMP:20260420T004233
CREATED:20250228T190941Z
LAST-MODIFIED:20250228T190941Z
UID:10003950-1742549400-1742556600@midwestfamilyconnections.ca
SUMMARY:Indoor Playground
DESCRIPTION:FREE drop-in playtime. Open to all families and their babies\, toddlers\, preschoolers & school-aged children! Come on out to play\, craft\, dress up\, learn\, have fun and much more with your little ones! \nOur staff are always available to answer any parenting questions\, provide activities to support your child’s development and to share more information about other valuable community resources!
URL:https://midwestfamilyconnections.ca/event/indoor-playground-4/2025-03-21/
LOCATION:The Indoor Playground
CATEGORIES:The First Five Years
ATTACH;FMTTYPE=image/jpeg:https://midwestfamilyconnections.ca/wp-content/uploads/2025/02/alice-with-drums-scaled.jpg
END:VEVENT
BEGIN:VEVENT
DTSTART;TZID=America/Edmonton:20250321T130000
DTEND;TZID=America/Edmonton:20250321T150000
DTSTAMP:20260420T004233
CREATED:20241223T205928Z
LAST-MODIFIED:20241223T205928Z
UID:10003801-1742562000-1742569200@midwestfamilyconnections.ca
SUMMARY:Indigenous Literacy & Parenting Skills (ILAPS)
DESCRIPTION:Join us to connect with Indigenous culture\, ways to support children’s literacy\, and parenting strategies. The topics include: self-esteem\, positive discipline\, storytelling & communication\, and values & traditions.  \nFree childcare is available during the program & free transportation is available to and from the program\, just let us know while you’re registering. \nFamilies are able to attend 1 session or all 12. Contact the office to register.
URL:https://midwestfamilyconnections.ca/event/indigenous-literacy-parenting-skills-ilaps/2025-03-21/
ATTACH;FMTTYPE=image/jpeg:https://midwestfamilyconnections.ca/wp-content/uploads/2024/12/mom-and-daughter-mural-unveiling-scaled.jpg
END:VEVENT
END:VCALENDAR