BEGIN:VCALENDAR
VERSION:2.0
PRODID:-//MFC - ECPv6.15.13.1//NONSGML v1.0//EN
CALSCALE:GREGORIAN
METHOD:PUBLISH
X-WR-CALNAME:MFC
X-ORIGINAL-URL:https://midwestfamilyconnections.ca
X-WR-CALDESC:Events for MFC
REFRESH-INTERVAL;VALUE=DURATION:PT1H
X-Robots-Tag:noindex
X-PUBLISHED-TTL:PT1H
BEGIN:VTIMEZONE
TZID:America/Edmonton
BEGIN:DAYLIGHT
TZOFFSETFROM:-0700
TZOFFSETTO:-0600
TZNAME:MDT
DTSTART:20240310T090000
END:DAYLIGHT
BEGIN:STANDARD
TZOFFSETFROM:-0600
TZOFFSETTO:-0700
TZNAME:MST
DTSTART:20241103T080000
END:STANDARD
BEGIN:DAYLIGHT
TZOFFSETFROM:-0700
TZOFFSETTO:-0600
TZNAME:MDT
DTSTART:20250309T090000
END:DAYLIGHT
BEGIN:STANDARD
TZOFFSETFROM:-0600
TZOFFSETTO:-0700
TZNAME:MST
DTSTART:20251102T080000
END:STANDARD
BEGIN:DAYLIGHT
TZOFFSETFROM:-0700
TZOFFSETTO:-0600
TZNAME:MDT
DTSTART:20260308T090000
END:DAYLIGHT
BEGIN:STANDARD
TZOFFSETFROM:-0600
TZOFFSETTO:-0700
TZNAME:MST
DTSTART:20261101T080000
END:STANDARD
END:VTIMEZONE
BEGIN:VEVENT
DTSTART;TZID=America/Edmonton:20250313T100000
DTEND;TZID=America/Edmonton:20250313T113000
DTSTAMP:20260421T215532
CREATED:20250131T183714Z
LAST-MODIFIED:20250131T183714Z
UID:10003839-1741860000-1741865400@midwestfamilyconnections.ca
SUMMARY:Mothers First
DESCRIPTION:A weekly group for mothers of infants to connect with one another while learning about & practicing self-care. \nWe rotate through 8 topics that vary from relationships & parenting to physical or mental health. This is a great place to learn self care strategies and to connect with other new moms. \nTransportation and limited childcare provided\, so contact MFC for information or to register.
URL:https://midwestfamilyconnections.ca/event/mothers-first-11/2025-03-13/
CATEGORIES:Infant (up to 12 months),Newborn
ATTACH;FMTTYPE=image/png:https://midwestfamilyconnections.ca/wp-content/uploads/2025/01/full-mothers-first.png
END:VEVENT
BEGIN:VEVENT
DTSTART;TZID=America/Edmonton:20250313T130000
DTEND;TZID=America/Edmonton:20250313T150000
DTSTAMP:20260421T215532
CREATED:20250228T190750Z
LAST-MODIFIED:20250228T202508Z
UID:10003940-1741870800-1741878000@midwestfamilyconnections.ca
SUMMARY:Indoor Playground
DESCRIPTION:FREE drop-in playtime. Open to all families and their babies\, toddlers\, preschoolers & school-aged children! Come on out to play\, craft\, dress up\, learn\, have fun and much more with your little ones! \nOur staff are always available to answer any parenting questions\, provide activities to support your child’s development and to share more information about other valuable community resources!
URL:https://midwestfamilyconnections.ca/event/indoor-playground-3/2025-03-13/
LOCATION:The Indoor Playground
CATEGORIES:The First Five Years
ATTACH;FMTTYPE=image/jpeg:https://midwestfamilyconnections.ca/wp-content/uploads/2025/02/mother-and-daughter-at-soft-blocks-scaled.jpg
END:VEVENT
BEGIN:VEVENT
DTSTART;TZID=America/Edmonton:20250313T190000
DTEND;TZID=America/Edmonton:20250313T210000
DTSTAMP:20260421T215532
CREATED:20250122T181739Z
LAST-MODIFIED:20250122T181739Z
UID:10003826-1741892400-1741899600@midwestfamilyconnections.ca
SUMMARY:Positive Solutions for Families- Session #7\, Putting it All Together
DESCRIPTION:Registration will close a week prior to each workshop. All workshops are held virtually on Zoom. An email address is needed for each participant registering. Positive Solutions is available to child care programs and is now available to parents too! \nDuring this session you will identify the meaning of behaviour by examining what happens before & after the problem behaviour. Identify the three parts of a behaviour plan: prevention\, new skills to teach\, & responses. \nThis is a 2 hour session!  \nIdeally families will attend all sessions as the information grows upon each other\, but if you are only able to attend some of the sessions please still reach out to register.
URL:https://midwestfamilyconnections.ca/event/positive-solutions-for-families-session-7-putting-it-all-together/
LOCATION:Virtually through Zoom
ATTACH;FMTTYPE=image/png:https://midwestfamilyconnections.ca/wp-content/uploads/2025/01/ICC-Positive-Solutions-Series-6.png
END:VEVENT
END:VCALENDAR