BEGIN:VCALENDAR
VERSION:2.0
PRODID:-//MFC - ECPv6.15.13.1//NONSGML v1.0//EN
CALSCALE:GREGORIAN
METHOD:PUBLISH
X-ORIGINAL-URL:https://midwestfamilyconnections.ca
X-WR-CALDESC:Events for MFC
REFRESH-INTERVAL;VALUE=DURATION:PT1H
X-Robots-Tag:noindex
X-PUBLISHED-TTL:PT1H
BEGIN:VTIMEZONE
TZID:America/Edmonton
BEGIN:DAYLIGHT
TZOFFSETFROM:-0700
TZOFFSETTO:-0600
TZNAME:MDT
DTSTART:20230312T090000
END:DAYLIGHT
BEGIN:STANDARD
TZOFFSETFROM:-0600
TZOFFSETTO:-0700
TZNAME:MST
DTSTART:20231105T080000
END:STANDARD
BEGIN:DAYLIGHT
TZOFFSETFROM:-0700
TZOFFSETTO:-0600
TZNAME:MDT
DTSTART:20240310T090000
END:DAYLIGHT
BEGIN:STANDARD
TZOFFSETFROM:-0600
TZOFFSETTO:-0700
TZNAME:MST
DTSTART:20241103T080000
END:STANDARD
BEGIN:DAYLIGHT
TZOFFSETFROM:-0700
TZOFFSETTO:-0600
TZNAME:MDT
DTSTART:20250309T090000
END:DAYLIGHT
BEGIN:STANDARD
TZOFFSETFROM:-0600
TZOFFSETTO:-0700
TZNAME:MST
DTSTART:20251102T080000
END:STANDARD
END:VTIMEZONE
BEGIN:VEVENT
DTSTART;TZID=America/Edmonton:20241009T100000
DTEND;TZID=America/Edmonton:20241009T120000
DTSTAMP:20260420T220808
CREATED:20240828T015133Z
LAST-MODIFIED:20240828T015133Z
UID:10003645-1728468000-1728475200@midwestfamilyconnections.ca
SUMMARY:Handle With Care
DESCRIPTION:Handle with Care is for parents and caregivers of children from birth to six years. The sessions include hands on\, interactive activities and discussions with other parents and our trained facilitators. \nLimited childcare is available\, so families must call to register for the program.
URL:https://midwestfamilyconnections.ca/event/handle-with-care/2024-10-09/
LOCATION:Midwest Family Connections\, Suite 103 4910-50 Street\, Lloydminster\, Saskatchewan\, S9V 0Y5\, Canada
CATEGORIES:The First Five Years
ATTACH;FMTTYPE=image/jpeg:https://midwestfamilyconnections.ca/wp-content/uploads/2024/08/Handle-With-Care.jpg
END:VEVENT
BEGIN:VEVENT
DTSTART;TZID=America/Edmonton:20241009T100000
DTEND;TZID=America/Edmonton:20241009T233000
DTSTAMP:20260420T220808
CREATED:20241004T170843Z
LAST-MODIFIED:20241004T170843Z
UID:10003693-1728468000-1728516600@midwestfamilyconnections.ca
SUMMARY:Hillmond- Family Play & Learn
DESCRIPTION:Freeplay & literacy activities\, parenting information & more!  \nOpen to families and their babies\, toddlers & preschoolers.
URL:https://midwestfamilyconnections.ca/event/hillmond-family-play-learn-5/
LOCATION:Hillmond Memorial Hall\, Hillmond\, Saskatchewan\, Canada
CATEGORIES:The First Five Years
ATTACH;FMTTYPE=image/jpeg:https://midwestfamilyconnections.ca/wp-content/uploads/2024/10/Hillmond-fall-2024.jpg
END:VEVENT
BEGIN:VEVENT
DTSTART;TZID=America/Edmonton:20241009T130000
DTEND;TZID=America/Edmonton:20241009T150000
DTSTAMP:20260420T220808
CREATED:20241003T180938Z
LAST-MODIFIED:20241003T180938Z
UID:10003663-1728478800-1728486000@midwestfamilyconnections.ca
SUMMARY:FREE Indoor Playground Drop-in play!
DESCRIPTION:FREE drop-in playtime. Open to all families and their babies\, toddlers\, preschoolers & school-aged children! \nStaff are on site to answer any questions you may have about development\, parenting and community resources.
URL:https://midwestfamilyconnections.ca/event/free-indoor-playground-drop-in-play-48/2024-10-09/
LOCATION:Midwest Family Connections\, Suite 103 4910-50 Street\, Lloydminster\, Saskatchewan\, S9V 0Y5\, Canada
CATEGORIES:The First Five Years
ATTACH;FMTTYPE=image/jpeg:https://midwestfamilyconnections.ca/wp-content/uploads/2024/10/emelia-with-mask.jpg
END:VEVENT
END:VCALENDAR