BEGIN:VCALENDAR
VERSION:2.0
PRODID:-//MFC - ECPv6.15.13.1//NONSGML v1.0//EN
CALSCALE:GREGORIAN
METHOD:PUBLISH
X-WR-CALNAME:MFC
X-ORIGINAL-URL:https://midwestfamilyconnections.ca
X-WR-CALDESC:Events for MFC
REFRESH-INTERVAL;VALUE=DURATION:PT1H
X-Robots-Tag:noindex
X-PUBLISHED-TTL:PT1H
BEGIN:VTIMEZONE
TZID:America/Edmonton
BEGIN:DAYLIGHT
TZOFFSETFROM:-0700
TZOFFSETTO:-0600
TZNAME:MDT
DTSTART:20230312T090000
END:DAYLIGHT
BEGIN:STANDARD
TZOFFSETFROM:-0600
TZOFFSETTO:-0700
TZNAME:MST
DTSTART:20231105T080000
END:STANDARD
BEGIN:DAYLIGHT
TZOFFSETFROM:-0700
TZOFFSETTO:-0600
TZNAME:MDT
DTSTART:20240310T090000
END:DAYLIGHT
BEGIN:STANDARD
TZOFFSETFROM:-0600
TZOFFSETTO:-0700
TZNAME:MST
DTSTART:20241103T080000
END:STANDARD
BEGIN:DAYLIGHT
TZOFFSETFROM:-0700
TZOFFSETTO:-0600
TZNAME:MDT
DTSTART:20250309T090000
END:DAYLIGHT
BEGIN:STANDARD
TZOFFSETFROM:-0600
TZOFFSETTO:-0700
TZNAME:MST
DTSTART:20251102T080000
END:STANDARD
END:VTIMEZONE
BEGIN:VEVENT
DTSTART;TZID=America/Edmonton:20240711T100000
DTEND;TZID=America/Edmonton:20240711T113000
DTSTAMP:20260420T153722
CREATED:20240626T203421Z
LAST-MODIFIED:20240626T203421Z
UID:10003539-1720692000-1720697400@midwestfamilyconnections.ca
SUMMARY:Mothers First
DESCRIPTION:A weekly group for mothers of infants to connect with one another while learning about & practicing self-care. \nTransportation and limited childcare provided\, so contact MFC for information or to register.
URL:https://midwestfamilyconnections.ca/event/mothers-first-5/2024-07-11/
LOCATION:Midwest Family Connections\, Suite 103 4910-50 Street\, Lloydminster\, Saskatchewan\, S9V 0Y5\, Canada
CATEGORIES:Postnatal
ATTACH;FMTTYPE=image/png:https://midwestfamilyconnections.ca/wp-content/uploads/2024/06/mothers-first.png
END:VEVENT
BEGIN:VEVENT
DTSTART;TZID=America/Edmonton:20240711T100000
DTEND;TZID=America/Edmonton:20240711T113000
DTSTAMP:20260420T153722
CREATED:20240626T204843Z
LAST-MODIFIED:20240626T204843Z
UID:10003551-1720692000-1720697400@midwestfamilyconnections.ca
SUMMARY:Dewberry - Park Program!
DESCRIPTION:Join us at Dewberry School park for activities\, games and play! Open to all families and their babies\, toddlers\, preschoolers & school-aged children!  \nStaff are on site to answer any questions you may have about development\, parenting and community resources.
URL:https://midwestfamilyconnections.ca/event/dewberry-park-program/
LOCATION:Dewberry School\, 75 First Avenue\, Dewberry\, Alberta
CATEGORIES:The First Five Years
ATTACH;FMTTYPE=image/png:https://midwestfamilyconnections.ca/wp-content/uploads/2024/06/AB-Rural-Outreach-July-2024.png
END:VEVENT
BEGIN:VEVENT
DTSTART;TZID=America/Edmonton:20240711T130000
DTEND;TZID=America/Edmonton:20240711T150000
DTSTAMP:20260420T153722
CREATED:20240626T194204Z
LAST-MODIFIED:20240626T194204Z
UID:10003531-1720702800-1720710000@midwestfamilyconnections.ca
SUMMARY:FREE Indoor Playground Drop-in play!
DESCRIPTION:Open to all families and their babies\, toddlers & preschoolers!  \nStaff are on site to answer any questions you may have about development\, parenting and community resources.
URL:https://midwestfamilyconnections.ca/event/free-indoor-playground-drop-in-play-34/2024-07-11/
LOCATION:Midwest Family Connections\, Suite 103 4910-50 Street\, Lloydminster\, Saskatchewan\, S9V 0Y5\, Canada
CATEGORIES:The First Five Years
ATTACH;FMTTYPE=image/jpeg:https://midwestfamilyconnections.ca/wp-content/uploads/2024/06/IMG_1381-scaled.jpg
END:VEVENT
BEGIN:VEVENT
DTSTART;TZID=America/Edmonton:20240711T131500
DTEND;TZID=America/Edmonton:20240711T144500
DTSTAMP:20260420T153722
CREATED:20240626T210349Z
LAST-MODIFIED:20240626T210349Z
UID:10003553-1720703700-1720709100@midwestfamilyconnections.ca
SUMMARY:Vermilion Playtime!
DESCRIPTION:We are joining VIBE programming in Vermilion at the splash park!  Follow VIBE on Facebook for more details about their summer programs. \nOpen to all families and their babies\, toddlers\, preschoolers & school-aged children.\nStaff are on site to answer any questions you may have about development\, parenting and community resources.
URL:https://midwestfamilyconnections.ca/event/vermilion-playtime-2/
LOCATION:Vermilion Splash Park\, Vermilion Provincial Park\, Vermilion\, Alberta
CATEGORIES:The First Five Years
ATTACH;FMTTYPE=image/png:https://midwestfamilyconnections.ca/wp-content/uploads/2024/06/AB-Rural-Outreach-July-2024-2.png
END:VEVENT
END:VCALENDAR