BEGIN:VCALENDAR
VERSION:2.0
PRODID:-//MFC - ECPv6.15.13.1//NONSGML v1.0//EN
CALSCALE:GREGORIAN
METHOD:PUBLISH
X-ORIGINAL-URL:https://midwestfamilyconnections.ca
X-WR-CALDESC:Events for MFC
REFRESH-INTERVAL;VALUE=DURATION:PT1H
X-Robots-Tag:noindex
X-PUBLISHED-TTL:PT1H
BEGIN:VTIMEZONE
TZID:America/Edmonton
BEGIN:DAYLIGHT
TZOFFSETFROM:-0700
TZOFFSETTO:-0600
TZNAME:MDT
DTSTART:20230312T090000
END:DAYLIGHT
BEGIN:STANDARD
TZOFFSETFROM:-0600
TZOFFSETTO:-0700
TZNAME:MST
DTSTART:20231105T080000
END:STANDARD
BEGIN:DAYLIGHT
TZOFFSETFROM:-0700
TZOFFSETTO:-0600
TZNAME:MDT
DTSTART:20240310T090000
END:DAYLIGHT
BEGIN:STANDARD
TZOFFSETFROM:-0600
TZOFFSETTO:-0700
TZNAME:MST
DTSTART:20241103T080000
END:STANDARD
BEGIN:DAYLIGHT
TZOFFSETFROM:-0700
TZOFFSETTO:-0600
TZNAME:MDT
DTSTART:20250309T090000
END:DAYLIGHT
BEGIN:STANDARD
TZOFFSETFROM:-0600
TZOFFSETTO:-0700
TZNAME:MST
DTSTART:20251102T080000
END:STANDARD
END:VTIMEZONE
BEGIN:VEVENT
DTSTART;TZID=America/Edmonton:20240625T093000
DTEND;TZID=America/Edmonton:20240625T113000
DTSTAMP:20260420T034110
CREATED:20240531T151921Z
LAST-MODIFIED:20240531T151921Z
UID:10003478-1719307800-1719315000@midwestfamilyconnections.ca
SUMMARY:FREE Indoor Playground Drop-in play!
DESCRIPTION:Open to all families and their babies\, toddlers & preschoolers!\nStaff are on site to answer any questions you may have about development\, parenting and community resources.
URL:https://midwestfamilyconnections.ca/event/free-indoor-playground-drop-in-play-25/2024-06-25/
LOCATION:Midwest Family Connections\, Suite 103 4910-50 Street\, Lloydminster\, Saskatchewan\, S9V 0Y5\, Canada
CATEGORIES:The First Five Years
ATTACH;FMTTYPE=image/jpeg:https://midwestfamilyconnections.ca/wp-content/uploads/2024/05/IMG_1430-scaled.jpg
END:VEVENT
BEGIN:VEVENT
DTSTART;TZID=America/Edmonton:20240625T130000
DTEND;TZID=America/Edmonton:20240625T150000
DTSTAMP:20260420T034110
CREATED:20240425T190318Z
LAST-MODIFIED:20240425T190318Z
UID:10003447-1719320400-1719327600@midwestfamilyconnections.ca
SUMMARY:Nobody's Perfect
DESCRIPTION:During these six sessions\, parents have the opportunity to talk about real life parenting experiences\, problem solve with a trained facilitator & discover ways of positive parenting. \nInformation focuses on children birth to 5 years of age. \nContact MFC to register.
URL:https://midwestfamilyconnections.ca/event/nobodys-perfect/2024-06-25/
LOCATION:Midwest Family Connections\, Suite 103 4910-50 Street\, Lloydminster\, Saskatchewan\, S9V 0Y5\, Canada
CATEGORIES:The First Five Years
ATTACH;FMTTYPE=image/png:https://midwestfamilyconnections.ca/wp-content/uploads/2024/04/Nobodys-Perfect-Spring-2024.png
END:VEVENT
END:VCALENDAR