BEGIN:VCALENDAR
VERSION:2.0
PRODID:-//MFC - ECPv6.15.13.1//NONSGML v1.0//EN
CALSCALE:GREGORIAN
METHOD:PUBLISH
X-WR-CALNAME:MFC
X-ORIGINAL-URL:https://midwestfamilyconnections.ca
X-WR-CALDESC:Events for MFC
REFRESH-INTERVAL;VALUE=DURATION:PT1H
X-Robots-Tag:noindex
X-PUBLISHED-TTL:PT1H
BEGIN:VTIMEZONE
TZID:America/Edmonton
BEGIN:DAYLIGHT
TZOFFSETFROM:-0700
TZOFFSETTO:-0600
TZNAME:MDT
DTSTART:20230312T090000
END:DAYLIGHT
BEGIN:STANDARD
TZOFFSETFROM:-0600
TZOFFSETTO:-0700
TZNAME:MST
DTSTART:20231105T080000
END:STANDARD
BEGIN:DAYLIGHT
TZOFFSETFROM:-0700
TZOFFSETTO:-0600
TZNAME:MDT
DTSTART:20240310T090000
END:DAYLIGHT
BEGIN:STANDARD
TZOFFSETFROM:-0600
TZOFFSETTO:-0700
TZNAME:MST
DTSTART:20241103T080000
END:STANDARD
BEGIN:DAYLIGHT
TZOFFSETFROM:-0700
TZOFFSETTO:-0600
TZNAME:MDT
DTSTART:20250309T090000
END:DAYLIGHT
BEGIN:STANDARD
TZOFFSETFROM:-0600
TZOFFSETTO:-0700
TZNAME:MST
DTSTART:20251102T080000
END:STANDARD
END:VTIMEZONE
BEGIN:VEVENT
DTSTART;TZID=America/Edmonton:20240614T093000
DTEND;TZID=America/Edmonton:20240614T110000
DTSTAMP:20260420T034910
CREATED:20240531T161401Z
LAST-MODIFIED:20240531T161401Z
UID:10003502-1718357400-1718362800@midwestfamilyconnections.ca
SUMMARY:Lashburn - Family Play & Learn
DESCRIPTION:Freeplay & literacy activities\, parenting information & more! Open to families and their babies\, toddlers & preschoolers.
URL:https://midwestfamilyconnections.ca/event/lashburn-family-play-learn-5/
LOCATION:J.H. Moore Elementary School\, 215 3 Street East\, Lashburn\, Saskatchewan\, S0M 1H0\, Canada
CATEGORIES:The First Five Years
ATTACH;FMTTYPE=image/png:https://midwestfamilyconnections.ca/wp-content/uploads/2024/05/June-2024-SK-Rural-Outreach-002-1.png
END:VEVENT
BEGIN:VEVENT
DTSTART;TZID=America/Edmonton:20240614T093000
DTEND;TZID=America/Edmonton:20240614T113000
DTSTAMP:20260420T034910
CREATED:20240531T152653Z
LAST-MODIFIED:20240531T152653Z
UID:10003492-1718357400-1718364600@midwestfamilyconnections.ca
SUMMARY:FREE Indoor Playground Drop-in play!
DESCRIPTION:Open to all families and their babies\, toddlers & preschoolers!  \nStaff are on site to answer any questions you may have about development\, parenting and community resources.
URL:https://midwestfamilyconnections.ca/event/free-indoor-playground-drop-in-play-29/2024-06-14/
LOCATION:Midwest Family Connections\, Suite 103 4910-50 Street\, Lloydminster\, Saskatchewan\, S9V 0Y5\, Canada
CATEGORIES:The First Five Years
ATTACH;FMTTYPE=image/jpeg:https://midwestfamilyconnections.ca/wp-content/uploads/2024/05/IMG_1387-scaled.jpg
END:VEVENT
BEGIN:VEVENT
DTSTART;TZID=America/Edmonton:20240614T130000
DTEND;TZID=America/Edmonton:20240614T143000
DTSTAMP:20260420T034910
CREATED:20240527T222314Z
LAST-MODIFIED:20240527T222314Z
UID:10003467-1718370000-1718375400@midwestfamilyconnections.ca
SUMMARY:Park Play in Lloydminster
DESCRIPTION:Friday afternoons you can find us at the Barrier-Free Park behind the Lloydminster Lakeland Collage Campus. Contact us for more information!
URL:https://midwestfamilyconnections.ca/event/park-play-in-lloydminster/2024-06-14/
LOCATION:Barrier-Free Park\, 2602 59 Ave\, Lloydminster\, Alberta\, Canada
CATEGORIES:The First Five Years
ATTACH;FMTTYPE=image/jpeg:https://midwestfamilyconnections.ca/wp-content/uploads/2024/05/June-Lloyd-Park-Programs.jpg
END:VEVENT
BEGIN:VEVENT
DTSTART;TZID=America/Edmonton:20240614T130000
DTEND;TZID=America/Edmonton:20240614T150000
DTSTAMP:20260420T034910
CREATED:20240531T161530Z
LAST-MODIFIED:20240531T161530Z
UID:10003503-1718370000-1718377200@midwestfamilyconnections.ca
SUMMARY:Neilburg - Family Play & Learn
DESCRIPTION:Freeplay & literacy activities\, parenting information & more! Open to families and their babies\, toddlers & preschoolers.
URL:https://midwestfamilyconnections.ca/event/neilburg-family-play-learn-4/
LOCATION:Neilburg Library\, 108 Centre Street\, Neilburg\, Saskatchewan\, Canada
CATEGORIES:The First Five Years
ATTACH;FMTTYPE=image/png:https://midwestfamilyconnections.ca/wp-content/uploads/2024/05/June-2024-SK-Rural-Outreach-002-2.png
END:VEVENT
END:VCALENDAR