BEGIN:VCALENDAR
VERSION:2.0
PRODID:-//MFC - ECPv6.15.13.1//NONSGML v1.0//EN
CALSCALE:GREGORIAN
METHOD:PUBLISH
X-WR-CALNAME:MFC
X-ORIGINAL-URL:https://midwestfamilyconnections.ca
X-WR-CALDESC:Events for MFC
REFRESH-INTERVAL;VALUE=DURATION:PT1H
X-Robots-Tag:noindex
X-PUBLISHED-TTL:PT1H
BEGIN:VTIMEZONE
TZID:America/Edmonton
BEGIN:DAYLIGHT
TZOFFSETFROM:-0700
TZOFFSETTO:-0600
TZNAME:MDT
DTSTART:20230312T090000
END:DAYLIGHT
BEGIN:STANDARD
TZOFFSETFROM:-0600
TZOFFSETTO:-0700
TZNAME:MST
DTSTART:20231105T080000
END:STANDARD
BEGIN:DAYLIGHT
TZOFFSETFROM:-0700
TZOFFSETTO:-0600
TZNAME:MDT
DTSTART:20240310T090000
END:DAYLIGHT
BEGIN:STANDARD
TZOFFSETFROM:-0600
TZOFFSETTO:-0700
TZNAME:MST
DTSTART:20241103T080000
END:STANDARD
BEGIN:DAYLIGHT
TZOFFSETFROM:-0700
TZOFFSETTO:-0600
TZNAME:MDT
DTSTART:20250309T090000
END:DAYLIGHT
BEGIN:STANDARD
TZOFFSETFROM:-0600
TZOFFSETTO:-0700
TZNAME:MST
DTSTART:20251102T080000
END:STANDARD
END:VTIMEZONE
BEGIN:VEVENT
DTSTART;TZID=America/Edmonton:20240613T100000
DTEND;TZID=America/Edmonton:20240613T113000
DTSTAMP:20260420T045947
CREATED:20240531T162643Z
LAST-MODIFIED:20240531T162643Z
UID:10003507-1718272800-1718278200@midwestfamilyconnections.ca
SUMMARY:Mothers First
DESCRIPTION:A FREE weekly group for mothers of infants to connect with one another while learning about & practicing self-care.\nTransportation and limited childcare provided\, so contact MFC for information or to register.
URL:https://midwestfamilyconnections.ca/event/mothers-first-4/2024-06-13/
LOCATION:Midwest Family Connections\, Suite 103 4910-50 Street\, Lloydminster\, Saskatchewan\, S9V 0Y5\, Canada
CATEGORIES:Postnatal
ATTACH;FMTTYPE=image/png:https://midwestfamilyconnections.ca/wp-content/uploads/2024/05/mothers-first.png
END:VEVENT
BEGIN:VEVENT
DTSTART;TZID=America/Edmonton:20240613T130000
DTEND;TZID=America/Edmonton:20240613T150000
DTSTAMP:20260420T045947
CREATED:20240531T152454Z
LAST-MODIFIED:20240531T152454Z
UID:10003488-1718283600-1718290800@midwestfamilyconnections.ca
SUMMARY:FREE Indoor Playground Drop-in play!
DESCRIPTION:Open to all families and their babies\, toddlers & preschoolers!  \nStaff are on site to answer any questions you may have about development\, parenting and community resources.
URL:https://midwestfamilyconnections.ca/event/free-indoor-playground-drop-in-play-28/2024-06-13/
LOCATION:Midwest Family Connections\, Suite 103 4910-50 Street\, Lloydminster\, Saskatchewan\, S9V 0Y5\, Canada
CATEGORIES:The First Five Years
ATTACH;FMTTYPE=image/jpeg:https://midwestfamilyconnections.ca/wp-content/uploads/2024/05/IMG_1419-scaled.jpg
END:VEVENT
BEGIN:VEVENT
DTSTART;TZID=America/Edmonton:20240613T173000
DTEND;TZID=America/Edmonton:20240613T193000
DTSTAMP:20260420T045947
CREATED:20240531T153241Z
LAST-MODIFIED:20240531T153241Z
UID:10003496-1718299800-1718307000@midwestfamilyconnections.ca
SUMMARY:Happy Hearts & Kind Minds and Drop-in Indoor Playground
DESCRIPTION:Happy Hearts & Kind Minds – Fun activities to help children express feelings and practise social skills. Requires parent/caregiver & child involvement. This program runs in the Indoor Playground\, along with free\, drop-in play. \nOpen to all families and their babies\, toddlers & preschoolers!  \nStaff are on site to answer any questions you may have about development\, parenting and community resources.
URL:https://midwestfamilyconnections.ca/event/happy-hearts-kind-minds-and-drop-in-indoor-playground/2024-06-13/
LOCATION:Midwest Family Connections\, Suite 103 4910-50 Street\, Lloydminster\, Saskatchewan\, S9V 0Y5\, Canada
CATEGORIES:The First Five Years
ATTACH;FMTTYPE=image/png:https://midwestfamilyconnections.ca/wp-content/uploads/2024/05/Happy-Hearts-Kind-Minds-Lloydminster-June-2024-002.png
END:VEVENT
END:VCALENDAR