BEGIN:VCALENDAR
VERSION:2.0
PRODID:-//MFC - ECPv6.15.13.1//NONSGML v1.0//EN
CALSCALE:GREGORIAN
METHOD:PUBLISH
X-WR-CALNAME:MFC
X-ORIGINAL-URL:https://midwestfamilyconnections.ca
X-WR-CALDESC:Events for MFC
REFRESH-INTERVAL;VALUE=DURATION:PT1H
X-Robots-Tag:noindex
X-PUBLISHED-TTL:PT1H
BEGIN:VTIMEZONE
TZID:America/Edmonton
BEGIN:DAYLIGHT
TZOFFSETFROM:-0700
TZOFFSETTO:-0600
TZNAME:MDT
DTSTART:20230312T090000
END:DAYLIGHT
BEGIN:STANDARD
TZOFFSETFROM:-0600
TZOFFSETTO:-0700
TZNAME:MST
DTSTART:20231105T080000
END:STANDARD
BEGIN:DAYLIGHT
TZOFFSETFROM:-0700
TZOFFSETTO:-0600
TZNAME:MDT
DTSTART:20240310T090000
END:DAYLIGHT
BEGIN:STANDARD
TZOFFSETFROM:-0600
TZOFFSETTO:-0700
TZNAME:MST
DTSTART:20241103T080000
END:STANDARD
BEGIN:DAYLIGHT
TZOFFSETFROM:-0700
TZOFFSETTO:-0600
TZNAME:MDT
DTSTART:20250309T090000
END:DAYLIGHT
BEGIN:STANDARD
TZOFFSETFROM:-0600
TZOFFSETTO:-0700
TZNAME:MST
DTSTART:20251102T080000
END:STANDARD
END:VTIMEZONE
BEGIN:VEVENT
DTSTART;TZID=America/Edmonton:20240528T093000
DTEND;TZID=America/Edmonton:20240528T113000
DTSTAMP:20260420T034050
CREATED:20240425T172517Z
LAST-MODIFIED:20240425T172517Z
UID:10003396-1716888600-1716895800@midwestfamilyconnections.ca
SUMMARY:FREE Indoor Playground Drop-in play!
DESCRIPTION:The Indoor Playground is open to all families and their babies\, toddlers & preschoolers!
URL:https://midwestfamilyconnections.ca/event/free-indoor-playground-drop-in-play-17/2024-05-28/
LOCATION:Midwest Family Connections\, Suite 103 4910-50 Street\, Lloydminster\, Saskatchewan\, S9V 0Y5\, Canada
CATEGORIES:The First Five Years
ATTACH;FMTTYPE=image/png:https://midwestfamilyconnections.ca/wp-content/uploads/2024/04/April-2024-IP-Hours-2.png
END:VEVENT
BEGIN:VEVENT
DTSTART;TZID=America/Edmonton:20240528T100000
DTEND;TZID=America/Edmonton:20240528T133000
DTSTAMP:20260420T034050
CREATED:20240425T191244Z
LAST-MODIFIED:20240425T191244Z
UID:10003456-1716890400-1716903000@midwestfamilyconnections.ca
SUMMARY:Dewberry Happy Hearts & Kind Minds
DESCRIPTION:Social Emotional Play for families & children up to 6 years of age!
URL:https://midwestfamilyconnections.ca/event/dewberry-happy-hearts-kind-minds/2024-05-28/
LOCATION:Dewberry School\, 75 First Avenue\, Dewberry\, Alberta
CATEGORIES:The First Five Years
ATTACH;FMTTYPE=image/png:https://midwestfamilyconnections.ca/wp-content/uploads/2024/04/AB-Outreach-May-2024.png
END:VEVENT
BEGIN:VEVENT
DTSTART;TZID=America/Edmonton:20240528T121500
DTEND;TZID=America/Edmonton:20240528T124500
DTSTAMP:20260420T034050
CREATED:20240425T182253Z
LAST-MODIFIED:20240425T182253Z
UID:10003438-1716898500-1716900300@midwestfamilyconnections.ca
SUMMARY:Kids Have Stress Too - Virtual Lunch & Learn
DESCRIPTION:Learn about stress & it’s impact on children\, children’s reaction to stress & ways to help children cope with stressful experiences. \nThis Lunch & Learn format covers brief overviews of strategies. \nInformation focuses on children 4-12 \nContact MFC to register and receive the Zoom link.
URL:https://midwestfamilyconnections.ca/event/kids-have-stress-too-virtual-lunch-learn/2024-05-28/
CATEGORIES:The School Years
ATTACH;FMTTYPE=image/png:https://midwestfamilyconnections.ca/wp-content/uploads/2024/04/KHST-May-2024.png
END:VEVENT
BEGIN:VEVENT
DTSTART;TZID=America/Edmonton:20240528T130000
DTEND;TZID=America/Edmonton:20240528T150000
DTSTAMP:20260420T034050
CREATED:20240425T190318Z
LAST-MODIFIED:20240425T190318Z
UID:10003443-1716901200-1716908400@midwestfamilyconnections.ca
SUMMARY:Nobody's Perfect
DESCRIPTION:During these six sessions\, parents have the opportunity to talk about real life parenting experiences\, problem solve with a trained facilitator & discover ways of positive parenting. \nInformation focuses on children birth to 5 years of age. \nContact MFC to register.
URL:https://midwestfamilyconnections.ca/event/nobodys-perfect/2024-05-28/
LOCATION:Midwest Family Connections\, Suite 103 4910-50 Street\, Lloydminster\, Saskatchewan\, S9V 0Y5\, Canada
CATEGORIES:The First Five Years
ATTACH;FMTTYPE=image/png:https://midwestfamilyconnections.ca/wp-content/uploads/2024/04/Nobodys-Perfect-Spring-2024.png
END:VEVENT
BEGIN:VEVENT
DTSTART;TZID=America/Edmonton:20240528T183000
DTEND;TZID=America/Edmonton:20240528T200000
DTSTAMP:20260420T034050
CREATED:20240425T182647Z
LAST-MODIFIED:20240425T182647Z
UID:10003441-1716921000-1716926400@midwestfamilyconnections.ca
SUMMARY:Kids Have Stress Too - Virtual evening sessions
DESCRIPTION:Learn about stress & it’s impact on children\, children’s reaction to stress & ways to help children cope with stressful experiences. \nInformation focuses on children 4-12\nContact MFC to register and receive the Zoom link
URL:https://midwestfamilyconnections.ca/event/kids-have-stress-too-virtual-evening-sessions/2024-05-28/
LOCATION:Virtually through Zoom
CATEGORIES:The School Years
ATTACH;FMTTYPE=image/png:https://midwestfamilyconnections.ca/wp-content/uploads/2024/04/KHST-May-2024-1.png
END:VEVENT
END:VCALENDAR