BEGIN:VCALENDAR
VERSION:2.0
PRODID:-//MFC - ECPv6.15.13.1//NONSGML v1.0//EN
CALSCALE:GREGORIAN
METHOD:PUBLISH
X-ORIGINAL-URL:https://midwestfamilyconnections.ca
X-WR-CALDESC:Events for MFC
REFRESH-INTERVAL;VALUE=DURATION:PT1H
X-Robots-Tag:noindex
X-PUBLISHED-TTL:PT1H
BEGIN:VTIMEZONE
TZID:America/Edmonton
BEGIN:DAYLIGHT
TZOFFSETFROM:-0700
TZOFFSETTO:-0600
TZNAME:MDT
DTSTART:20230312T090000
END:DAYLIGHT
BEGIN:STANDARD
TZOFFSETFROM:-0600
TZOFFSETTO:-0700
TZNAME:MST
DTSTART:20231105T080000
END:STANDARD
BEGIN:DAYLIGHT
TZOFFSETFROM:-0700
TZOFFSETTO:-0600
TZNAME:MDT
DTSTART:20240310T090000
END:DAYLIGHT
BEGIN:STANDARD
TZOFFSETFROM:-0600
TZOFFSETTO:-0700
TZNAME:MST
DTSTART:20241103T080000
END:STANDARD
BEGIN:DAYLIGHT
TZOFFSETFROM:-0700
TZOFFSETTO:-0600
TZNAME:MDT
DTSTART:20250309T090000
END:DAYLIGHT
BEGIN:STANDARD
TZOFFSETFROM:-0600
TZOFFSETTO:-0700
TZNAME:MST
DTSTART:20251102T080000
END:STANDARD
END:VTIMEZONE
BEGIN:VEVENT
DTSTART;VALUE=DATE:20240511
DTEND;VALUE=DATE:20240512
DTSTAMP:20260420T051107
CREATED:20240425T211233Z
LAST-MODIFIED:20240425T211535Z
UID:10003465-1715385600-1715471999@midwestfamilyconnections.ca
SUMMARY:Closed - Indoor Playground
DESCRIPTION:Come and check us out at the Lloyd Mall from 11:00-1:00!
URL:https://midwestfamilyconnections.ca/event/indoor-playground-closed/
ATTACH;FMTTYPE=image/png:https://midwestfamilyconnections.ca/wp-content/uploads/2024/04/Magnificent-Moms-1.png
END:VEVENT
BEGIN:VEVENT
DTSTART;TZID=America/Edmonton:20240511T110000
DTEND;TZID=America/Edmonton:20240511T130000
DTSTAMP:20260420T051107
CREATED:20240425T175955Z
LAST-MODIFIED:20240425T175955Z
UID:10003430-1715425200-1715432400@midwestfamilyconnections.ca
SUMMARY:Magnificent Moms!
DESCRIPTION:Join us at the LloydMall for activities\, snacks & giveaways! FREE and open to all families and their babies\, toddlers & preschoolers! \nWe will be located across from Shoppers Drugmart.
URL:https://midwestfamilyconnections.ca/event/magnificent-moms/
LOCATION:Lloyd Mall
CATEGORIES:The First Five Years
ATTACH;FMTTYPE=image/png:https://midwestfamilyconnections.ca/wp-content/uploads/2024/04/Magnificent-Moms.png
END:VEVENT
END:VCALENDAR