BEGIN:VCALENDAR
VERSION:2.0
PRODID:-//MFC - ECPv6.15.13.1//NONSGML v1.0//EN
CALSCALE:GREGORIAN
METHOD:PUBLISH
X-WR-CALNAME:MFC
X-ORIGINAL-URL:https://midwestfamilyconnections.ca
X-WR-CALDESC:Events for MFC
REFRESH-INTERVAL;VALUE=DURATION:PT1H
X-Robots-Tag:noindex
X-PUBLISHED-TTL:PT1H
BEGIN:VTIMEZONE
TZID:America/Edmonton
BEGIN:DAYLIGHT
TZOFFSETFROM:-0700
TZOFFSETTO:-0600
TZNAME:MDT
DTSTART:20230312T090000
END:DAYLIGHT
BEGIN:STANDARD
TZOFFSETFROM:-0600
TZOFFSETTO:-0700
TZNAME:MST
DTSTART:20231105T080000
END:STANDARD
BEGIN:DAYLIGHT
TZOFFSETFROM:-0700
TZOFFSETTO:-0600
TZNAME:MDT
DTSTART:20240310T090000
END:DAYLIGHT
BEGIN:STANDARD
TZOFFSETFROM:-0600
TZOFFSETTO:-0700
TZNAME:MST
DTSTART:20241103T080000
END:STANDARD
BEGIN:DAYLIGHT
TZOFFSETFROM:-0700
TZOFFSETTO:-0600
TZNAME:MDT
DTSTART:20250309T090000
END:DAYLIGHT
BEGIN:STANDARD
TZOFFSETFROM:-0600
TZOFFSETTO:-0700
TZNAME:MST
DTSTART:20251102T080000
END:STANDARD
END:VTIMEZONE
BEGIN:VEVENT
DTSTART;TZID=America/Edmonton:20240508T093000
DTEND;TZID=America/Edmonton:20240508T113000
DTSTAMP:20260420T181443
CREATED:20240425T173558Z
LAST-MODIFIED:20240425T173558Z
UID:10003398-1715160600-1715167800@midwestfamilyconnections.ca
SUMMARY:FREE Indoor Playground Drop-in play!
DESCRIPTION:Open to all families and their babies\, toddlers & preschoolers!
URL:https://midwestfamilyconnections.ca/event/free-indoor-playground-drop-in-play-18/2024-05-08/
LOCATION:Midwest Family Connections\, Suite 103 4910-50 Street\, Lloydminster\, Saskatchewan\, S9V 0Y5\, Canada
CATEGORIES:The First Five Years
ATTACH;FMTTYPE=image/jpeg:https://midwestfamilyconnections.ca/wp-content/uploads/2024/04/IMG_1317-scaled.jpg
END:VEVENT
BEGIN:VEVENT
DTSTART;TZID=America/Edmonton:20240508T130000
DTEND;TZID=America/Edmonton:20240508T150000
DTSTAMP:20260420T181443
CREATED:20240425T173731Z
LAST-MODIFIED:20240425T173731Z
UID:10003403-1715173200-1715180400@midwestfamilyconnections.ca
SUMMARY:FREE Indoor Playground Drop-in play!
DESCRIPTION:Open to all families and their babies\, toddlers & preschoolers!
URL:https://midwestfamilyconnections.ca/event/free-indoor-playground-drop-in-play-19/2024-05-08/
LOCATION:Midwest Family Connections\, Suite 103 4910-50 Street\, Lloydminster\, Saskatchewan\, S9V 0Y5\, Canada
CATEGORIES:The First Five Years
ATTACH;FMTTYPE=image/jpeg:https://midwestfamilyconnections.ca/wp-content/uploads/2024/04/IMG_1389-scaled.jpg
END:VEVENT
BEGIN:VEVENT
DTSTART;TZID=America/Edmonton:20240508T130000
DTEND;TZID=America/Edmonton:20240508T150000
DTSTAMP:20260420T181443
CREATED:20240425T180332Z
LAST-MODIFIED:20240425T180332Z
UID:10003431-1715173200-1715180400@midwestfamilyconnections.ca
SUMMARY:Triple P Baby
DESCRIPTION:Explore positive parenting\, responding to baby\, survival skills & partner support. Infant Massage will be part of each session\, so babies are welcome to attend with parents! \nFour in-person sessions\, two weeks of supportive phone consults and an in-person wrap up session! \nPlease contact MFC to register.
URL:https://midwestfamilyconnections.ca/event/triple-p-baby/2024-05-08/
LOCATION:Midwest Family Connections\, Suite 103 4910-50 Street\, Lloydminster\, Saskatchewan\, S9V 0Y5\, Canada
CATEGORIES:Infant (up to 12 months)
ATTACH;FMTTYPE=image/png:https://midwestfamilyconnections.ca/wp-content/uploads/2024/04/Triple-P-Baby-Spring-2024.png
END:VEVENT
BEGIN:VEVENT
DTSTART;TZID=America/Edmonton:20240508T180000
DTEND;TZID=America/Edmonton:20240508T193000
DTSTAMP:20260420T181443
CREATED:20240216T202618Z
LAST-MODIFIED:20240229T192458Z
UID:10003323-1715191200-1715196600@midwestfamilyconnections.ca
SUMMARY:Super Dads Super Kids
DESCRIPTION:A monthly program for dads and kids to connect & play in the Indoor Playground! Please contact MFC to register.
URL:https://midwestfamilyconnections.ca/event/super-dads-super-kids/2024-05-08/
LOCATION:Midwest Family Connections\, Suite 103 4910-50 Street\, Lloydminster\, Saskatchewan\, S9V 0Y5\, Canada
CATEGORIES:The First Five Years
ATTACH;FMTTYPE=image/jpeg:https://midwestfamilyconnections.ca/wp-content/uploads/2024/02/SUPER-DADS-super-kids-1-1-scaled.jpg
END:VEVENT
BEGIN:VEVENT
DTSTART;TZID=America/Edmonton:20240508T180000
DTEND;TZID=America/Edmonton:20240508T193000
DTSTAMP:20260420T181443
CREATED:20240425T181100Z
LAST-MODIFIED:20240425T181100Z
UID:10003435-1715191200-1715196600@midwestfamilyconnections.ca
SUMMARY:SUPER DADS Super Kids
DESCRIPTION:Dads & kids connect with each other to play & learn about child development\, emotions & communication.\nInformation focuses babies\, toddlers & preschoolers!
URL:https://midwestfamilyconnections.ca/event/super-dads-super-kids-3/
LOCATION:Midwest Family Connections\, Suite 103 4910-50 Street\, Lloydminster\, Saskatchewan\, S9V 0Y5\, Canada
CATEGORIES:The First Five Years
ATTACH;FMTTYPE=image/png:https://midwestfamilyconnections.ca/wp-content/uploads/2024/04/SUPER-DADS-super-kids-002.png
END:VEVENT
END:VCALENDAR