BEGIN:VCALENDAR
VERSION:2.0
PRODID:-//MFC - ECPv6.15.13.1//NONSGML v1.0//EN
CALSCALE:GREGORIAN
METHOD:PUBLISH
X-ORIGINAL-URL:https://midwestfamilyconnections.ca
X-WR-CALDESC:Events for MFC
REFRESH-INTERVAL;VALUE=DURATION:PT1H
X-Robots-Tag:noindex
X-PUBLISHED-TTL:PT1H
BEGIN:VTIMEZONE
TZID:America/Edmonton
BEGIN:DAYLIGHT
TZOFFSETFROM:-0700
TZOFFSETTO:-0600
TZNAME:MDT
DTSTART:20230312T090000
END:DAYLIGHT
BEGIN:STANDARD
TZOFFSETFROM:-0600
TZOFFSETTO:-0700
TZNAME:MST
DTSTART:20231105T080000
END:STANDARD
BEGIN:DAYLIGHT
TZOFFSETFROM:-0700
TZOFFSETTO:-0600
TZNAME:MDT
DTSTART:20240310T090000
END:DAYLIGHT
BEGIN:STANDARD
TZOFFSETFROM:-0600
TZOFFSETTO:-0700
TZNAME:MST
DTSTART:20241103T080000
END:STANDARD
BEGIN:DAYLIGHT
TZOFFSETFROM:-0700
TZOFFSETTO:-0600
TZNAME:MDT
DTSTART:20250309T090000
END:DAYLIGHT
BEGIN:STANDARD
TZOFFSETFROM:-0600
TZOFFSETTO:-0700
TZNAME:MST
DTSTART:20251102T080000
END:STANDARD
END:VTIMEZONE
BEGIN:VEVENT
DTSTART;TZID=America/Edmonton:20240507T093000
DTEND;TZID=America/Edmonton:20240507T110000
DTSTAMP:20260420T164528
CREATED:20240425T210903Z
LAST-MODIFIED:20240425T210903Z
UID:10003464-1715074200-1715079600@midwestfamilyconnections.ca
SUMMARY:Marshall - Family Play & Learn
DESCRIPTION:Freeplay & literacy activities\, parenting information & more! Open to families and their babies\, toddlers & preschoolers.
URL:https://midwestfamilyconnections.ca/event/marshall-family-play-learn-5/
LOCATION:Marshall School\, 109-1 Street East\, Marshall\, SK
CATEGORIES:The First Five Years
ATTACH;FMTTYPE=image/png:https://midwestfamilyconnections.ca/wp-content/uploads/2024/04/May-2024-programs-4.png
END:VEVENT
BEGIN:VEVENT
DTSTART;TZID=America/Edmonton:20240507T093000
DTEND;TZID=America/Edmonton:20240507T113000
DTSTAMP:20260420T164528
CREATED:20240425T172517Z
LAST-MODIFIED:20240425T172517Z
UID:10003393-1715074200-1715081400@midwestfamilyconnections.ca
SUMMARY:FREE Indoor Playground Drop-in play!
DESCRIPTION:The Indoor Playground is open to all families and their babies\, toddlers & preschoolers!
URL:https://midwestfamilyconnections.ca/event/free-indoor-playground-drop-in-play-17/2024-05-07/
LOCATION:Midwest Family Connections\, Suite 103 4910-50 Street\, Lloydminster\, Saskatchewan\, S9V 0Y5\, Canada
CATEGORIES:The First Five Years
ATTACH;FMTTYPE=image/png:https://midwestfamilyconnections.ca/wp-content/uploads/2024/04/April-2024-IP-Hours-2.png
END:VEVENT
BEGIN:VEVENT
DTSTART;TZID=America/Edmonton:20240507T121500
DTEND;TZID=America/Edmonton:20240507T124500
DTSTAMP:20260420T164528
CREATED:20240425T182253Z
LAST-MODIFIED:20240425T182253Z
UID:10003436-1715084100-1715085900@midwestfamilyconnections.ca
SUMMARY:Kids Have Stress Too - Virtual Lunch & Learn
DESCRIPTION:Learn about stress & it’s impact on children\, children’s reaction to stress & ways to help children cope with stressful experiences. \nThis Lunch & Learn format covers brief overviews of strategies. \nInformation focuses on children 4-12 \nContact MFC to register and receive the Zoom link.
URL:https://midwestfamilyconnections.ca/event/kids-have-stress-too-virtual-lunch-learn/2024-05-07/
CATEGORIES:The School Years
ATTACH;FMTTYPE=image/png:https://midwestfamilyconnections.ca/wp-content/uploads/2024/04/KHST-May-2024.png
END:VEVENT
BEGIN:VEVENT
DTSTART;TZID=America/Edmonton:20240507T183000
DTEND;TZID=America/Edmonton:20240507T200000
DTSTAMP:20260420T164528
CREATED:20240425T182647Z
LAST-MODIFIED:20240425T182647Z
UID:10003439-1715106600-1715112000@midwestfamilyconnections.ca
SUMMARY:Kids Have Stress Too - Virtual evening sessions
DESCRIPTION:Learn about stress & it’s impact on children\, children’s reaction to stress & ways to help children cope with stressful experiences. \nInformation focuses on children 4-12\nContact MFC to register and receive the Zoom link
URL:https://midwestfamilyconnections.ca/event/kids-have-stress-too-virtual-evening-sessions/2024-05-07/
LOCATION:Virtually through Zoom
CATEGORIES:The School Years
ATTACH;FMTTYPE=image/png:https://midwestfamilyconnections.ca/wp-content/uploads/2024/04/KHST-May-2024-1.png
END:VEVENT
END:VCALENDAR