BEGIN:VCALENDAR
VERSION:2.0
PRODID:-//MFC - ECPv6.15.13.1//NONSGML v1.0//EN
CALSCALE:GREGORIAN
METHOD:PUBLISH
X-WR-CALNAME:MFC
X-ORIGINAL-URL:https://midwestfamilyconnections.ca
X-WR-CALDESC:Events for MFC
REFRESH-INTERVAL;VALUE=DURATION:PT1H
X-Robots-Tag:noindex
X-PUBLISHED-TTL:PT1H
BEGIN:VTIMEZONE
TZID:America/Edmonton
BEGIN:DAYLIGHT
TZOFFSETFROM:-0700
TZOFFSETTO:-0600
TZNAME:MDT
DTSTART:20230312T090000
END:DAYLIGHT
BEGIN:STANDARD
TZOFFSETFROM:-0600
TZOFFSETTO:-0700
TZNAME:MST
DTSTART:20231105T080000
END:STANDARD
BEGIN:DAYLIGHT
TZOFFSETFROM:-0700
TZOFFSETTO:-0600
TZNAME:MDT
DTSTART:20240310T090000
END:DAYLIGHT
BEGIN:STANDARD
TZOFFSETFROM:-0600
TZOFFSETTO:-0700
TZNAME:MST
DTSTART:20241103T080000
END:STANDARD
BEGIN:DAYLIGHT
TZOFFSETFROM:-0700
TZOFFSETTO:-0600
TZNAME:MDT
DTSTART:20250309T090000
END:DAYLIGHT
BEGIN:STANDARD
TZOFFSETFROM:-0600
TZOFFSETTO:-0700
TZNAME:MST
DTSTART:20251102T080000
END:STANDARD
END:VTIMEZONE
BEGIN:VEVENT
DTSTART;TZID=America/Edmonton:20240502T100000
DTEND;TZID=America/Edmonton:20240502T113000
DTSTAMP:20260420T134425
CREATED:20240425T190816Z
LAST-MODIFIED:20240425T190926Z
UID:10003449-1714644000-1714649400@midwestfamilyconnections.ca
SUMMARY:Mothers First
DESCRIPTION:A weekly group for mothers of infants to connect with one another while learning about & practicing self-care.\nTransportation and limited childcare provided\, so contact MFC for information or to register.
URL:https://midwestfamilyconnections.ca/event/mothers-first-3/2024-05-02/
LOCATION:Midwest Family Connections\, Suite 103 4910-50 Street\, Lloydminster\, Saskatchewan\, S9V 0Y5\, Canada
CATEGORIES:Postnatal
ATTACH;FMTTYPE=image/png:https://midwestfamilyconnections.ca/wp-content/uploads/2024/04/mothers-first.png
END:VEVENT
BEGIN:VEVENT
DTSTART;TZID=America/Edmonton:20240502T103000
DTEND;TZID=America/Edmonton:20240502T120000
DTSTAMP:20260420T134425
CREATED:20240326T200105Z
LAST-MODIFIED:20240326T200105Z
UID:10003381-1714645800-1714651200@midwestfamilyconnections.ca
SUMMARY:Paradise Valley - Happy Hearts & Kind Minds
DESCRIPTION:Social Emotional play for families and their children 0-6 years of age!
URL:https://midwestfamilyconnections.ca/event/paradise-valley-happy-hearts-kind-minds/2024-05-02/
LOCATION:Three Cities Municipal Library\, 310 Park Avenue\, Paradise Valley\, Alberta\, Canada
CATEGORIES:The First Five Years
ATTACH;FMTTYPE=image/png:https://midwestfamilyconnections.ca/wp-content/uploads/2024/03/PV-Happy-Hearts-Kind-Minds-April-2024-002.png
END:VEVENT
BEGIN:VEVENT
DTSTART;TZID=America/Edmonton:20240502T130000
DTEND;TZID=America/Edmonton:20240502T143000
DTSTAMP:20260420T134425
CREATED:20240425T210053Z
LAST-MODIFIED:20240425T210053Z
UID:10003459-1714654800-1714660200@midwestfamilyconnections.ca
SUMMARY:Flora's Walk
DESCRIPTION:Join the Maternal Mental Health Initiative Committee for a mini session of Move Your Mood and Flora’s Walk.
URL:https://midwestfamilyconnections.ca/event/floras-walk/
LOCATION:Bud Miller Park\, Lloydminster
CATEGORIES:Postnatal
ATTACH;FMTTYPE=image/png:https://midwestfamilyconnections.ca/wp-content/uploads/2024/04/FW.png
END:VEVENT
BEGIN:VEVENT
DTSTART;TZID=America/Edmonton:20240502T130000
DTEND;TZID=America/Edmonton:20240502T150000
DTSTAMP:20260420T134425
CREATED:20240425T173927Z
LAST-MODIFIED:20240425T173927Z
UID:10003407-1714654800-1714662000@midwestfamilyconnections.ca
SUMMARY:FREE Indoor Playground Drop-in play!
DESCRIPTION:Open to all families and their babies\, toddlers & preschoolers!
URL:https://midwestfamilyconnections.ca/event/free-indoor-playground-drop-in-play-20/2024-05-02/
LOCATION:Midwest Family Connections\, Suite 103 4910-50 Street\, Lloydminster\, Saskatchewan\, S9V 0Y5\, Canada
CATEGORIES:The First Five Years
ATTACH;FMTTYPE=image/jpeg:https://midwestfamilyconnections.ca/wp-content/uploads/2024/04/IMG_1323-scaled.jpg
END:VEVENT
BEGIN:VEVENT
DTSTART;TZID=America/Edmonton:20240502T173000
DTEND;TZID=America/Edmonton:20240502T193000
DTSTAMP:20260420T134425
CREATED:20240425T174119Z
LAST-MODIFIED:20240425T174119Z
UID:10003412-1714671000-1714678200@midwestfamilyconnections.ca
SUMMARY:Messy Madness & FREE Indoor Playground Drop-in play!
DESCRIPTION:Open to all families and their babies\, toddlers & preschoolers!
URL:https://midwestfamilyconnections.ca/event/messy-madness-free-indoor-playground-drop-in-play/2024-05-02/
LOCATION:Midwest Family Connections\, Suite 103 4910-50 Street\, Lloydminster\, Saskatchewan\, S9V 0Y5\, Canada
CATEGORIES:The First Five Years
ATTACH;FMTTYPE=image/png:https://midwestfamilyconnections.ca/wp-content/uploads/2024/04/Messy-Madness-May-2024.png
END:VEVENT
END:VCALENDAR