BEGIN:VCALENDAR
VERSION:2.0
PRODID:-//MFC - ECPv6.15.13.1//NONSGML v1.0//EN
CALSCALE:GREGORIAN
METHOD:PUBLISH
X-ORIGINAL-URL:https://midwestfamilyconnections.ca
X-WR-CALDESC:Events for MFC
REFRESH-INTERVAL;VALUE=DURATION:PT1H
X-Robots-Tag:noindex
X-PUBLISHED-TTL:PT1H
BEGIN:VTIMEZONE
TZID:America/Edmonton
BEGIN:DAYLIGHT
TZOFFSETFROM:-0700
TZOFFSETTO:-0600
TZNAME:MDT
DTSTART:20230312T090000
END:DAYLIGHT
BEGIN:STANDARD
TZOFFSETFROM:-0600
TZOFFSETTO:-0700
TZNAME:MST
DTSTART:20231105T080000
END:STANDARD
BEGIN:DAYLIGHT
TZOFFSETFROM:-0700
TZOFFSETTO:-0600
TZNAME:MDT
DTSTART:20240310T090000
END:DAYLIGHT
BEGIN:STANDARD
TZOFFSETFROM:-0600
TZOFFSETTO:-0700
TZNAME:MST
DTSTART:20241103T080000
END:STANDARD
BEGIN:DAYLIGHT
TZOFFSETFROM:-0700
TZOFFSETTO:-0600
TZNAME:MDT
DTSTART:20250309T090000
END:DAYLIGHT
BEGIN:STANDARD
TZOFFSETFROM:-0600
TZOFFSETTO:-0700
TZNAME:MST
DTSTART:20251102T080000
END:STANDARD
END:VTIMEZONE
BEGIN:VEVENT
DTSTART;TZID=America/Edmonton:20240430T093000
DTEND;TZID=America/Edmonton:20240430T113000
DTSTAMP:20260420T104259
CREATED:20240325T192514Z
LAST-MODIFIED:20240326T195720Z
UID:10003341-1714469400-1714476600@midwestfamilyconnections.ca
SUMMARY:FREE Indoor Playground Drop-in play!
DESCRIPTION:The Indoor Playground is available to all families and their babies\, toddlers & preschoolers. Parent/caregiver supervision is required.
URL:https://midwestfamilyconnections.ca/event/free-indoor-playground-drop-in-play-10/2024-04-30/
LOCATION:Midwest Family Connections\, Suite 103 4910-50 Street\, Lloydminster\, Saskatchewan\, S9V 0Y5\, Canada
CATEGORIES:The First Five Years
ATTACH;FMTTYPE=image/jpeg:https://midwestfamilyconnections.ca/wp-content/uploads/2024/03/IMG_1316-scaled.jpg
END:VEVENT
BEGIN:VEVENT
DTSTART;TZID=America/Edmonton:20240430T103000
DTEND;TZID=America/Edmonton:20240430T120000
DTSTAMP:20260420T104259
CREATED:20240326T200954Z
LAST-MODIFIED:20240326T200954Z
UID:10003388-1714473000-1714478400@midwestfamilyconnections.ca
SUMMARY:Paradise Hill - Family Play & Learn
DESCRIPTION:Free-play & literacy activities\, parenting information and more! Open to parents and their babies\, toddlers & preschoolers
URL:https://midwestfamilyconnections.ca/event/paradise-hill-family-play-learn-5/
LOCATION:Paradise Hill Community Centre\, 102-3 Avenue\, Paradise Hill\, SK
ATTACH;FMTTYPE=image/png:https://midwestfamilyconnections.ca/wp-content/uploads/2024/03/SK-KF-Outreach-April-2024-002-5.png
END:VEVENT
BEGIN:VEVENT
DTSTART;TZID=America/Edmonton:20240430T130000
DTEND;TZID=America/Edmonton:20240430T150000
DTSTAMP:20260420T104259
CREATED:20240326T194942Z
LAST-MODIFIED:20240326T194942Z
UID:10003374-1714482000-1714489200@midwestfamilyconnections.ca
SUMMARY:Making Baby Food How To's
DESCRIPTION:This interactive workshop includes cooking and sampling dishes for your baby and take home handouts\, recipes and food prepared during the workshop. \nThis session is FREE\, but families must register with MFC as spaces are limited. \nFREE childcare is provided\, but families must register in order to reserve a spot as spaces are limited.
URL:https://midwestfamilyconnections.ca/event/making-baby-food-how-tos/
LOCATION:Midwest Family Connections\, Suite 103 4910-50 Street\, Lloydminster\, Saskatchewan\, S9V 0Y5\, Canada
CATEGORIES:Infant (up to 12 months)
ATTACH;FMTTYPE=image/png:https://midwestfamilyconnections.ca/wp-content/uploads/2024/03/Baby-Food-Workshop-April-30-2024-002.png
END:VEVENT
END:VCALENDAR