BEGIN:VCALENDAR
VERSION:2.0
PRODID:-//MFC - ECPv6.15.13.1//NONSGML v1.0//EN
CALSCALE:GREGORIAN
METHOD:PUBLISH
X-ORIGINAL-URL:https://midwestfamilyconnections.ca
X-WR-CALDESC:Events for MFC
REFRESH-INTERVAL;VALUE=DURATION:PT1H
X-Robots-Tag:noindex
X-PUBLISHED-TTL:PT1H
BEGIN:VTIMEZONE
TZID:America/Edmonton
BEGIN:DAYLIGHT
TZOFFSETFROM:-0700
TZOFFSETTO:-0600
TZNAME:MDT
DTSTART:20230312T090000
END:DAYLIGHT
BEGIN:STANDARD
TZOFFSETFROM:-0600
TZOFFSETTO:-0700
TZNAME:MST
DTSTART:20231105T080000
END:STANDARD
BEGIN:DAYLIGHT
TZOFFSETFROM:-0700
TZOFFSETTO:-0600
TZNAME:MDT
DTSTART:20240310T090000
END:DAYLIGHT
BEGIN:STANDARD
TZOFFSETFROM:-0600
TZOFFSETTO:-0700
TZNAME:MST
DTSTART:20241103T080000
END:STANDARD
BEGIN:DAYLIGHT
TZOFFSETFROM:-0700
TZOFFSETTO:-0600
TZNAME:MDT
DTSTART:20250309T090000
END:DAYLIGHT
BEGIN:STANDARD
TZOFFSETFROM:-0600
TZOFFSETTO:-0700
TZNAME:MST
DTSTART:20251102T080000
END:STANDARD
END:VTIMEZONE
BEGIN:VEVENT
DTSTART;TZID=America/Edmonton:20240425T100000
DTEND;TZID=America/Edmonton:20240425T113000
DTSTAMP:20260422T085755
CREATED:20240326T201442Z
LAST-MODIFIED:20240326T201442Z
UID:10003392-1714039200-1714044600@midwestfamilyconnections.ca
SUMMARY:Mothers First
DESCRIPTION:A weekly group for mothers of infants to connect with one another while learning about & practicing self-care. \nTransportation and limited childcare available. Please contact MFC to register or for more information.
URL:https://midwestfamilyconnections.ca/event/mothers-first-2/2024-04-25/
LOCATION:Midwest Family Connections\, Suite 103 4910-50 Street\, Lloydminster\, Saskatchewan\, S9V 0Y5\, Canada
CATEGORIES:Postnatal
ATTACH;FMTTYPE=image/png:https://midwestfamilyconnections.ca/wp-content/uploads/2024/03/mothers-first.png
END:VEVENT
BEGIN:VEVENT
DTSTART;TZID=America/Edmonton:20240425T103000
DTEND;TZID=America/Edmonton:20240425T120000
DTSTAMP:20260422T085755
CREATED:20240326T200105Z
LAST-MODIFIED:20240326T200105Z
UID:10003380-1714041000-1714046400@midwestfamilyconnections.ca
SUMMARY:Paradise Valley - Happy Hearts & Kind Minds
DESCRIPTION:Social Emotional play for families and their children 0-6 years of age!
URL:https://midwestfamilyconnections.ca/event/paradise-valley-happy-hearts-kind-minds/2024-04-25/
LOCATION:Three Cities Municipal Library\, 310 Park Avenue\, Paradise Valley\, Alberta\, Canada
CATEGORIES:The First Five Years
ATTACH;FMTTYPE=image/png:https://midwestfamilyconnections.ca/wp-content/uploads/2024/03/PV-Happy-Hearts-Kind-Minds-April-2024-002.png
END:VEVENT
BEGIN:VEVENT
DTSTART;TZID=America/Edmonton:20240425T130000
DTEND;TZID=America/Edmonton:20240425T150000
DTSTAMP:20260422T085755
CREATED:20240326T192353Z
LAST-MODIFIED:20240326T192353Z
UID:10003353-1714050000-1714057200@midwestfamilyconnections.ca
SUMMARY:FREE Indoor Playground Drop-in play!
DESCRIPTION:The Indoor Playground is FREE and open to all families and their babies\, toddlers and preschoolers. Parent/caregiver supervision is required.
URL:https://midwestfamilyconnections.ca/event/free-indoor-playground-drop-in-play-13/2024-04-25/
LOCATION:Midwest Family Connections\, Suite 103 4910-50 Street\, Lloydminster\, Saskatchewan\, S9V 0Y5\, Canada
CATEGORIES:The First Five Years
ATTACH;FMTTYPE=image/jpeg:https://midwestfamilyconnections.ca/wp-content/uploads/2024/03/IMG_1419-scaled.jpg
END:VEVENT
BEGIN:VEVENT
DTSTART;TZID=America/Edmonton:20240425T173000
DTEND;TZID=America/Edmonton:20240425T193000
DTSTAMP:20260422T085755
CREATED:20240326T192819Z
LAST-MODIFIED:20240326T192819Z
UID:10003357-1714066200-1714073400@midwestfamilyconnections.ca
SUMMARY:Spring Splash and FREE Indoor Playground Drop-in play!
DESCRIPTION:Come and enjoy a different spring themed activity each Thursday evening during Drop-in play. \nThe Indoor Playground is FREE and open to all families and their babies\, toddlers and preschoolers. Parent/caregiver supervision is required.
URL:https://midwestfamilyconnections.ca/event/spring-splash-and-free-indoor-playground-drop-in-play/2024-04-25/
LOCATION:Midwest Family Connections\, Suite 103 4910-50 Street\, Lloydminster\, Saskatchewan\, S9V 0Y5\, Canada
CATEGORIES:The First Five Years
ATTACH;FMTTYPE=image/png:https://midwestfamilyconnections.ca/wp-content/uploads/2024/03/Spring-Splash-April-2024.png
END:VEVENT
BEGIN:VEVENT
DTSTART;TZID=America/Edmonton:20240425T173000
DTEND;TZID=America/Edmonton:20240425T193000
DTSTAMP:20260422T085755
CREATED:20240326T195212Z
LAST-MODIFIED:20240326T195212Z
UID:10003378-1714066200-1714073400@midwestfamilyconnections.ca
SUMMARY:Family Game Night
DESCRIPTION:Family Games Night is open to families and their children of all ages. Parent/caregiver interaction is required.
URL:https://midwestfamilyconnections.ca/event/family-game-night-4/2024-04-25/
LOCATION:Midwest Family Connections\, Suite 103 4910-50 Street\, Lloydminster\, Saskatchewan\, S9V 0Y5\, Canada
CATEGORIES:The School Years
ATTACH;FMTTYPE=image/png:https://midwestfamilyconnections.ca/wp-content/uploads/2024/03/Family-Game-Nights-April-2024-002.png
END:VEVENT
END:VCALENDAR